BEGIN:VCALENDAR
VERSION:2.0
PRODID:-//Asbury Park Chamber of Commerce - ECPv6.15.18//NONSGML v1.0//EN
CALSCALE:GREGORIAN
METHOD:PUBLISH
X-ORIGINAL-URL:https://asburyparkchamber.com
X-WR-CALDESC:Events for Asbury Park Chamber of Commerce
REFRESH-INTERVAL;VALUE=DURATION:PT1H
X-Robots-Tag:noindex
X-PUBLISHED-TTL:PT1H
BEGIN:VTIMEZONE
TZID:America/New_York
BEGIN:DAYLIGHT
TZOFFSETFROM:-0500
TZOFFSETTO:-0400
TZNAME:EDT
DTSTART:20210314T070000
END:DAYLIGHT
BEGIN:STANDARD
TZOFFSETFROM:-0400
TZOFFSETTO:-0500
TZNAME:EST
DTSTART:20211107T060000
END:STANDARD
BEGIN:DAYLIGHT
TZOFFSETFROM:-0500
TZOFFSETTO:-0400
TZNAME:EDT
DTSTART:20220313T070000
END:DAYLIGHT
BEGIN:STANDARD
TZOFFSETFROM:-0400
TZOFFSETTO:-0500
TZNAME:EST
DTSTART:20221106T060000
END:STANDARD
BEGIN:DAYLIGHT
TZOFFSETFROM:-0500
TZOFFSETTO:-0400
TZNAME:EDT
DTSTART:20230312T070000
END:DAYLIGHT
BEGIN:STANDARD
TZOFFSETFROM:-0400
TZOFFSETTO:-0500
TZNAME:EST
DTSTART:20231105T060000
END:STANDARD
END:VTIMEZONE
BEGIN:VEVENT
DTSTART;TZID=America/New_York:20220826T170000
DTEND;TZID=America/New_York:20220829T193000
DTSTAMP:20260425T164137
CREATED:20220829T223154Z
LAST-MODIFIED:20220829T223154Z
UID:10002263-1661533200-1661801400@asburyparkchamber.com
SUMMARY:DJ Barry Blonde
DESCRIPTION:
URL:https://asburyparkchamber.com/event/dj-barry-blonde/
LOCATION:The Asbury Hotel\, 210 5th Ave\, Asbury Park\, NJ\, 07712\, United States
END:VEVENT
BEGIN:VEVENT
DTSTART;TZID=America/New_York:20220828T133000
DTEND;TZID=America/New_York:20220828T180000
DTSTAMP:20260425T164137
CREATED:20220728T210313Z
LAST-MODIFIED:20220728T210313Z
UID:10002404-1661693400-1661709600@asburyparkchamber.com
SUMMARY:Lauv: All 4 Nothing
DESCRIPTION:Lauv: All 4 Nothing\nwith special guest Hayley Kiyoko\n& David Kushner
URL:https://asburyparkchamber.com/event/lauv-all-4-nothing/
LOCATION:The Stone Pony Summer Stage\, 913 Ocean Ave\, Asbury Park\, NJ\, 07702\, United States
END:VEVENT
BEGIN:VEVENT
DTSTART;TZID=America/New_York:20220828T140000
DTEND;TZID=America/New_York:20220828T180000
DTSTAMP:20260425T164137
CREATED:20220726T221335Z
LAST-MODIFIED:20220726T221335Z
UID:10002274-1661695200-1661709600@asburyparkchamber.com
SUMMARY:Jessica Rose
DESCRIPTION:You do not want to miss the Salvation Sunsets!
URL:https://asburyparkchamber.com/event/jessica-rose/
LOCATION:The Asbury Hotel\, 210 5th Ave\, Asbury Park\, NJ\, 07712\, United States
END:VEVENT
BEGIN:VEVENT
DTSTART;TZID=America/New_York:20220828T150000
DTEND;TZID=America/New_York:20220828T150000
DTSTAMP:20260425T164137
CREATED:20220728T210306Z
LAST-MODIFIED:20220728T210306Z
UID:10002405-1661698800-1661698800@asburyparkchamber.com
SUMMARY:Legion of Prog
DESCRIPTION:LEGION OF PROG\nDOORS OPEN AT 6pm\, SHOW STARTS AT 7pm.\nFor most of the 1970s and into the ’80s\, progressive rock ruled the airwaves and concert halls. The music made by Yes\, Genesis\, Rush\, Pink Floyd and other “prog” bands was at once both complex and tuneful\, and featured great musicianship and epic storytelling. And we LOVED it!\nThe Jersey Shore’s own Legion of Prog plays faithful renditions of the finest music from the progressive rock era. We’re returning to Tim McLoone’s Supper Club on Sunday\, August 22nd with an expanded repertoire\, including several epic-length tunes that are among the genre’s best-loved. (Cue the barking dogs\, the lighthouse bells\, the rushing water and the chirping birds…)\nYou don’t need a black-light room or incense. Just come and join us … and let the sound take you away.
URL:https://asburyparkchamber.com/event/legion-of-prog/
LOCATION:Tim McLoone’s Supper Club\, 1200 Ocean Ave\, Asbury Park\, 07712
END:VEVENT
BEGIN:VEVENT
DTSTART;TZID=America/New_York:20220828T150000
DTEND;TZID=America/New_York:20220828T190000
DTSTAMP:20260425T164137
CREATED:20220726T221327Z
LAST-MODIFIED:20220726T221327Z
UID:10002276-1661698800-1661713200@asburyparkchamber.com
SUMMARY:Motor City Revue
DESCRIPTION:From Hitsville to Soulsville—a 13-piece band covering popular and rare Motown hits\, plus Stax artists and popular rock and soul classics. An authentic\, danceable band consisting of female and male vocalists\, keyboards\, guitar\, bass\, drums and a 5-piece horn section! Tickets $38 in advance/$45 at the door. Call 732-531-9106 ext. 14.
URL:https://asburyparkchamber.com/event/motor-city-revue/2022-08-28/
LOCATION:Axelrod Performing Arts Center\, 100 Grant Ave\, Deal\, 07723
END:VEVENT
BEGIN:VEVENT
DTSTART;TZID=America/New_York:20220828T154500
DTEND;TZID=America/New_York:20220828T190000
DTSTAMP:20260425T164137
CREATED:20220726T221319Z
LAST-MODIFIED:20220726T221319Z
UID:10002278-1661701500-1661713200@asburyparkchamber.com
SUMMARY:The Amityville Horror 2005
DESCRIPTION:Upon arrival\, please enter through the center set of exterior doors at the Asbury Hotel. \nDoors open at 7:45 PM and the films begin at sundown. \nTickets can be purchased online (theasburyhotel.com/to-do) or at the door. \nA bag of popcorn is included with the purchase of a ticket. \nConcession stands with snacks and canned soda\, wine\, beer\, and cocktails are available for purchase! \nChairs are first-come\, first-serve\, and can be limited on busy movie nights. \nWe encourage guests to bring their own beach chairs and blankets. \nOur space is weather-dependent; we’ll post updates here regarding cancellations!
URL:https://asburyparkchamber.com/event/the-amityville-horror-2005/
LOCATION:The Asbury Hotel\, 210 5th Ave\, Asbury Park\, NJ\, 07712\, United States
END:VEVENT
BEGIN:VEVENT
DTSTART;VALUE=DATE:20220828
DTEND;VALUE=DATE:20220830
DTSTAMP:20260425T164137
CREATED:20220829T230731Z
LAST-MODIFIED:20220829T230731Z
UID:10002269-1661716800-1661803199@asburyparkchamber.com
SUMMARY:Enlightenment & Clearing w/ The Violet Flame
DESCRIPTION:
URL:https://asburyparkchamber.com/event/enlightenment-clearing-w-the-violet-flame/
LOCATION:Sunlight Yoga Center\, 417 Eculid Ave\, Loch Arbor\, 07711\, United States
END:VEVENT
BEGIN:VEVENT
DTSTART;VALUE=DATE:20220828
DTEND;VALUE=DATE:20220830
DTSTAMP:20260425T164137
CREATED:20220829T231249Z
LAST-MODIFIED:20220829T231249Z
UID:10002271-1661716800-1661803199@asburyparkchamber.com
SUMMARY:DC's Reflecting Fools
DESCRIPTION:
URL:https://asburyparkchamber.com/event/dcs-reflecting-fools/
LOCATION:Bell Works\, 101 Crawfords Corner Rd\, Holmdel\, NJ\, 07733\, United States
END:VEVENT
END:VCALENDAR