BEGIN:VCALENDAR
VERSION:2.0
PRODID:-//Asbury Park Chamber of Commerce - ECPv6.15.18//NONSGML v1.0//EN
CALSCALE:GREGORIAN
METHOD:PUBLISH
X-ORIGINAL-URL:https://asburyparkchamber.com
X-WR-CALDESC:Events for Asbury Park Chamber of Commerce
REFRESH-INTERVAL;VALUE=DURATION:PT1H
X-Robots-Tag:noindex
X-PUBLISHED-TTL:PT1H
BEGIN:VTIMEZONE
TZID:America/New_York
BEGIN:DAYLIGHT
TZOFFSETFROM:-0500
TZOFFSETTO:-0400
TZNAME:EDT
DTSTART:20210314T070000
END:DAYLIGHT
BEGIN:STANDARD
TZOFFSETFROM:-0400
TZOFFSETTO:-0500
TZNAME:EST
DTSTART:20211107T060000
END:STANDARD
BEGIN:DAYLIGHT
TZOFFSETFROM:-0500
TZOFFSETTO:-0400
TZNAME:EDT
DTSTART:20220313T070000
END:DAYLIGHT
BEGIN:STANDARD
TZOFFSETFROM:-0400
TZOFFSETTO:-0500
TZNAME:EST
DTSTART:20221106T060000
END:STANDARD
BEGIN:DAYLIGHT
TZOFFSETFROM:-0500
TZOFFSETTO:-0400
TZNAME:EDT
DTSTART:20230312T070000
END:DAYLIGHT
BEGIN:STANDARD
TZOFFSETFROM:-0400
TZOFFSETTO:-0500
TZNAME:EST
DTSTART:20231105T060000
END:STANDARD
END:VTIMEZONE
BEGIN:VEVENT
DTSTART;TZID=America/New_York:20220912T140000
DTEND;TZID=America/New_York:20220912T170000
DTSTAMP:20260419T141742
CREATED:20220728T205523Z
LAST-MODIFIED:20220728T205523Z
UID:10002414-1662991200-1663002000@asburyparkchamber.com
SUMMARY:Ocean Avenue Stompers
DESCRIPTION:Seashore presents the Ocean Avenue Stompers\, Asbury Park’s very own New Orleans-style jazz band\, every Monday night this summer! The fun runs from 6 to 9 pm with a new lineup each week! Admission is free. Seahorse is located at the north end of Convention Hall. Drink specials each Monday night are brought to you by Asbury Park Distilling Co.\, Campari & Fever-Tree.
URL:https://asburyparkchamber.com/event/ocean-avenue-stompers/
LOCATION:The Grand Arcade of Asbury Park Convention Hall
END:VEVENT
BEGIN:VEVENT
DTSTART;TZID=America/New_York:20220912T160000
DTEND;TZID=America/New_York:20220912T190000
DTSTAMP:20260419T141742
CREATED:20220726T220922Z
LAST-MODIFIED:20220726T220922Z
UID:10002319-1662998400-1663009200@asburyparkchamber.com
SUMMARY:Bob Egan's Piano Party
DESCRIPTION:Join us tonight in Soundbooth and listen to Bob Egan play the piano while guests sing along!
URL:https://asburyparkchamber.com/event/bob-egans-piano-party-2/
LOCATION:The Asbury Hotel\, 210 5th Ave\, Asbury Park\, NJ\, 07712\, United States
END:VEVENT
END:VCALENDAR