BEGIN:VCALENDAR
VERSION:2.0
PRODID:-//Asbury Park Chamber of Commerce - ECPv6.15.18//NONSGML v1.0//EN
CALSCALE:GREGORIAN
METHOD:PUBLISH
X-ORIGINAL-URL:https://asburyparkchamber.com
X-WR-CALDESC:Events for Asbury Park Chamber of Commerce
REFRESH-INTERVAL;VALUE=DURATION:PT1H
X-Robots-Tag:noindex
X-PUBLISHED-TTL:PT1H
BEGIN:VTIMEZONE
TZID:America/New_York
BEGIN:DAYLIGHT
TZOFFSETFROM:-0500
TZOFFSETTO:-0400
TZNAME:EDT
DTSTART:20220313T070000
END:DAYLIGHT
BEGIN:STANDARD
TZOFFSETFROM:-0400
TZOFFSETTO:-0500
TZNAME:EST
DTSTART:20221106T060000
END:STANDARD
BEGIN:DAYLIGHT
TZOFFSETFROM:-0500
TZOFFSETTO:-0400
TZNAME:EDT
DTSTART:20230312T070000
END:DAYLIGHT
BEGIN:STANDARD
TZOFFSETFROM:-0400
TZOFFSETTO:-0500
TZNAME:EST
DTSTART:20231105T060000
END:STANDARD
BEGIN:DAYLIGHT
TZOFFSETFROM:-0500
TZOFFSETTO:-0400
TZNAME:EDT
DTSTART:20240310T070000
END:DAYLIGHT
BEGIN:STANDARD
TZOFFSETFROM:-0400
TZOFFSETTO:-0500
TZNAME:EST
DTSTART:20241103T060000
END:STANDARD
END:VTIMEZONE
BEGIN:VEVENT
DTSTART;TZID=America/New_York:20230204T150000
DTEND;TZID=America/New_York:20230211T163000
DTSTAMP:20260424T184118
CREATED:20240904T205136Z
LAST-MODIFIED:20240904T205136Z
UID:10002312-1675522800-1676133000@asburyparkchamber.com
SUMMARY:Popcorn Falls
DESCRIPTION:Welcome to Popcorn Falls\, a small American town whose only claim to fame – their namesake waterfall – has dried up. Now bankrupt\, their last chance to save themselves is a large grant that can only be used if the town produces a play in a week. One big problem: no theatre. Another problem: no play. Led by the Mayor and the local handyman\, the enterprising townsfolk try to rise to the challenge and prove that art can save the world.
URL:https://asburyparkchamber.com/event/popcorn-falls/2023-02-04/
LOCATION:New Jersey Repertory Company\, 179 Broadway\, Long Branch\, NJ\, 07740\, United States
CATEGORIES:Comedy
ATTACH;FMTTYPE=image/jpeg:https://asburyparkchamber.com/wp-content/uploads/2022/11/Copy-of-POPCORN-TDF.jpg
END:VEVENT
BEGIN:VEVENT
DTSTART;TZID=America/New_York:20230211T120000
DTEND;TZID=America/New_York:20230211T180000
DTSTAMP:20260424T184118
CREATED:20230124T173353Z
LAST-MODIFIED:20230124T173353Z
UID:10002466-1676116800-1676138400@asburyparkchamber.com
SUMMARY:Asbury Park Valentine’s Bazaar 2023
DESCRIPTION:Saturday\, February 11th\, 2023 | Noon to 6 pm \nShop & Stroll at our Two Locations\nThe Asbury Hotel + Grand Arcade of Convention Hall \nCan’t Buy Me Love! Don’t miss the Asbury Park Valentine’s Bazaar on Saturday\, February 11\, 2023 from 12-6 pm! \nShop incredible local and regional vendors selling goods and gifts hand made with love. Come shop & stroll at both of our pop up locations at The Asbury Hotel and Grand Arcade of Convention Hall! Featuring local vendors\, food & libations\, photo stations\, flower bar\, workshops and more. Bring a date\, family member and friend or celebrate Valentine’s Day with us!
URL:https://asburyparkchamber.com/event/asbury-park-valentines-bazaar-2023/
LOCATION:The Grand Arcade of Asbury Park Convention Hall
ATTACH;FMTTYPE=image/jpeg:https://asburyparkchamber.com/wp-content/uploads/2023/01/ap-valentines-2023-FBsmall.jpg
ORGANIZER;CN="Asbury Park Bazaar":MAILTO:team@asburyparkbazaar.com
END:VEVENT
BEGIN:VEVENT
DTSTART;TZID=America/New_York:20230211T150000
DTEND;TZID=America/New_York:20230218T163000
DTSTAMP:20260424T184118
CREATED:20240904T205136Z
LAST-MODIFIED:20240904T205136Z
UID:10002313-1676127600-1676737800@asburyparkchamber.com
SUMMARY:Popcorn Falls
DESCRIPTION:Welcome to Popcorn Falls\, a small American town whose only claim to fame – their namesake waterfall – has dried up. Now bankrupt\, their last chance to save themselves is a large grant that can only be used if the town produces a play in a week. One big problem: no theatre. Another problem: no play. Led by the Mayor and the local handyman\, the enterprising townsfolk try to rise to the challenge and prove that art can save the world.
URL:https://asburyparkchamber.com/event/popcorn-falls/2023-02-11/
LOCATION:New Jersey Repertory Company\, 179 Broadway\, Long Branch\, NJ\, 07740\, United States
CATEGORIES:Comedy
ATTACH;FMTTYPE=image/jpeg:https://asburyparkchamber.com/wp-content/uploads/2022/11/Copy-of-POPCORN-TDF.jpg
END:VEVENT
BEGIN:VEVENT
DTSTART;TZID=America/New_York:20230211T200000
DTEND;TZID=America/New_York:20230211T213000
DTSTAMP:20260424T184118
CREATED:20221114T185415Z
LAST-MODIFIED:20221114T185415Z
UID:10002308-1676145600-1676151000@asburyparkchamber.com
SUMMARY:Popcorn Falls
DESCRIPTION:Welcome to Popcorn Falls\, a small American town whose only claim to fame – their namesake waterfall – has dried up. Now bankrupt\, their last chance to save themselves is a large grant that can only be used if the town produces a play in a week. One big problem: no theatre. Another problem: no play. Led by the Mayor and the local handyman\, the enterprising townsfolk try to rise to the challenge and prove that art can save the world.
URL:https://asburyparkchamber.com/event/popcorn-falls/2023-02-11/
LOCATION:New Jersey Repertory Company\, 179 Broadway\, Long Branch\, NJ\, 07740\, United States
CATEGORIES:Comedy
ATTACH;FMTTYPE=image/jpeg:https://asburyparkchamber.com/wp-content/uploads/2022/11/Copy-of-POPCORN-TDF.jpg
END:VEVENT
END:VCALENDAR