BEGIN:VCALENDAR
VERSION:2.0
PRODID:-//Asbury Park Chamber of Commerce - ECPv6.15.18//NONSGML v1.0//EN
CALSCALE:GREGORIAN
METHOD:PUBLISH
X-WR-CALNAME:Asbury Park Chamber of Commerce
X-ORIGINAL-URL:https://asburyparkchamber.com
X-WR-CALDESC:Events for Asbury Park Chamber of Commerce
REFRESH-INTERVAL;VALUE=DURATION:PT1H
X-Robots-Tag:noindex
X-PUBLISHED-TTL:PT1H
BEGIN:VTIMEZONE
TZID:America/New_York
BEGIN:DAYLIGHT
TZOFFSETFROM:-0500
TZOFFSETTO:-0400
TZNAME:EDT
DTSTART:20220313T070000
END:DAYLIGHT
BEGIN:STANDARD
TZOFFSETFROM:-0400
TZOFFSETTO:-0500
TZNAME:EST
DTSTART:20221106T060000
END:STANDARD
BEGIN:DAYLIGHT
TZOFFSETFROM:-0500
TZOFFSETTO:-0400
TZNAME:EDT
DTSTART:20230312T070000
END:DAYLIGHT
BEGIN:STANDARD
TZOFFSETFROM:-0400
TZOFFSETTO:-0500
TZNAME:EST
DTSTART:20231105T060000
END:STANDARD
BEGIN:DAYLIGHT
TZOFFSETFROM:-0500
TZOFFSETTO:-0400
TZNAME:EDT
DTSTART:20240310T070000
END:DAYLIGHT
BEGIN:STANDARD
TZOFFSETFROM:-0400
TZOFFSETTO:-0500
TZNAME:EST
DTSTART:20241103T060000
END:STANDARD
END:VTIMEZONE
BEGIN:VEVENT
DTSTART;TZID=America/New_York:20230401T150000
DTEND;TZID=America/New_York:20230402T190000
DTSTAMP:20260419T083913
CREATED:20230329T202800Z
LAST-MODIFIED:20230329T202800Z
UID:10002497-1680361200-1680462000@asburyparkchamber.com
SUMMARY:Axelrod Contemporary Ballet Theater Presents Wanna Dance With Somebody?
DESCRIPTION:A totally radical 1980s dance party is coming to the Axelrod stage from the bodacious dancers of AXCBT.  It’s the era of Dirty Dancing\, Flashdance\, and Footloose!  This awesome concert/dance event and celebration of 80s pop culture will feature live performances of songs by Whitney Houston\, Freddie Mercury\, Prince\, Michael Jackson\, Tina Turner and more\, led by spectacular vocalists Cydney Clark and Danny Drewes.  A company of 25 professional performers and highly accomplished APAA apprentice dancers\, clad in their neon\, hip-hop and punk best\, will return you to your favorite wildly decadent decade.  Come join the party! \nSCHEDULED PERFORMANCES:\nApril 1 (3PM)\, April 2 (1PM and 5PM)
URL:https://asburyparkchamber.com/event/axelrod-contemporary-ballet-theater-presents-wanna-dance-with-somebody/
LOCATION:Axelrod Performing Arts Center\, 100 Grant Ave\, Deal\, 07723
ATTACH;FMTTYPE=image/jpeg:https://asburyparkchamber.com/wp-content/uploads/2023/03/2-AXCBT-Wanna-Dance-With-Somebody__Gillian-Worek_photo-by-Gaetana-Suarez-scaled.jpg
END:VEVENT
END:VCALENDAR