BEGIN:VCALENDAR
VERSION:2.0
PRODID:-//Asbury Park Chamber of Commerce - ECPv6.15.18//NONSGML v1.0//EN
CALSCALE:GREGORIAN
METHOD:PUBLISH
X-WR-CALNAME:Asbury Park Chamber of Commerce
X-ORIGINAL-URL:https://asburyparkchamber.com
X-WR-CALDESC:Events for Asbury Park Chamber of Commerce
REFRESH-INTERVAL;VALUE=DURATION:PT1H
X-Robots-Tag:noindex
X-PUBLISHED-TTL:PT1H
BEGIN:VTIMEZONE
TZID:America/New_York
BEGIN:DAYLIGHT
TZOFFSETFROM:-0500
TZOFFSETTO:-0400
TZNAME:EDT
DTSTART:20220313T070000
END:DAYLIGHT
BEGIN:STANDARD
TZOFFSETFROM:-0400
TZOFFSETTO:-0500
TZNAME:EST
DTSTART:20221106T060000
END:STANDARD
BEGIN:DAYLIGHT
TZOFFSETFROM:-0500
TZOFFSETTO:-0400
TZNAME:EDT
DTSTART:20230312T070000
END:DAYLIGHT
BEGIN:STANDARD
TZOFFSETFROM:-0400
TZOFFSETTO:-0500
TZNAME:EST
DTSTART:20231105T060000
END:STANDARD
BEGIN:DAYLIGHT
TZOFFSETFROM:-0500
TZOFFSETTO:-0400
TZNAME:EDT
DTSTART:20240310T070000
END:DAYLIGHT
BEGIN:STANDARD
TZOFFSETFROM:-0400
TZOFFSETTO:-0500
TZNAME:EST
DTSTART:20241103T060000
END:STANDARD
END:VTIMEZONE
BEGIN:VEVENT
DTSTART;TZID=America/New_York:20231006T190000
DTEND;TZID=America/New_York:20231006T190000
DTSTAMP:20260421T082544
CREATED:20230915T183724Z
LAST-MODIFIED:20230915T183724Z
UID:10003009-1696618800-1696618800@asburyparkchamber.com
SUMMARY:Consider the Source
DESCRIPTION:CONSIDER THE SOURCE\nAre You Watching Closely Tour\nwith Human Zoo \n7pm Doors\n8pm Show \nOn this tour\, Instrumental Prog-Rockers Consider the Source will highlight songs from the band’s 2009 release “Are You Watching Closely” which is being released in record format for the first time. \nThe band noted\, “The original version took up about a side and a half on vinyl so we decided to do something special for this one. We added 2 bonus songs\, Kashyyyk and Put Your Face Away\, which we recorded remotely in each of our home studios and are calling “2023 BONUS DEMOS”. (Both songs had been performed live in the early days of the band but never recorded until now)” \n21+admitted
URL:https://asburyparkchamber.com/event/consider-the-source/
LOCATION:Wonder Bar\, 1213 Ocean Ave\, Asbury Park\, 07712
END:VEVENT
BEGIN:VEVENT
DTSTART;TZID=America/New_York:20231006T210000
DTEND;TZID=America/New_York:20231006T210000
DTSTAMP:20260421T082544
CREATED:20230928T145342Z
LAST-MODIFIED:20230928T145342Z
UID:10003054-1696626000-1696626000@asburyparkchamber.com
SUMMARY:Emo Night Brooklyn
DESCRIPTION:Emo Night Brooklyn\n21+ admitted\nTickets: $15 in advance plus applicable surcharges\, $20 at the door \nDoors at 9 pm\, show time 10 pm
URL:https://asburyparkchamber.com/event/emo-night-brooklyn-2/
LOCATION:Stone Pony\, 913 Ocean Ave\, Asbury Park\, 07712
END:VEVENT
END:VCALENDAR