BEGIN:VCALENDAR
VERSION:2.0
PRODID:-//Asbury Park Chamber of Commerce - ECPv6.15.18//NONSGML v1.0//EN
CALSCALE:GREGORIAN
METHOD:PUBLISH
X-ORIGINAL-URL:https://asburyparkchamber.com
X-WR-CALDESC:Events for Asbury Park Chamber of Commerce
REFRESH-INTERVAL;VALUE=DURATION:PT1H
X-Robots-Tag:noindex
X-PUBLISHED-TTL:PT1H
BEGIN:VTIMEZONE
TZID:America/New_York
BEGIN:DAYLIGHT
TZOFFSETFROM:-0500
TZOFFSETTO:-0400
TZNAME:EDT
DTSTART:20230312T070000
END:DAYLIGHT
BEGIN:STANDARD
TZOFFSETFROM:-0400
TZOFFSETTO:-0500
TZNAME:EST
DTSTART:20231105T060000
END:STANDARD
BEGIN:DAYLIGHT
TZOFFSETFROM:-0500
TZOFFSETTO:-0400
TZNAME:EDT
DTSTART:20240310T070000
END:DAYLIGHT
BEGIN:STANDARD
TZOFFSETFROM:-0400
TZOFFSETTO:-0500
TZNAME:EST
DTSTART:20241103T060000
END:STANDARD
BEGIN:DAYLIGHT
TZOFFSETFROM:-0500
TZOFFSETTO:-0400
TZNAME:EDT
DTSTART:20250309T070000
END:DAYLIGHT
BEGIN:STANDARD
TZOFFSETFROM:-0400
TZOFFSETTO:-0500
TZNAME:EST
DTSTART:20251102T060000
END:STANDARD
END:VTIMEZONE
BEGIN:VEVENT
DTSTART;TZID=America/New_York:20240123T190000
DTEND;TZID=America/New_York:20240123T190000
DTSTAMP:20260423T042743
CREATED:20240104T202323Z
LAST-MODIFIED:20240104T202323Z
UID:10003297-1706036400-1706036400@asburyparkchamber.com
SUMMARY:Piano Party with Bob Egan
DESCRIPTION:Join us every Tuesday from 7 pm – 10 pm in Soundbooth and listen to Bob Egan play the piano while guests sing along!
URL:https://asburyparkchamber.com/event/piano-party-with-bob-egan/2024-01-23/
LOCATION:The Asbury Hotel\, 210 5th Ave\, Asbury Park\, NJ\, 07712\, United States
END:VEVENT
BEGIN:VEVENT
DTSTART;TZID=America/New_York:20240123T193000
DTEND;TZID=America/New_York:20240123T193000
DTSTAMP:20260423T042743
CREATED:20240109T164346Z
LAST-MODIFIED:20240109T164346Z
UID:10003302-1706038200-1706038200@asburyparkchamber.com
SUMMARY:Welcome to the Dollhouse at The Showroom
DESCRIPTION:Director: Todd Solondz\nRun Time: 88 min.\nRelease Year: 1996\nStarring: Christina Brucato\, Christina Vidal\, Heather Matarazzo\, Siri Howard\, Victoria Davis \nIn Todd Solondz’s debut film\, Dawn\, an awkward 7th grader\, struggles to cope with suburban life as the middle child with inattentive parents and bullies at school. \nPart of The ShowRoom’s January “Made in Jersey” series\, this cult classic was primarily filmed in West Caldwell\, New Jersey.
URL:https://asburyparkchamber.com/event/welcome-to-the-dollhouse-at-the-showroom/
LOCATION:The Showroom\, 707 Cookman Avenue\, Asbury Park\, 07712
END:VEVENT
END:VCALENDAR