BEGIN:VCALENDAR
VERSION:2.0
PRODID:-//Asbury Park Chamber of Commerce - ECPv6.15.18//NONSGML v1.0//EN
CALSCALE:GREGORIAN
METHOD:PUBLISH
X-ORIGINAL-URL:https://asburyparkchamber.com
X-WR-CALDESC:Events for Asbury Park Chamber of Commerce
REFRESH-INTERVAL;VALUE=DURATION:PT1H
X-Robots-Tag:noindex
X-PUBLISHED-TTL:PT1H
BEGIN:VTIMEZONE
TZID:America/New_York
BEGIN:DAYLIGHT
TZOFFSETFROM:-0500
TZOFFSETTO:-0400
TZNAME:EDT
DTSTART:20230312T070000
END:DAYLIGHT
BEGIN:STANDARD
TZOFFSETFROM:-0400
TZOFFSETTO:-0500
TZNAME:EST
DTSTART:20231105T060000
END:STANDARD
BEGIN:DAYLIGHT
TZOFFSETFROM:-0500
TZOFFSETTO:-0400
TZNAME:EDT
DTSTART:20240310T070000
END:DAYLIGHT
BEGIN:STANDARD
TZOFFSETFROM:-0400
TZOFFSETTO:-0500
TZNAME:EST
DTSTART:20241103T060000
END:STANDARD
BEGIN:DAYLIGHT
TZOFFSETFROM:-0500
TZOFFSETTO:-0400
TZNAME:EDT
DTSTART:20250309T070000
END:DAYLIGHT
BEGIN:STANDARD
TZOFFSETFROM:-0400
TZOFFSETTO:-0500
TZNAME:EST
DTSTART:20251102T060000
END:STANDARD
END:VTIMEZONE
BEGIN:VEVENT
DTSTART;TZID=America/New_York:20240411T190000
DTEND;TZID=America/New_York:20240411T190000
DTSTAMP:20260422T061203
CREATED:20240402T191835Z
LAST-MODIFIED:20240402T191835Z
UID:10003619-1712862000-1712862000@asburyparkchamber.com
SUMMARY:Medium Linda Shields
DESCRIPTION:Come enjoy an evening with Linda Shields\, The Jersey Shore Medium\, as she connects with those who have crossed over. Linda realized her “gift” at a very early age and tells us that her greatest joy is in being able to be the “voice” of a loved one or friend who has passed and wants to communicate with those they have left behind. This promises to be an evening with many surprises! Doors at 5:30\, show starts at 7. \nPLEASE NOTE: Purchasing a ticket does not guarantee a reading.
URL:https://asburyparkchamber.com/event/medium-linda-shields-8/
LOCATION:Tim McLoone’s Supper Club\, 1200 Ocean Ave\, Asbury Park\, 07712
END:VEVENT
BEGIN:VEVENT
DTSTART;TZID=America/New_York:20240411T190000
DTEND;TZID=America/New_York:20240411T190000
DTSTAMP:20260422T061203
CREATED:20240402T192037Z
LAST-MODIFIED:20240402T192037Z
UID:10003620-1712862000-1712862000@asburyparkchamber.com
SUMMARY:David Morris at The Wonder Bar
DESCRIPTION:DAVID MORRIS\nBored in the USA Tour \nDavid Morris is a country artist\, singer-songwriter and rapper from Charleston\, West Virginia. His sound mixes trap style beats with slide guitars\, banjos with catchy hooks\, and lyrical mastery with relatable lyrics. David’s music has the power to connect with fans from all walks of life and push the country music genre forward. His growth on all platforms has skyrocketed since the release of his 2020 debut album\, “Red\, White\, & American Blues\,” which features several standout single such as the feel good anthem “Smalltown Queen”\, the supportive “Who Hurt You” and the anthemic “Does He Know About Us.” David has landed himself just shy of 25 million collective streams on Spotify\, and 15 million on Apple Music alone. David has received praise from several critics\, and Elevator Music even cited that he very well may be “The future of country music.” David’s success however\, is matched with a humble outlook. He says\, “The greatest honor as an artist is seeing your music resonate with people. Hearing that a song can comfort someone\, or inspire someone is the real reward”. If you are looking for an artist that writes raw and honest lyrics\, but also produces tracks that you can drive down a backroad blasting through your subwoofers\, look no further. \n21+ admitted
URL:https://asburyparkchamber.com/event/david-morris-at-the-wonder-bar/
LOCATION:Wonder Bar\, 1213 Ocean Ave\, Asbury Park\, 07712
END:VEVENT
BEGIN:VEVENT
DTSTART;TZID=America/New_York:20240411T190000
DTEND;TZID=America/New_York:20240411T220000
DTSTAMP:20260422T061203
CREATED:20240322T210814Z
LAST-MODIFIED:20240322T210814Z
UID:10003593-1712862000-1712872800@asburyparkchamber.com
SUMMARY:Open Mic Night with Jason Partizo
DESCRIPTION:Join us at Soundbooth every Thursday from 7-10PM for Open Mic Night! This event is free and open to the public. We hope to see you there!
URL:https://asburyparkchamber.com/event/open-mic-night-with-jason-partizo/2024-04-11/
LOCATION:The Asbury Hotel\, 210 5th Ave\, Asbury Park\, NJ\, 07712\, United States
CATEGORIES:Music
ORGANIZER;CN="The Asbury Hotel":MAILTO:theasburyhotel@stayasburypark.com
END:VEVENT
END:VCALENDAR