BEGIN:VCALENDAR
VERSION:2.0
PRODID:-//Asbury Park Chamber of Commerce - ECPv6.15.18//NONSGML v1.0//EN
CALSCALE:GREGORIAN
METHOD:PUBLISH
X-ORIGINAL-URL:https://asburyparkchamber.com
X-WR-CALDESC:Events for Asbury Park Chamber of Commerce
REFRESH-INTERVAL;VALUE=DURATION:PT1H
X-Robots-Tag:noindex
X-PUBLISHED-TTL:PT1H
BEGIN:VTIMEZONE
TZID:America/New_York
BEGIN:DAYLIGHT
TZOFFSETFROM:-0500
TZOFFSETTO:-0400
TZNAME:EDT
DTSTART:20230312T070000
END:DAYLIGHT
BEGIN:STANDARD
TZOFFSETFROM:-0400
TZOFFSETTO:-0500
TZNAME:EST
DTSTART:20231105T060000
END:STANDARD
BEGIN:DAYLIGHT
TZOFFSETFROM:-0500
TZOFFSETTO:-0400
TZNAME:EDT
DTSTART:20240310T070000
END:DAYLIGHT
BEGIN:STANDARD
TZOFFSETFROM:-0400
TZOFFSETTO:-0500
TZNAME:EST
DTSTART:20241103T060000
END:STANDARD
BEGIN:DAYLIGHT
TZOFFSETFROM:-0500
TZOFFSETTO:-0400
TZNAME:EDT
DTSTART:20250309T070000
END:DAYLIGHT
BEGIN:STANDARD
TZOFFSETFROM:-0400
TZOFFSETTO:-0500
TZNAME:EST
DTSTART:20251102T060000
END:STANDARD
END:VTIMEZONE
BEGIN:VEVENT
DTSTART;TZID=America/New_York:20240420T140000
DTEND;TZID=America/New_York:20240420T153000
DTSTAMP:20260422T074102
CREATED:20240904T212108Z
LAST-MODIFIED:20240904T212108Z
UID:10003637-1713621600-1713627000@asburyparkchamber.com
SUMMARY:The Two Hander
DESCRIPTION:Therapy first-timer Claire is reluctant to undergo psychotherapy. But after a few sessions with Diana\, her unorthodox\, sharp-witted therapist\, a sort of trust begins to form between the two. But there are obstacles in the room as patient and doctor dig deeper and come to rely on each other in a way that transcends the office\, and this very fragile trust can easily turn into betrayal.
URL:https://asburyparkchamber.com/event/the-two-hander/2024-04-20/
LOCATION:New Jersey Repertory Company\, 179 Broadway\, Long Branch\, NJ\, 07740\, United States
CATEGORIES:Awards Gala,Comedy
ATTACH;FMTTYPE=image/jpeg:https://asburyparkchamber.com/wp-content/uploads/2024/04/Instagram-square-Two-Hander.jpg
ORGANIZER;CN="New Jersey Repretory Company":MAILTO:njrep@njrep.org
END:VEVENT
BEGIN:VEVENT
DTSTART;TZID=America/New_York:20240420T150000
DTEND;TZID=America/New_York:20240420T150000
DTSTAMP:20260422T074102
CREATED:20240415T160018Z
LAST-MODIFIED:20240415T160018Z
UID:10003678-1713625200-1713625200@asburyparkchamber.com
SUMMARY:Asbury Park's Got Talent
DESCRIPTION:Asbury Park’s Got Talent 5th Anniversary! Ages 9 and up. Auditions Saturday\, April 20th at 3pm at the Launch Center. Final Talent Showcase on May 18th.
URL:https://asburyparkchamber.com/event/asbury-parks-got-talent-2/
LOCATION:Launch Center\, 1201 Springwood Ave\, Asbury Park\, 07712
ORGANIZER;CN="Interfaith Neighbors/Springwood Avenue Rising":MAILTO:DianeS@interfaithneighbors.org
END:VEVENT
BEGIN:VEVENT
DTSTART;TZID=America/New_York:20240420T190000
DTEND;TZID=America/New_York:20240420T190000
DTSTAMP:20260422T074102
CREATED:20240403T152511Z
LAST-MODIFIED:20240403T152511Z
UID:10003660-1713639600-1713639600@asburyparkchamber.com
SUMMARY:Sensational Soul Cruisers
DESCRIPTION:Sensational Soul Cruisers\nThe Sensational Soul Cruisers are not just another 11-man vocal harmony group with horns. While it is still sometimes possible to find a band featuring a similar line up of instruments\, it is unlikely that you will ever find another that performs with as much energy\, passion\, and talent as these guys. From their humble beginnings rehearsing in Freehold Borough at the chicken coops on Route 33 to the basement of the Cycle Shop on Throckmorton Street\, this band has come a long way from its “Eddie and the Cruisers” days to become one of New Jersey’s best kept secrets. \nUnder the tutelage of legendary Jersey Shore sax player Screamin’ Steve Barlotta\, who has been the captain of this fantastic soul cruise for over 30 years\, who has catapulted this band from the recesses of a dingy basement to over 200 performances a year while capturing the true essence of the Jersey Shore sound and its true R&B roots. Fortunately for those of us that feel that the sound of classic Philly Soul\, Motown\, Disco\, Stax\, and the music of The Temptations\, Four Tops\, Earth Wind & Fire\, Chicago\, The Trammps and other such groups was and still is some of the best music ever recorded or played live\, there will be plenty of chances to see the Sensational Soul Cruisers perform this year and for many years to come. While the band travels to and plays concerts in theaters\, clubs\, public festivals\, and private events throughout the country\, they will be spending quite a bit of time up & down the east coast this year. \nOver the past 3 decades the Soul Cruisers have been fortunate enough to grace the stage with many great artist from Bruce Springsteen\, Little Anthony and The Imperials\, Gloria Gaynor\, Gary US Bonds\, John Cafferty\, Southside Johnny\, The Emotions\, Bon Jovi\, Smokey Robinson\, Stevie Wonder. As well as being the long time favorite house band at New York City’s famed Copacabana. \nDoors 7:00 pm\nShowtime 8:00pm \n21 and up
URL:https://asburyparkchamber.com/event/sensational-soul-cruisers-2/
LOCATION:Wonder Bar\, 1213 Ocean Ave\, Asbury Park\, 07712
END:VEVENT
BEGIN:VEVENT
DTSTART;TZID=America/New_York:20240420T193000
DTEND;TZID=America/New_York:20240420T210000
DTSTAMP:20260422T074102
CREATED:20240403T144943Z
LAST-MODIFIED:20240403T144943Z
UID:10003624-1713641400-1713646800@asburyparkchamber.com
SUMMARY:The Two Hander
DESCRIPTION:Therapy first-timer Claire is reluctant to undergo psychotherapy. But after a few sessions with Diana\, her unorthodox\, sharp-witted therapist\, a sort of trust begins to form between the two. But there are obstacles in the room as patient and doctor dig deeper and come to rely on each other in a way that transcends the office\, and this very fragile trust can easily turn into betrayal.
URL:https://asburyparkchamber.com/event/the-two-hander/2024-04-20/
LOCATION:New Jersey Repertory Company\, 179 Broadway\, Long Branch\, NJ\, 07740\, United States
CATEGORIES:Awards Gala,Comedy
ATTACH;FMTTYPE=image/jpeg:https://asburyparkchamber.com/wp-content/uploads/2024/04/Instagram-square-Two-Hander.jpg
ORGANIZER;CN="New Jersey Repretory Company":MAILTO:njrep@njrep.org
END:VEVENT
BEGIN:VEVENT
DTSTART;TZID=America/New_York:20240420T200000
DTEND;TZID=America/New_York:20240420T220000
DTSTAMP:20260422T074102
CREATED:20240322T210813Z
LAST-MODIFIED:20240322T210813Z
UID:10003606-1713643200-1713650400@asburyparkchamber.com
SUMMARY:The Joni Project
DESCRIPTION:The Joni Project formed as a tribute in sound and spirit to Joni Mitchell\, one of music’s greatest and most innovative artists. For this special show\, The Joni Project celebrates the 50th Anniversary of the release of Court and Spark\, performing the album in its entirety plus a selection of other Joni favorites. Released in January 1974\, Court and Spark infused the folk-rock style of Joni’s previous albums with jazz elements. Rolling Stone magazine lists it as one of the 500 Greatest Albums of All Time.
URL:https://asburyparkchamber.com/event/the-joni-project/
LOCATION:Axelrod Performing Arts Center\, 100 Grant Ave\, Deal\, 07723
CATEGORIES:Music
ATTACH;FMTTYPE=image/jpeg:https://asburyparkchamber.com/wp-content/uploads/2024/03/TheJoniProject.jpeg
ORGANIZER;CN="Axelrod Performing Arts Center":MAILTO:maryannbourbeau@axelrodartscenter.org
END:VEVENT
BEGIN:VEVENT
DTSTART;TZID=America/New_York:20240420T210000
DTEND;TZID=America/New_York:20240420T210000
DTSTAMP:20260422T074102
CREATED:20240403T152511Z
LAST-MODIFIED:20240403T152511Z
UID:10003661-1713646800-1713646800@asburyparkchamber.com
SUMMARY:Emo Night Brooklyn
DESCRIPTION:Emo Night Brooklyn\n21+ admitted \nDoors at 9 pm\, show time 10 pm \nWelcome to Emo Night Brooklyn\, a late night DJ based dance party blasting the best emo and pop punk jams. We may even invite some of your favorite artists and bands to surprise you and join the party. Get ready to scream your lungs out\, mosh\, and dance to all your favorite songs with all of your favorite people and experience the awesomeness that is Emo Night Brooklyn.
URL:https://asburyparkchamber.com/event/emo-night-brooklyn-7/
LOCATION:Stone Pony\, 913 Ocean Ave\, Asbury Park\, 07712
END:VEVENT
BEGIN:VEVENT
DTSTART;TZID=America/New_York:20240420T210000
DTEND;TZID=America/New_York:20240420T210000
DTSTAMP:20260422T074102
CREATED:20240416T152457Z
LAST-MODIFIED:20240416T152457Z
UID:10003685-1713646800-1713646800@asburyparkchamber.com
SUMMARY:Fungkshui
DESCRIPTION:Fungkshui at The Break \nBring on the jam with Asbury Park’s red hot jam band Fungkshui
URL:https://asburyparkchamber.com/event/fungkshui-3/
LOCATION:The Break\, 1000 Ocean Ave\, Asbury Park
END:VEVENT
END:VCALENDAR