BEGIN:VCALENDAR
VERSION:2.0
PRODID:-//Asbury Park Chamber of Commerce - ECPv6.15.18//NONSGML v1.0//EN
CALSCALE:GREGORIAN
METHOD:PUBLISH
X-ORIGINAL-URL:https://asburyparkchamber.com
X-WR-CALDESC:Events for Asbury Park Chamber of Commerce
REFRESH-INTERVAL;VALUE=DURATION:PT1H
X-Robots-Tag:noindex
X-PUBLISHED-TTL:PT1H
BEGIN:VTIMEZONE
TZID:America/New_York
BEGIN:DAYLIGHT
TZOFFSETFROM:-0500
TZOFFSETTO:-0400
TZNAME:EDT
DTSTART:20230312T070000
END:DAYLIGHT
BEGIN:STANDARD
TZOFFSETFROM:-0400
TZOFFSETTO:-0500
TZNAME:EST
DTSTART:20231105T060000
END:STANDARD
BEGIN:DAYLIGHT
TZOFFSETFROM:-0500
TZOFFSETTO:-0400
TZNAME:EDT
DTSTART:20240310T070000
END:DAYLIGHT
BEGIN:STANDARD
TZOFFSETFROM:-0400
TZOFFSETTO:-0500
TZNAME:EST
DTSTART:20241103T060000
END:STANDARD
BEGIN:DAYLIGHT
TZOFFSETFROM:-0500
TZOFFSETTO:-0400
TZNAME:EDT
DTSTART:20250309T070000
END:DAYLIGHT
BEGIN:STANDARD
TZOFFSETFROM:-0400
TZOFFSETTO:-0500
TZNAME:EST
DTSTART:20251102T060000
END:STANDARD
END:VTIMEZONE
BEGIN:VEVENT
DTSTART;TZID=America/New_York:20240512T120000
DTEND;TZID=America/New_York:20240512T170000
DTSTAMP:20260420T114606
CREATED:20240501T153705Z
LAST-MODIFIED:20240501T153705Z
UID:10003745-1715515200-1715533200@asburyparkchamber.com
SUMMARY:Asbury Park Spring Bazaar
DESCRIPTION:Asbury Park Spring Bazaar\nin the Grand Arcade of Convention Hall \nCelebrate Mother’s Day weekend at the Asbury Park Spring Bazaar! The weekend will feature a shopping\, arts & crafts\, and music experience. The events will feature shopping from local makers\, artists\, designers\, crafters and collectors; fresh flower bouquets\, mother’s day photos and photo stations; music & entertainment; craft workshops; kids activities & face painting; delicious food & libations and more. \nFeaturing 24 vendors selling gifts and goods. Check out the vendor list:\nSpring Mother’s Day Photo Wall by J Love & Co.\nFlower Bouquet Bar by Fleur de Mer\nMusic & Entertainment at Seahorse\nFood & Libations at Seahorse and Asbury Oyster Bar\nKids Face Painting by Krissy Face Paint\nPermament Jewelry Bar by Sunkissed Links (Saturday) and Arm Vibes Bracelet Bar (Sunday)
URL:https://asburyparkchamber.com/event/asbury-park-spring-bazaar/2024-05-12/
LOCATION:The Grand Arcade of Asbury Park Convention Hall
ATTACH;FMTTYPE=image/jpeg:https://asburyparkchamber.com/wp-content/uploads/2024/05/Asbury-Park-Spring-Bazaar-2024-FB.png.jpg
END:VEVENT
BEGIN:VEVENT
DTSTART;TZID=America/New_York:20240512T140000
DTEND;TZID=America/New_York:20240512T153000
DTSTAMP:20260420T114606
CREATED:20240904T212108Z
LAST-MODIFIED:20240904T212108Z
UID:10003638-1715522400-1715527800@asburyparkchamber.com
SUMMARY:The Two Hander
DESCRIPTION:Therapy first-timer Claire is reluctant to undergo psychotherapy. But after a few sessions with Diana\, her unorthodox\, sharp-witted therapist\, a sort of trust begins to form between the two. But there are obstacles in the room as patient and doctor dig deeper and come to rely on each other in a way that transcends the office\, and this very fragile trust can easily turn into betrayal.
URL:https://asburyparkchamber.com/event/the-two-hander/2024-05-12/
LOCATION:New Jersey Repertory Company\, 179 Broadway\, Long Branch\, NJ\, 07740\, United States
CATEGORIES:Awards Gala,Comedy
ATTACH;FMTTYPE=image/jpeg:https://asburyparkchamber.com/wp-content/uploads/2024/04/Instagram-square-Two-Hander.jpg
ORGANIZER;CN="New Jersey Repretory Company":MAILTO:njrep@njrep.org
END:VEVENT
BEGIN:VEVENT
DTSTART;TZID=America/New_York:20240512T150000
DTEND;TZID=America/New_York:20240512T173000
DTSTAMP:20260420T114606
CREATED:20240410T175248Z
LAST-MODIFIED:20240410T175248Z
UID:10003673-1715526000-1715535000@asburyparkchamber.com
SUMMARY:East Carson Street
DESCRIPTION:East Carson Street\, starring Broadway’s Constantine Maroulis (Rock of Ages\, Jekyll & Hyde) and Teal Wicks (The Cher Show\, Wicked) tells the story of three generations of the Popovics\, a family living in Pittsburgh in the 1980s. Like many cities in the United States at that time\, Pittsburgh fell into decline due to the demise of the steel and coal industries. The show features music and lyrics by Joe Grushecky\, the iconic Pittsburgh-based musician best known for his work with the Iron City Houserockers and his collaborations with Bruce Springsteen\, who co-wrote two songs in the musical.
URL:https://asburyparkchamber.com/event/east-carson-street/2024-05-12/
LOCATION:Bell Works\, 101 Crawfords Corner Rd\, Holmdel\, NJ\, 07733\, United States
CATEGORIES:Music
ATTACH;FMTTYPE=image/jpeg:https://asburyparkchamber.com/wp-content/uploads/2024/04/ClientFile520780.jpg
ORGANIZER;CN="Axelrod Performing Arts Center":MAILTO:maryannbourbeau@axelrodartscenter.org
END:VEVENT
BEGIN:VEVENT
DTSTART;TZID=America/New_York:20240512T190000
DTEND;TZID=America/New_York:20240512T220000
DTSTAMP:20260420T114606
CREATED:20240206T163719Z
LAST-MODIFIED:20240510T182154Z
UID:10003430-1715540400-1715551200@asburyparkchamber.com
SUMMARY:Slow Down Sundays with BJ Bied
DESCRIPTION:Join us at Soundbooth every Sunday from 7 – 10 pm and listen to lofi jazz loops by the talented guitarist BJ Bied!
URL:https://asburyparkchamber.com/event/slow-down-sundays-with-bj-bied/2024-05-12/
LOCATION:The Asbury Hotel\, 210 5th Ave\, Asbury Park\, NJ\, 07712\, United States
CATEGORIES:Music
ORGANIZER;CN="The Asbury Hotel":MAILTO:theasburyhotel@stayasburypark.com
END:VEVENT
END:VCALENDAR