BEGIN:VCALENDAR
VERSION:2.0
PRODID:-//Asbury Park Chamber of Commerce - ECPv6.15.18//NONSGML v1.0//EN
CALSCALE:GREGORIAN
METHOD:PUBLISH
X-WR-CALNAME:Asbury Park Chamber of Commerce
X-ORIGINAL-URL:https://asburyparkchamber.com
X-WR-CALDESC:Events for Asbury Park Chamber of Commerce
REFRESH-INTERVAL;VALUE=DURATION:PT1H
X-Robots-Tag:noindex
X-PUBLISHED-TTL:PT1H
BEGIN:VTIMEZONE
TZID:America/New_York
BEGIN:DAYLIGHT
TZOFFSETFROM:-0500
TZOFFSETTO:-0400
TZNAME:EDT
DTSTART:20240310T070000
END:DAYLIGHT
BEGIN:STANDARD
TZOFFSETFROM:-0400
TZOFFSETTO:-0500
TZNAME:EST
DTSTART:20241103T060000
END:STANDARD
BEGIN:DAYLIGHT
TZOFFSETFROM:-0500
TZOFFSETTO:-0400
TZNAME:EDT
DTSTART:20250309T070000
END:DAYLIGHT
BEGIN:STANDARD
TZOFFSETFROM:-0400
TZOFFSETTO:-0500
TZNAME:EST
DTSTART:20251102T060000
END:STANDARD
BEGIN:DAYLIGHT
TZOFFSETFROM:-0500
TZOFFSETTO:-0400
TZNAME:EDT
DTSTART:20260308T070000
END:DAYLIGHT
BEGIN:STANDARD
TZOFFSETFROM:-0400
TZOFFSETTO:-0500
TZNAME:EST
DTSTART:20261101T060000
END:STANDARD
END:VTIMEZONE
BEGIN:VEVENT
DTSTART;TZID=America/New_York:20250417T173000
DTEND;TZID=America/New_York:20250417T183000
DTSTAMP:20260422T060047
CREATED:20250403T155618Z
LAST-MODIFIED:20250403T155618Z
UID:10004389-1744911000-1744914600@asburyparkchamber.com
SUMMARY:Flow with Intention Yoga
DESCRIPTION:This yoga flow combines breath and movement to harmonize the mind\, body and heart\, offering begginer-to-intermediate postures with modifications to support your practice.
URL:https://asburyparkchamber.com/event/flow-with-intention-yoga/
LOCATION:Konscious Community Center\, 631 Lake Ave\, Asbury Park\, 07712
ORGANIZER;CN="KYDS":MAILTO:info@konscious.org
END:VEVENT
BEGIN:VEVENT
DTSTART;TZID=America/New_York:20250417T190000
DTEND;TZID=America/New_York:20250417T220000
DTSTAMP:20260422T060047
CREATED:20250416T154827Z
LAST-MODIFIED:20250416T154827Z
UID:10005280-1744916400-1744927200@asburyparkchamber.com
SUMMARY:Crime Book Club: The Wicker Man
DESCRIPTION:Thursday\, April 17\, 2025 – 7:00pm \nJoin the Crime Book Club for their April meeting to discuss The Wicker Man by Robin Hardy & Anthony Shaffer. All are welcome! \nEvent address:\n644A Cookman Ave\nAsbury Park\, NJ 07712
URL:https://asburyparkchamber.com/event/crime-book-club-the-wicker-man/
LOCATION:Asbury Book Cooperative\, 644A Cookman Ave\, Asbury Park\, 07712
CATEGORIES:Art & Culture
END:VEVENT
END:VCALENDAR