BEGIN:VCALENDAR
VERSION:2.0
PRODID:-//Asbury Park Chamber of Commerce - ECPv6.15.18//NONSGML v1.0//EN
CALSCALE:GREGORIAN
METHOD:PUBLISH
X-ORIGINAL-URL:https://asburyparkchamber.com
X-WR-CALDESC:Events for Asbury Park Chamber of Commerce
REFRESH-INTERVAL;VALUE=DURATION:PT1H
X-Robots-Tag:noindex
X-PUBLISHED-TTL:PT1H
BEGIN:VTIMEZONE
TZID:America/New_York
BEGIN:DAYLIGHT
TZOFFSETFROM:-0500
TZOFFSETTO:-0400
TZNAME:EDT
DTSTART:20240310T070000
END:DAYLIGHT
BEGIN:STANDARD
TZOFFSETFROM:-0400
TZOFFSETTO:-0500
TZNAME:EST
DTSTART:20241103T060000
END:STANDARD
BEGIN:DAYLIGHT
TZOFFSETFROM:-0500
TZOFFSETTO:-0400
TZNAME:EDT
DTSTART:20250309T070000
END:DAYLIGHT
BEGIN:STANDARD
TZOFFSETFROM:-0400
TZOFFSETTO:-0500
TZNAME:EST
DTSTART:20251102T060000
END:STANDARD
BEGIN:DAYLIGHT
TZOFFSETFROM:-0500
TZOFFSETTO:-0400
TZNAME:EDT
DTSTART:20260308T070000
END:DAYLIGHT
BEGIN:STANDARD
TZOFFSETFROM:-0400
TZOFFSETTO:-0500
TZNAME:EST
DTSTART:20261101T060000
END:STANDARD
END:VTIMEZONE
BEGIN:VEVENT
DTSTART;TZID=America/New_York:20250505T190000
DTEND;TZID=America/New_York:20250505T233000
DTSTAMP:20260421T200747
CREATED:20250401T162837Z
LAST-MODIFIED:20250401T163335Z
UID:10004351-1746471600-1746487800@asburyparkchamber.com
SUMMARY:Evan Honer
DESCRIPTION:Evan Honer was still a college student in Southern California when his music — a mix of acoustic folk\, indie-Americana\, and alternative pop\, delivered by a young songwriter who’s never been afraid to blur the boundaries between genres — began earning a global audience. It happened fast. One minute\, he was uploading performance videos to social media with little response. The next\, he was a viral success\, earning 100 million streams with his version of the Tyler Childers deep cut “Jersey Giant” and building a following with his original music\, too.\nOn graduation day\, Honer released West On I-10\, a debut album that quickly led to viral success as well as months of sold-out headline shows across America and Europe. For his sophomore album Fighting For\, Honer decided to keep things simple. Turning down seven-figure offers from virtually every major label & grammy award winning producers\, Fighting For was recorded by close friends in small studios\, churches\, Air Bnb’s and living rooms and is being released by Evan’s own independent label Cloverdale Records. With 500 million streams and counting and carving a new path in the music industry as a 100 percent independent artist\, this is still just the beginning of Evan’s journey.
URL:https://asburyparkchamber.com/event/evan-honer/
LOCATION:The Stone Pony
CATEGORIES:Music
END:VEVENT
END:VCALENDAR