BEGIN:VCALENDAR
VERSION:2.0
PRODID:-//Asbury Park Chamber of Commerce - ECPv6.15.18//NONSGML v1.0//EN
CALSCALE:GREGORIAN
METHOD:PUBLISH
X-ORIGINAL-URL:https://asburyparkchamber.com
X-WR-CALDESC:Events for Asbury Park Chamber of Commerce
REFRESH-INTERVAL;VALUE=DURATION:PT1H
X-Robots-Tag:noindex
X-PUBLISHED-TTL:PT1H
BEGIN:VTIMEZONE
TZID:America/New_York
BEGIN:DAYLIGHT
TZOFFSETFROM:-0500
TZOFFSETTO:-0400
TZNAME:EDT
DTSTART:20240310T070000
END:DAYLIGHT
BEGIN:STANDARD
TZOFFSETFROM:-0400
TZOFFSETTO:-0500
TZNAME:EST
DTSTART:20241103T060000
END:STANDARD
BEGIN:DAYLIGHT
TZOFFSETFROM:-0500
TZOFFSETTO:-0400
TZNAME:EDT
DTSTART:20250309T070000
END:DAYLIGHT
BEGIN:STANDARD
TZOFFSETFROM:-0400
TZOFFSETTO:-0500
TZNAME:EST
DTSTART:20251102T060000
END:STANDARD
BEGIN:DAYLIGHT
TZOFFSETFROM:-0500
TZOFFSETTO:-0400
TZNAME:EDT
DTSTART:20260308T070000
END:DAYLIGHT
BEGIN:STANDARD
TZOFFSETFROM:-0400
TZOFFSETTO:-0500
TZNAME:EST
DTSTART:20261101T060000
END:STANDARD
END:VTIMEZONE
BEGIN:VEVENT
DTSTART;TZID=America/New_York:20250618T180000
DTEND;TZID=America/New_York:20250618T200000
DTSTAMP:20260425T164127
CREATED:20250609T160216Z
LAST-MODIFIED:20250612T145320Z
UID:10005400-1750269600-1750276800@asburyparkchamber.com
SUMMARY:Business Made Social at SwimCrush!
DESCRIPTION:Business Made Social at Swimcrush! \nThe Asbury Park Chamber invites you to join us for our monthly business card exchange\, at Swimcrush. \nDate and time\nWednesday\, June 18 · 6 – 8pm EDT \n800 Ocean Avenue Asbury Park\, NJ 07712 \nNo Refunds \n$15 in advance ($20 at the door for non-members/$15 at the door for members)
URL:https://asburyparkchamber.com/event/business-made-social-2/
LOCATION:Swimcrush\, 800 Ocean Avenue\, Asbury Park\, 07712
CATEGORIES:Networking
ORGANIZER;CN="Asbury Park Chamber":MAILTO:info@asburyparkchamber.com
END:VEVENT
BEGIN:VEVENT
DTSTART;TZID=America/New_York:20250618T183000
DTEND;TZID=America/New_York:20250618T203000
DTSTAMP:20260425T164127
CREATED:20250613T143850Z
LAST-MODIFIED:20250613T143850Z
UID:10005418-1750271400-1750278600@asburyparkchamber.com
SUMMARY:Presentation & Signing: HICK by Sarah Miller
DESCRIPTION:Please join us for this incredible addition to our roster of book events! HICK: The Trailblazing Journalist Who Captured Eleanor Roosevelt’s Heart by SARAH MILLER.\nWednesday\, June 18th at 6:30pm \nPurchasing a $20.99 includes your RSVP and a copy of the book. Purchasing a $5 ticket is to reserve your seat and you will recieve a $5 coupon to use at the time of the event! \nHope to see you there!
URL:https://asburyparkchamber.com/event/presentation-signing-hick-by-sarah-miller/
LOCATION:Asbury Book Cooperative\, 644A Cookman Ave\, Asbury Park\, 07712
CATEGORIES:Art & Culture
END:VEVENT
BEGIN:VEVENT
DTSTART;TZID=America/New_York:20250618T190000
DTEND;TZID=America/New_York:20250618T230000
DTSTAMP:20260425T164127
CREATED:20250422T162335Z
LAST-MODIFIED:20250609T160850Z
UID:10005296-1750273200-1750287600@asburyparkchamber.com
SUMMARY:Motion City Soundtrack
DESCRIPTION:North 2 Shore presents\nMOTION CITY SOUNDTRACK \nMotion City Soundtrack\, the powerhouse emo-punk outfit that captured our hearts with anthems like “Everything Is Alright” and “The Future Freaks Me Out\,” storms back onto the Stone Pony Summer Stage\, Wednesday\, June 18th. \n7:00pm
URL:https://asburyparkchamber.com/event/motion-city-soundtrack-2/
LOCATION:The Stone Pony Summer Stage\, 913 Ocean Ave\, Asbury Park\, NJ\, 07702\, United States
CATEGORIES:Music
ORGANIZER;CN="North 2 Shore":MAILTO:info@northtoshore.com
END:VEVENT
BEGIN:VEVENT
DTSTART;TZID=America/New_York:20250618T193000
DTEND;TZID=America/New_York:20250618T223000
DTSTAMP:20260425T164127
CREATED:20250613T151456Z
LAST-MODIFIED:20250804T154753Z
UID:10005436-1750275000-1750285800@asburyparkchamber.com
SUMMARY:Williams Honor • Gordon Brown • Reagan Richards at Palmetto
DESCRIPTION:Every Wednesday at 7:30 pm at Palmetto on the Asbury Park Boardwalk! \nWILLIAMS HONOR\nGordon Brown • Reagan Richards \nplus special guests each week \n 
URL:https://asburyparkchamber.com/event/neighbors-starring-james-maddock-gordon-brown/
LOCATION:Palmetto Southern Kitchen + Bar\, 1000 Ocean Avenue\, Asbury Park\, 07712
CATEGORIES:Music
ATTACH;FMTTYPE=image/jpeg:https://asburyparkchamber.com/wp-content/uploads/2025/06/williams-honor-2025.jpg
END:VEVENT
END:VCALENDAR