BEGIN:VCALENDAR
VERSION:2.0
PRODID:-//Asbury Park Chamber of Commerce - ECPv6.15.18//NONSGML v1.0//EN
CALSCALE:GREGORIAN
METHOD:PUBLISH
X-ORIGINAL-URL:https://asburyparkchamber.com
X-WR-CALDESC:Events for Asbury Park Chamber of Commerce
REFRESH-INTERVAL;VALUE=DURATION:PT1H
X-Robots-Tag:noindex
X-PUBLISHED-TTL:PT1H
BEGIN:VTIMEZONE
TZID:America/New_York
BEGIN:DAYLIGHT
TZOFFSETFROM:-0500
TZOFFSETTO:-0400
TZNAME:EDT
DTSTART:20240310T070000
END:DAYLIGHT
BEGIN:STANDARD
TZOFFSETFROM:-0400
TZOFFSETTO:-0500
TZNAME:EST
DTSTART:20241103T060000
END:STANDARD
BEGIN:DAYLIGHT
TZOFFSETFROM:-0500
TZOFFSETTO:-0400
TZNAME:EDT
DTSTART:20250309T070000
END:DAYLIGHT
BEGIN:STANDARD
TZOFFSETFROM:-0400
TZOFFSETTO:-0500
TZNAME:EST
DTSTART:20251102T060000
END:STANDARD
BEGIN:DAYLIGHT
TZOFFSETFROM:-0500
TZOFFSETTO:-0400
TZNAME:EDT
DTSTART:20260308T070000
END:DAYLIGHT
BEGIN:STANDARD
TZOFFSETFROM:-0400
TZOFFSETTO:-0500
TZNAME:EST
DTSTART:20261101T060000
END:STANDARD
END:VTIMEZONE
BEGIN:VEVENT
DTSTART;TZID=America/New_York:20250625T190000
DTEND;TZID=America/New_York:20250625T210000
DTSTAMP:20260421T230555
CREATED:20250623T144149Z
LAST-MODIFIED:20250804T141831Z
UID:10005511-1750878000-1750885200@asburyparkchamber.com
SUMMARY:AP Live! on the Boardwalk
DESCRIPTION:Asbury Park Live! at the 1st Avenue Green on the AP Boardwalk is a 10-week series on Wednesday nights next to the MOGO Korean Fusion Tacos stand.\nBack for its ninth season\, this high-energy series features regional talent across genres—pop\, rock\, funk\, hip hop\, and indie—with student bands from Lakehouse Music Academy opening each night.\nLakehouse Music Academy bands featuring APMF scholarship students open for local musicians/bands each week. \nBYO lawn chair\, your friends\, and your dancing shoes! \nFirst Avenue Green | Wednesdays at 7:00 p.m. | June 25 – August 28 \nSee schedule below: \nAugust 6 – Indigo Sky | Emerson Woolf & The Wishbones\nAugust 12 (Tues) – October Man | Great Oblivion\nAugust 20 – Mike Frank & Friends | Foes of Fern\nAugust 28 (Thurs) – Alors Alors | S0ulfood | Des & The Swagmatics \nPresented with MOGO\, Watermark\, and Lakehouse Music Academy. Sponsored by Tito’s Handmade Vodka\, Pepsi\, Asbury Park Sunset\, Provident Bank\, Asbury Park Brewery\, Ansell Grimm & Aaron\, Madison Marquette\, The Stone Pony\, and Wild Air Brewing
URL:https://asburyparkchamber.com/event/ap-live-on-the-boardwalk/2025-06-25/
LOCATION:1st Avenue Green Space\, 1st Avenue\, Asbury Park
CATEGORIES:Family,Music
ORGANIZER;CN="Asbury Park Music Foundation":MAILTO:info@asburyparkmusiclives.org
END:VEVENT
BEGIN:VEVENT
DTSTART;TZID=America/New_York:20250625T190000
DTEND;TZID=America/New_York:20250625T223000
DTSTAMP:20260421T230555
CREATED:20250422T162335Z
LAST-MODIFIED:20250422T162335Z
UID:10005306-1750878000-1750890600@asburyparkchamber.com
SUMMARY:Moon Hooch
DESCRIPTION:North 2 Shore presents\nMOON HOOCH \nMoon Hooch began busking in the subway platforms of NYC in 2010\, quickly getting noticed by the NYPD\, who had to ban them from locations that couldn’t handle the crowds. \nIn a few short years they were opening for the likes of Beats Antique\, They Might Be Giants\, and Lotus\, while selling out their own headline shows at marquee venues around the United States and Europe. Their unconventional sound and techniques\, utilizing found objects like traffic cones\, landed them appearances on NPR’s Tiny Desk in America\, Later with Jools Holland in the UK\, Hamish & Andy’s Gap Year in\nAustralia\, and private audiences with the Premier League’s Chelsea F.C. \n21+ admitted
URL:https://asburyparkchamber.com/event/moon-hooch-2/
LOCATION:Wonder Bar\, 1213 Ocean Ave\, Asbury Park\, 07712
CATEGORIES:Music
ORGANIZER;CN="North 2 Shore":MAILTO:info@northtoshore.com
END:VEVENT
BEGIN:VEVENT
DTSTART;TZID=America/New_York:20250625T190000
DTEND;TZID=America/New_York:20250625T223000
DTSTAMP:20260421T230555
CREATED:20250625T182439Z
LAST-MODIFIED:20250625T182439Z
UID:10005521-1750878000-1750890600@asburyparkchamber.com
SUMMARY:Cats On The Bandstand - Acoustic Grateful Dead Tribute
DESCRIPTION:Acoustic Grateful Dead Tribute featuring Gregg Miller\, original member Keanu Reeves’ band Dogstar! \nTHE DANCE FLOOR WILL BE CLOSED FOR SEATING. \nGROUP SEATING DOES APPLY!\nDO NOT WANT TO SIT WITH OTHERS? FEEL FREE TO BUY THE WHOLE TABLE. \nIF YOUR PARTY IS LARGER THAN 8 PEOPLE\, PLEASE CALL TIM McLOONE’S SUPPER CLUB (732.774.1400) TO ADD ON ADDITIONAL TICKETS TO YOUR TABLE. EACH PERSON ATTENDING WILL BE REQUIRED TO HAVE A TICKET. \nA $25 PER PERSON FOOD & BEVERAGE MINIMUM IS REQUIRED \nTICKETS ARE NON-REFUNDABLE. SHOULD THE VENUE NEED TO CANCEL THE SHOW\, A REFUND WILL BE ISSUED LESS PROCESSING FEES. \nIF A SHOW MUST POSTPONE\, TICKETS WILL BE TRANSFERRED TO THE NEW DATE. \nTim McLoone’s Supper Club\n1200 Ocean Avenue Asbury Park\, NJ 07712
URL:https://asburyparkchamber.com/event/cats-on-the-bandstand-acoustic-grateful-dead-tribute/
LOCATION:Tim McLoone’s Supper Club\, 1200 Ocean Ave\, Asbury Park\, 07712
CATEGORIES:Music
ATTACH;FMTTYPE=image/jpeg:https://asburyparkchamber.com/wp-content/uploads/2025/06/CatsontheBandstand.jpeg
END:VEVENT
END:VCALENDAR