BEGIN:VCALENDAR
VERSION:2.0
PRODID:-//Asbury Park Chamber of Commerce - ECPv6.15.18//NONSGML v1.0//EN
CALSCALE:GREGORIAN
METHOD:PUBLISH
X-ORIGINAL-URL:https://asburyparkchamber.com
X-WR-CALDESC:Events for Asbury Park Chamber of Commerce
REFRESH-INTERVAL;VALUE=DURATION:PT1H
X-Robots-Tag:noindex
X-PUBLISHED-TTL:PT1H
BEGIN:VTIMEZONE
TZID:America/New_York
BEGIN:DAYLIGHT
TZOFFSETFROM:-0500
TZOFFSETTO:-0400
TZNAME:EDT
DTSTART:20240310T070000
END:DAYLIGHT
BEGIN:STANDARD
TZOFFSETFROM:-0400
TZOFFSETTO:-0500
TZNAME:EST
DTSTART:20241103T060000
END:STANDARD
BEGIN:DAYLIGHT
TZOFFSETFROM:-0500
TZOFFSETTO:-0400
TZNAME:EDT
DTSTART:20250309T070000
END:DAYLIGHT
BEGIN:STANDARD
TZOFFSETFROM:-0400
TZOFFSETTO:-0500
TZNAME:EST
DTSTART:20251102T060000
END:STANDARD
BEGIN:DAYLIGHT
TZOFFSETFROM:-0500
TZOFFSETTO:-0400
TZNAME:EDT
DTSTART:20260308T070000
END:DAYLIGHT
BEGIN:STANDARD
TZOFFSETFROM:-0400
TZOFFSETTO:-0500
TZNAME:EST
DTSTART:20261101T060000
END:STANDARD
END:VTIMEZONE
BEGIN:VEVENT
DTSTART;TZID=America/New_York:20250712T170000
DTEND;TZID=America/New_York:20250712T200000
DTSTAMP:20260423T084857
CREATED:20250701T172217Z
LAST-MODIFIED:20250701T172217Z
UID:10005541-1752339600-1752350400@asburyparkchamber.com
SUMMARY:Divine Currents - Transformer's 9th Annual Siren Arts Summer Artist Residency Program
DESCRIPTION:Divine Currents\nJuly 12 – August 16\, 2025 \nOpening Reception: Saturday\, July 12\, 5 – 8pm\nExhibition Hours: Weds – Sat | 12 – 6pm starting July 16 \nJoin Transformer at the beach this summer!\nTransformer’s 9th annual Siren Arts summer artist residency program presents haus of bambi in their first residency program!! \nhaus of bambi – featuring Farrah Skeiky\, Bambi\, King Molasses\, JaxKnife Complex\, Bumper\, and Miss Grace David – is a pantheon of artists from Washington\, DC that uses make-believe to tell the truth. With Divine Currents\, the haus explores the intersections of dance\, ritual\, photography\, and sculptural form to harness the immutable forces that lead us to one another. \nLaunched in 2017 by Transformer’s Founder & Director Victoria Reis\, Siren Arts is an innovative program based in Asbury Park\, NJ that supports multidisciplinary emerging artists through exhibitions\, a summer artist residency program\, and a public performance art series. \nTransformer’s goal with Siren Arts is to empower participating artists\, and to build and connect community in celebration of the ocean\, the intersectional effects of climate change\, and human & environmental interconnectedness\, while introducing and advancing innovative contemporary art practices.
URL:https://asburyparkchamber.com/event/divine-currents-transformers-9th-annual-siren-arts-summer-artist-residency-program/
LOCATION:The Asbury Ocean Club\, 1101 Ocean Ave\, Asbruy Park\, NJ\, 07712\, United States
CATEGORIES:Art & Culture
ATTACH;FMTTYPE=image/png:https://asburyparkchamber.com/wp-content/uploads/2025/07/Divine-Currents-Postcard-FINAL.png
END:VEVENT
BEGIN:VEVENT
DTSTART;TZID=America/New_York:20250712T183000
DTEND;TZID=America/New_York:20250712T233000
DTSTAMP:20260423T084857
CREATED:20250613T155147Z
LAST-MODIFIED:20250613T155147Z
UID:10005452-1752345000-1752363000@asburyparkchamber.com
SUMMARY:John Eddie: JE 66 Birthday Bash Jeff Kazee and His Band at The Stone Pony
DESCRIPTION:John Eddie and his Dirty Ol’ Band with special guest Jeff Kazee and His Band come to the Pony on July 12. It’s an early door at 6:30\, show 7-11 pm.\nJohn Eddie is an accomplished singer-songwriter\, recording artist\, and dynamic live performer\, who recently has also branched out into writing and producing for film and TV (Agent Elvis\, Netflix). Eddie has attracted a devoted following with his electrifying stage presence and heartfelt songs infused with raw\, real-world lyrics\, cutting wit\, and musings on life\, love\, and everything in between. Following the release of his Lost Highway record Who the Hell is John Eddie? Eddie moved to Nashville\, where his songs were discovered and recorded by the likes of Brantley Gilbert\, Keith Urban\, Kid Rock\, and Sammy Hagar\, among many others. As a touring musician\, Eddie has performed with Bruce Springsteen\, Miranda Lambert\, Bob Seger\, John Mayer\, and countless others. Bruce became an instant fan and helped foster John’s early career and has joined him on stage through the years. John’s history runs deep at both the Stone Pony and Asbury Park calling both places home… Get ready for a rocking JE 66 – Birthday Celebration and show at the Pony. Jeff Kazee (SSJ Musical Director\, Keyboards and vocals) and his band open the show. Stay tuned for more event announcements.
URL:https://asburyparkchamber.com/event/john-eddie-je-66-birthday-bash-jeff-kazee-and-his-band-at-the-stone-pony/
LOCATION:The Stone Pony
CATEGORIES:Music
ATTACH;FMTTYPE=image/jpeg:https://asburyparkchamber.com/wp-content/uploads/2025/06/John-Eddie-Wide-NEW.jpg
END:VEVENT
BEGIN:VEVENT
DTSTART;TZID=America/New_York:20250712T200000
DTEND;TZID=America/New_York:20250712T233000
DTSTAMP:20260423T084857
CREATED:20250613T155147Z
LAST-MODIFIED:20250613T155147Z
UID:10005453-1752350400-1752363000@asburyparkchamber.com
SUMMARY:Damn The Torpedoes Tom Petty Tribute at the Wonder Bar
DESCRIPTION:Damn the Torpedoes\n“The Live Tom Petty Concert Experience” \nDamn The Torpedoes is the definitive spot-on Petty Tribute! Every show is a celebration of everything Tom Petty and the Heartbreakers.\nJoin us at the Wonder for a two-set show loaded with Tom Petty & the Heartbreakers hits and fan favorites… a must see show for any Petty fan! DDT is a great live retrospective of the Petty music catalogue. Join us for a fun rocking Holiday Party at the Wonder Bar! \n$30.00 advance / $35.00 day of show (plus applicable service charges)\n21 AND UP
URL:https://asburyparkchamber.com/event/damn-the-torpedoes-tom-petty-tribute-at-the-wonder-bar/
LOCATION:Wonder Bar\, 1213 Ocean Ave\, Asbury Park\, 07712
CATEGORIES:Music
ATTACH;FMTTYPE=image/jpeg:https://asburyparkchamber.com/wp-content/uploads/2025/06/Damn-the-Torpedoes-2025.jpg
END:VEVENT
END:VCALENDAR