BEGIN:VCALENDAR
VERSION:2.0
PRODID:-//Asbury Park Chamber of Commerce - ECPv6.15.18//NONSGML v1.0//EN
CALSCALE:GREGORIAN
METHOD:PUBLISH
X-WR-CALNAME:Asbury Park Chamber of Commerce
X-ORIGINAL-URL:https://asburyparkchamber.com
X-WR-CALDESC:Events for Asbury Park Chamber of Commerce
REFRESH-INTERVAL;VALUE=DURATION:PT1H
X-Robots-Tag:noindex
X-PUBLISHED-TTL:PT1H
BEGIN:VTIMEZONE
TZID:America/New_York
BEGIN:DAYLIGHT
TZOFFSETFROM:-0500
TZOFFSETTO:-0400
TZNAME:EDT
DTSTART:20240310T070000
END:DAYLIGHT
BEGIN:STANDARD
TZOFFSETFROM:-0400
TZOFFSETTO:-0500
TZNAME:EST
DTSTART:20241103T060000
END:STANDARD
BEGIN:DAYLIGHT
TZOFFSETFROM:-0500
TZOFFSETTO:-0400
TZNAME:EDT
DTSTART:20250309T070000
END:DAYLIGHT
BEGIN:STANDARD
TZOFFSETFROM:-0400
TZOFFSETTO:-0500
TZNAME:EST
DTSTART:20251102T060000
END:STANDARD
BEGIN:DAYLIGHT
TZOFFSETFROM:-0500
TZOFFSETTO:-0400
TZNAME:EDT
DTSTART:20260308T070000
END:DAYLIGHT
BEGIN:STANDARD
TZOFFSETFROM:-0400
TZOFFSETTO:-0500
TZNAME:EST
DTSTART:20261101T060000
END:STANDARD
END:VTIMEZONE
BEGIN:VEVENT
DTSTART;TZID=America/New_York:20250928T120000
DTEND;TZID=America/New_York:20250928T170000
DTSTAMP:20260424T004114
CREATED:20250923T192341Z
LAST-MODIFIED:20250923T192341Z
UID:10005868-1759060800-1759078800@asburyparkchamber.com
SUMMARY:Asbury Park Fall Bazaar 2025
DESCRIPTION:ASBURY PARK FALL BAZAAR 2025\nSAT & SUN\, SEPT 27 & 28\, 12-5 PM\nGRAND ARCADE OF CONVENTION HALL\, ASBURY PARK\, NJ \nCelebrate local makers\, music and art – and OKTOBERFEST! – at the Asbury Park Fall Bazaar happening in the Grand Arcade at historic Convention Hall on Saturday & Sunday\, September 27 & 28\, from noon to 5 pm. Asbury Park Fall Bazaar is indoors\, free for all ages\, and pet friendly. \nAsbury Park Fall Bazaar will feature shopping from a curated market of makers from the Jersey Shore & beyond\, kids activities\, photo opps\, music\, workshops\, and delicious food\, libations and entertainment:\n* Unique Shopping: Explore a curated market featuring designers\, makers\, artists and collectors selling a wide array of gifts and goods. Check out our vendor list below!\n* Oktoberfest Celebration featuring food + drinks specials and live music. On Saturday\, don’t miss a performancy by Josh Zuckerman Trio & on Sunday music by DJ C WILL\n* Kids Activies including Face Painting with Kayla from Krissy Face Painting.\n* Snap Insta-worth fall photos at our photo wall designed by Stina Does It\n* Permanent Jewelry Bar: Forever Golden (Saturday) & Arm Vibes Bracelet Bar (Sunday)\n* Bead Bar: Create it and wear it at Zoe’s Project Bead Bar! Design your own custom bracelet (Saturday).\n* Food & Libations: SHUCKED Local 130 Seafood\, Mutiny Beach\, Betty’s Ice Box\, Offshore Coffee Co.\n* Vinyl Record Shopping: R&R Music & Records\n* Exclusive Giveaways: Be one of the first 25 shoppers through the door each day and receive a coveted Bazaar tote bag. \nVENDORS: \nSATURDAY\nA Girls Day\nArtistscent\nAshley’s Handmade Designs\nBeAbove Designs\nBeach Metal Photos\nCaviar Dreams\nCrystalmama.Nj\nDaphnew design\nFlyDyes\nForever Golden Permanent Jewelry\nGGYYcat illustration\nJB Couture Cupcakes\nJulie Mollo!\nLaplaca pottery works\nLily Lough Jewelry\nLittle Grasshoppers\nMadeBySarahJ\nModern Vintage Painters\nOh My Balm\nPostdigital Ink\nR&R Music- Records/ Music Memorabilia\nsanto marco accessories\nSea and Shore Soap Company\nShorecuterie\nSolo Souls\nThe Collected Vault\nTimberloom Woodworking\nTree Ya Later\nTwo Sense Studio \nSUNDAY\nArm Vibes Bracelet Bar\nBrain Wave Superfood Mushrooms\nAugust & Mae\ndordesign\nEveryday Dose Inc\nFrederick Family Co\nGrove 11\nGypsea Caravan\nHolly Jolly Jams\nHye Jane Jewelry\nIntention Blends\nJB Couture Cupcakes\nLaplaca pottery works\nLily May Pottery\nLittle Cheese Shop\nMaker Megan\nMorning Bloom Boutique\nPeru Guru Store\nQueen Pictoria\nQuilty Pleasure\nR&R Music- Records/ Music Memorabilia\nReptilian Revive\nRobey Boutique\nSavvy Fit Soaps\nSets on the beach\nStacey Lyn Designs\nTerra Candles Co.\nTidal Threads Boutique\nTree Ya Later\nFor more information\, visit. www.asburyparkbazaar.com
URL:https://asburyparkchamber.com/event/asbury-park-fall-bazaar-2025/2025-09-28/
LOCATION:The Grand Arcade of Asbury Park Convention Hall
CATEGORIES:Family
ATTACH;FMTTYPE=image/jpeg:https://asburyparkchamber.com/wp-content/uploads/2025/09/519416963_785530270478771_5592375197729579807_n-e1758655551901.jpg
ORGANIZER;CN="Asbury Park Bazaar":MAILTO:team@asburyparkbazaar.com
END:VEVENT
BEGIN:VEVENT
DTSTART;TZID=America/New_York:20250928T130000
DTEND;TZID=America/New_York:20250928T160000
DTSTAMP:20260424T004114
CREATED:20250829T134137Z
LAST-MODIFIED:20250829T134137Z
UID:10005816-1759064400-1759075200@asburyparkchamber.com
SUMMARY:SPUR Family Barn Dance
DESCRIPTION:SPUR PLANS FAMILY BARN DANCE FUNDRAISER\nPut on your dancing boots and grab your Stetson! \nSPUR (Special People United to Ride) is hosting its third annual fundraiser Family Barn Dance on Sunday\, September 28\, 2025. The event will be held in the Thompson Park Activity Barn\, 805 Newman Springs Road\, Lincroft\, from 1 pm to 4pm. \nProceeds will benefit various aspects of SPUR’s therapeutic horsemanship program. The SPUR Board of Directors raises monies for need-based SPUR lesson scholarships for individuals with disabilities\, funds horse purchases and horse retirements\, and provides other material assistance to the Monmouth County Park System for the implementation of SPUR programs.\nThe afternoon will be filled with music and line dancing instruction provided by BTK Entertainment. Pros from BTK will teach and lead line dancing. A 50/50 raffle is also planned.\nTickets are $10 for adults and $5 for children 10 years and under. They can be purchased at the door or online at spuronline.org. \nFor more information contact:\nKaren D. Jarmusz\nMonmouth County Park System\nLiaison to SPUR\n732-542-1642 X 24\nkjarmusz@monmouthcountyparks.com
URL:https://asburyparkchamber.com/event/spur-family-barn-dance/
LOCATION:Thompson Park Activity Center – Monmouth County Park System\, 805 Newman Springs Road\, Lincroft\, 07738
CATEGORIES:Family,Fundraiser
ATTACH;FMTTYPE=image/jpeg:https://asburyparkchamber.com/wp-content/uploads/2025/08/SPUR-Photo-1.jpg
ORGANIZER;CN="Karen Jarmusz":MAILTO:Karen.Jarmusz@co.monmouth.nj.us
END:VEVENT
BEGIN:VEVENT
DTSTART;TZID=America/New_York:20250928T170000
DTEND;TZID=America/New_York:20250928T220000
DTSTAMP:20260424T004114
CREATED:20250819T140930Z
LAST-MODIFIED:20250819T140930Z
UID:10005810-1759078800-1759096800@asburyparkchamber.com
SUMMARY:Sandy Mack's Wonder Jam at the Wonder Bar
DESCRIPTION:Sandy Mack’s Wonder Jam\nfeaturing Sandy Mack & Friends \nSandy Mack leads a stellar rotating house band for two long sets of classic rock\, jam and blues with plenty of good ol’ Grateful Dead! Doors art 5 and live music starts at 6 with special guest openers and surprise guest musicians. \nTo Jersey Shore music fans\, he is an ambassador of everything good about our music scene whose presence is familiar as a favorite club or neighborhood watering hole. To his fellow music makers\, he’s the go-to man for all manner of sessions and sitting-in situations — a blues harp ace who can stake out harmonious common ground with acoustic old-schoolers\, supercharged ax slingers\, roots rockers and alt-Americana songsmiths alike. Or\, as local radio linchpin Rich Robinson said\, “he could sit in with anybody like he’s played with them forever.” \nNote: The Wonder Bar opens at noon on Sundays with NFL Ticket.  Rock out to your favorite teams all day and Sandy Mack in the evening! \n21+ admitted\n$10 in advance plus applicable surcharges\, $10 at the door
URL:https://asburyparkchamber.com/event/sandy-macks-wonder-jam-at-the-wonder-bar-3/
LOCATION:Wonder Bar\, 1213 Ocean Ave\, Asbury Park\, 07712
CATEGORIES:Music
ATTACH;FMTTYPE=image/jpeg:https://asburyparkchamber.com/wp-content/uploads/2025/08/SANDY-WONDER-JAM-FB-BANNER-SIZE-1200-x-630-MADE-BY-DD-NO-TIME-1.jpg
END:VEVENT
BEGIN:VEVENT
DTSTART;TZID=America/New_York:20250928T183000
DTEND;TZID=America/New_York:20250928T220000
DTSTAMP:20260424T004114
CREATED:20250926T132640Z
LAST-MODIFIED:20250926T132640Z
UID:10005889-1759084200-1759096800@asburyparkchamber.com
SUMMARY:Hand Knit Chunky Blanket Workshop
DESCRIPTION:Follow along with the teacher to create a beautiful hand made cozy comfy blanket\, color of your choice. Once you learn this technique the possibilities are endless! Makes a great holiday gift!
URL:https://asburyparkchamber.com/event/hand-knit-chunky-blanket-workshop/
LOCATION:Uncorked Wine Inspired Creations\, 612 Cookman Ave\, Asbury Park\, NJ\, 07712\, United States
ATTACH;FMTTYPE=image/jpeg:https://asburyparkchamber.com/wp-content/uploads/2025/09/1479.jpg
ORGANIZER;CN="Uncorked Wine Inspired Creations":MAILTO:uncorkedwineinspired@gmail.com
END:VEVENT
BEGIN:VEVENT
DTSTART;TZID=America/New_York:20250928T190000
DTEND;TZID=America/New_York:20250928T203000
DTSTAMP:20260424T004114
CREATED:20250813T130332Z
LAST-MODIFIED:20250813T130704Z
UID:10005766-1759086000-1759091400@asburyparkchamber.com
SUMMARY:The Original Asbury Park Ghost Tours
DESCRIPTION:Paranormal Books & Curiosities is a boutique destination located in the heart of historic downtown Asbury Park. Located at 621 Cookman Avenue\, the shop offers a one-of-a-kind blend of paranormal literature\, spiritual supplies\, curious artifacts\, and immersive supernatural experiences. It’s a place where history\, mystery\, and magic converge\, welcoming skeptics and believers alike. \nIn addition to its thoughtfully curated selection of books\, the shop is home to two of Asbury Park’s most unique attractions: The Paranormal Museum and the Original Asbury Park Ghost Tours. \nThe Paranormal Museum features an eerie and intriguing collection that includes haunted dolls\, vintage Ouija boards\, cursed objects\, and rotating exhibits such as “Famous Haunts of the USA.” Visitors can explore these displays through private\, docent-led tours designed to educate\, entertain\, and unsettle. The museum offers a rare opportunity to engage directly with the unexplained and the uncanny. \nThe Original Asbury Park Ghost Tours—created by founder and local paranormal expert Kathy Kelly—invite guests to walk the haunted streets and discover the city’s darker side. These tours weave together historical events\, local legends\, and first-hand accounts of ghostly encounters to reveal a side of Asbury Park rarely seen in the daylight. \nWhether you’re fascinated by folklore\, intrigued by the supernatural\, or simply looking for a memorable experience\, Paranormal Books & Curiosities promises an unforgettable journey into the unknown.
URL:https://asburyparkchamber.com/event/the-original-asbury-park-ghost-tours/2025-09-28/
LOCATION:The Paranormal Museum\, 621 Cookman Ave\, Asbury Park\, N\, 07712\, United States
ATTACH;FMTTYPE=image/png:https://asburyparkchamber.com/wp-content/uploads/2025/08/Screenshot-2025-08-12-at-5.14.26-PM-e1755090411879.png
ORGANIZER;CN="Paranormal Books and Curiosities":MAILTO:info@paranormalbooksnj.com
END:VEVENT
BEGIN:VEVENT
DTSTART;TZID=America/New_York:20250928T190000
DTEND;TZID=America/New_York:20250928T230000
DTSTAMP:20260424T004114
CREATED:20250829T143611Z
LAST-MODIFIED:20250829T143611Z
UID:10005827-1759086000-1759100400@asburyparkchamber.com
SUMMARY:Christone “Kingfish” Ingram The Hard Road World Tour with special guest Dylan Triplett at the Stone Pony
DESCRIPTION:Grammy-winning guitarist\, vocalist and songwriter Christone “Kingfish” Ingram has quickly become the defining blues voice of his generation. From his hometown of Clarksdale\, Mississippi to stages around the globe\, the young blues star has already headlined multiple U.S. and European tours\, and amazed fans in Australia\, New Zealand\, Japan\, Canada and India. Selected in summer 2022 to open for the Rolling Stones in London’s Hyde Park\, Kingfish has also performed and toured with friends including Vampire Weekend\, Jason Isbell\, Steve Miller and Buddy Guy\, a mentor of his\, with whom he appeared on Austin City Limits.\nSince he burst onto the scene in 2019\, Ingram has been nominated for 12 Blues Music Awards and won them all. Rolling Stone declared\, “Kingfish is one of the most exciting young guitarists in years\, with a sound that encompasses B.B. King\, Jimi Hendrix and Prince.”\nSparked by his non-stop touring\, writing and recording schedule\, Kingfish’s natural talent just keeps growing. With his jaw-dropping guitar playing and his reach-out-and-grab-you-by-the-collar vocals\, he performs every song with unmatched passion and precision. To see him live in person is an onstage snapshot of the young singer\, songwriter and guitarist creating musical magic in real time\, leaving his listeners spellbound and always wanting more. \nVIP package available includes:\n■ Preshow soundcheck opportunity with Christone “Kingfish” Ingram\n■ Exclusive autographed item\n■ Limited availability
URL:https://asburyparkchamber.com/event/christone-kingfish-ingram-the-hard-road-world-tour-with-special-guest-dylan-triplett-at-the-stone-pony/
LOCATION:The Stone Pony
CATEGORIES:Music
ATTACH;FMTTYPE=image/jpeg:https://asburyparkchamber.com/wp-content/uploads/2025/08/Kingfish_TheHardRoadTour_FB_IG_feed_1080x1350_ADMAT-layered.psd.jpg
END:VEVENT
END:VCALENDAR