BEGIN:VCALENDAR
VERSION:2.0
PRODID:-//Asbury Park Chamber of Commerce - ECPv6.15.18//NONSGML v1.0//EN
CALSCALE:GREGORIAN
METHOD:PUBLISH
X-ORIGINAL-URL:https://asburyparkchamber.com
X-WR-CALDESC:Events for Asbury Park Chamber of Commerce
REFRESH-INTERVAL;VALUE=DURATION:PT1H
X-Robots-Tag:noindex
X-PUBLISHED-TTL:PT1H
BEGIN:VTIMEZONE
TZID:America/New_York
BEGIN:DAYLIGHT
TZOFFSETFROM:-0500
TZOFFSETTO:-0400
TZNAME:EDT
DTSTART:20240310T070000
END:DAYLIGHT
BEGIN:STANDARD
TZOFFSETFROM:-0400
TZOFFSETTO:-0500
TZNAME:EST
DTSTART:20241103T060000
END:STANDARD
BEGIN:DAYLIGHT
TZOFFSETFROM:-0500
TZOFFSETTO:-0400
TZNAME:EDT
DTSTART:20250309T070000
END:DAYLIGHT
BEGIN:STANDARD
TZOFFSETFROM:-0400
TZOFFSETTO:-0500
TZNAME:EST
DTSTART:20251102T060000
END:STANDARD
BEGIN:DAYLIGHT
TZOFFSETFROM:-0500
TZOFFSETTO:-0400
TZNAME:EDT
DTSTART:20260308T070000
END:DAYLIGHT
BEGIN:STANDARD
TZOFFSETFROM:-0400
TZOFFSETTO:-0500
TZNAME:EST
DTSTART:20261101T060000
END:STANDARD
END:VTIMEZONE
BEGIN:VEVENT
DTSTART;TZID=America/New_York:20251001T080000
DTEND;TZID=America/New_York:20251001T170000
DTSTAMP:20260424T022727
CREATED:20250923T155554Z
LAST-MODIFIED:20250923T155554Z
UID:10005862-1759305600-1759338000@asburyparkchamber.com
SUMMARY:Uncorked Wine Inspired Creations October Calendar
DESCRIPTION:Join us in October for an autumnal Sip & Paint event! \nNo prior experience is necessary; simply follow the guidance of a certified acrylic art instructor to create a beautiful 16×20 canvas for your home. This beginner-friendly class is BYOB. \nSee the full schedule at www.uncorkedwineinspired.com
URL:https://asburyparkchamber.com/event/uncorked-wine-inspired-creations-october-calendar/
LOCATION:Uncorked Wine Inspired Creations\, 612 Cookman Ave\, Asbury Park\, NJ\, 07712\, United States
CATEGORIES:Art & Culture
ATTACH;FMTTYPE=image/jpeg:https://asburyparkchamber.com/wp-content/uploads/2025/09/3262-scaled.jpg
ORGANIZER;CN="Uncorked Wine Inspired Creations":MAILTO:uncorkedwineinspired@gmail.com
END:VEVENT
BEGIN:VEVENT
DTSTART;TZID=America/New_York:20251001T080000
DTEND;TZID=America/New_York:20251001T230000
DTSTAMP:20260424T022727
CREATED:20251001T151140Z
LAST-MODIFIED:20251001T151140Z
UID:10006105-1759305600-1759359600@asburyparkchamber.com
SUMMARY:Happy October!! Habitat for Humanity 20% OFF this week!
DESCRIPTION:Happy October! 🎃👻\nVisit and shop at Asbury Park’s Habitat for Humanity Restore for 20% off this week! \n1105 Memorial Dr\nAsbury Park\, NJ 07712
URL:https://asburyparkchamber.com/event/happy-october-habitat-for-humanity-20-off-this-week/
LOCATION:Coastal Habitat for Humanity ReStore\, 1105 Memorial Dr.\, Asbury Park\, NJ\, 07712\, United States
CATEGORIES:Family
ATTACH;FMTTYPE=image/jpeg:https://asburyparkchamber.com/wp-content/uploads/2025/10/557737626_18531628138008605_252431572022180832_n.jpg
END:VEVENT
BEGIN:VEVENT
DTSTART;TZID=America/New_York:20251001T190000
DTEND;TZID=America/New_York:20251001T230000
DTSTAMP:20260424T022727
CREATED:20250909T200009Z
LAST-MODIFIED:20250909T200009Z
UID:10005843-1759345200-1759359600@asburyparkchamber.com
SUMMARY:MELVINS REDD KROSS Stop Your Whining Tour USA 2025 at the Stone Pony
DESCRIPTION:MELVINS\nREDD KROSS\nStop Your Whining Tour USA 2025 \nThe Melvins are one of modern music’s most influential bands. Having formed in 1983 in Montesano\, Washington\, the group – founded by vocalist/guitarist Buzz Osborne\, with drummer Dale Crover joining a year later – has been credited with merging the worlds of punk rock and heavy music\, forming a new subgenre all their own. Over their 40-plus-year career\, they’ve released more than 30 original albums\, numerous live records\, and far too many to count singles and rarities. Recent releases include 2024’s Tarantula Heart\, a good collection of what the Melvins do\, what they can do and what they want to do\, and Five Legged Dog (2021)\, an ambitious 36-track acoustic collection that  reimagines their heaviest songs alongside covers of their favorite artists. Throughout their discography\, the Melvins have collaborated with Jello Biafra\, Mudhoney\, and Fantômas for individual releases and toured the world many times over. Remarkably\, they had the misfortune to be in both Christchurch and Tokyo for their 2011 earthquakes. In 2012\, the Melvins completed the “51 States in 51 Days” (50 states +DC) tour\, which was chronicled in the film “Across The USA in 51 Days.” The current incarnation of the band is Osborne\, Crover\, and Steven McDonald (Redd Kross). Previous lineups included a pairing of Osborne and Crover with Jared Warren and Coady Willis of Big Business\, a four-piece featuring the current trio plus Jeff Pinkus\, as well as Melvins Lite\, which partners Osborne and Crover with Mr. Bungle’s Trevor Dunn.
URL:https://asburyparkchamber.com/event/melvins-redd-kross-stop-your-whining-tour-usa-2025-at-the-stone-pony/
LOCATION:The Stone Pony
CATEGORIES:Music
ATTACH;FMTTYPE=image/jpeg:https://asburyparkchamber.com/wp-content/uploads/2025/09/tempImagedu0aX3.jpg
END:VEVENT
BEGIN:VEVENT
DTSTART;TZID=America/New_York:20251001T200000
DTEND;TZID=America/New_York:20251001T223000
DTSTAMP:20260424T022727
CREATED:20251001T144216Z
LAST-MODIFIED:20251001T144314Z
UID:10005925-1759348800-1759357800@asburyparkchamber.com
SUMMARY:Free Music at Palmetto!
DESCRIPTION:Palmetto has free music every Wednesday\, Friday and Saturday in October! \nWednesday shows 8:00PM\nFriday shows 9:00PM\nSaturday shows 10:00PM \nSchedule below:\n10/1/25 – Joe P\n10/3/25 – Make America House Again\n10/4/25 – DJ Carly Spins\n10/8/25 – Destinee Monroe & Karlee Bloom\n10/10/25 – Chemical Wave with Mike Z & Ted Wrigley\n10/11/25 – Salsa Fiesta with Xol Azul\n10/15/25 – Destinee Monroe & Karlee Bloom\n10/17/25 – Flea Market Funk with PRESTIGE\n10/18/25 – Describe & the Swagmatics\n10/22/25 – Steven & Johnny (from Burlap to Cashmere)\n10/24/25 – KRUSH\n10/25/25 – Boardwalk Rewind with Mick Hale and Drew Melodrama\n10/29/25 – Destinee Monroe & Karlee Bloom\n10/31/25 – PepeLoco\, Miss Cookie & Lova Hames
URL:https://asburyparkchamber.com/event/free-music-at-palmetto/2025-10-01/
LOCATION:Palmetto Southern Kitchen + Bar\, 1000 Ocean Avenue\, Asbury Park\, 07712
CATEGORIES:Music
ATTACH;FMTTYPE=image/jpeg:https://asburyparkchamber.com/wp-content/uploads/2025/10/Palmetto-e1759330571300.jpeg
END:VEVENT
END:VCALENDAR