BEGIN:VCALENDAR
VERSION:2.0
PRODID:-//Asbury Park Chamber of Commerce - ECPv6.15.18//NONSGML v1.0//EN
CALSCALE:GREGORIAN
METHOD:PUBLISH
X-ORIGINAL-URL:https://asburyparkchamber.com
X-WR-CALDESC:Events for Asbury Park Chamber of Commerce
REFRESH-INTERVAL;VALUE=DURATION:PT1H
X-Robots-Tag:noindex
X-PUBLISHED-TTL:PT1H
BEGIN:VTIMEZONE
TZID:America/New_York
BEGIN:DAYLIGHT
TZOFFSETFROM:-0500
TZOFFSETTO:-0400
TZNAME:EDT
DTSTART:20240310T070000
END:DAYLIGHT
BEGIN:STANDARD
TZOFFSETFROM:-0400
TZOFFSETTO:-0500
TZNAME:EST
DTSTART:20241103T060000
END:STANDARD
BEGIN:DAYLIGHT
TZOFFSETFROM:-0500
TZOFFSETTO:-0400
TZNAME:EDT
DTSTART:20250309T070000
END:DAYLIGHT
BEGIN:STANDARD
TZOFFSETFROM:-0400
TZOFFSETTO:-0500
TZNAME:EST
DTSTART:20251102T060000
END:STANDARD
BEGIN:DAYLIGHT
TZOFFSETFROM:-0500
TZOFFSETTO:-0400
TZNAME:EDT
DTSTART:20260308T070000
END:DAYLIGHT
BEGIN:STANDARD
TZOFFSETFROM:-0400
TZOFFSETTO:-0500
TZNAME:EST
DTSTART:20261101T060000
END:STANDARD
END:VTIMEZONE
BEGIN:VEVENT
DTSTART;TZID=America/New_York:20251015T180000
DTEND;TZID=America/New_York:20251015T200000
DTSTAMP:20260425T164212
CREATED:20250925T182005Z
LAST-MODIFIED:20250925T182212Z
UID:10005887-1760551200-1760558400@asburyparkchamber.com
SUMMARY:Business Made Social - APCC Networking Event at the Asbury Park Brewery 🍺
DESCRIPTION:It’s Oktoberfest season! 🍻 🎃 \nWill you be joining us for our October Business Made Social? We’ll be at Asbury Park Brewery on October 15th from 6pm – 8pm. \n$15 Members / $20 Non-Members \nHope to see you there!
URL:https://asburyparkchamber.com/event/business-made-social-apcc-networking-event-at-the-asbury-park-brewery-%f0%9f%8d%ba/
LOCATION:Asbury Park Brewery\, 614 Cookman Ave.\, Suite 1\, Asbury Park\, 07712
CATEGORIES:Networking
ATTACH;FMTTYPE=image/jpeg:https://asburyparkchamber.com/wp-content/uploads/2025/09/550872557_1240442351451923_7991051001097983245_n.jpg
ORGANIZER;CN="Asbury Park Chamber":MAILTO:info@asburyparkchamber.com
END:VEVENT
BEGIN:VEVENT
DTSTART;TZID=America/New_York:20251015T200000
DTEND;TZID=America/New_York:20251015T223000
DTSTAMP:20260425T164212
CREATED:20251001T144216Z
LAST-MODIFIED:20251001T144314Z
UID:10005927-1760558400-1760567400@asburyparkchamber.com
SUMMARY:Free Music at Palmetto!
DESCRIPTION:Palmetto has free music every Wednesday\, Friday and Saturday in October! \nWednesday shows 8:00PM\nFriday shows 9:00PM\nSaturday shows 10:00PM \nSchedule below:\n10/1/25 – Joe P\n10/3/25 – Make America House Again\n10/4/25 – DJ Carly Spins\n10/8/25 – Destinee Monroe & Karlee Bloom\n10/10/25 – Chemical Wave with Mike Z & Ted Wrigley\n10/11/25 – Salsa Fiesta with Xol Azul\n10/15/25 – Destinee Monroe & Karlee Bloom\n10/17/25 – Flea Market Funk with PRESTIGE\n10/18/25 – Describe & the Swagmatics\n10/22/25 – Steven & Johnny (from Burlap to Cashmere)\n10/24/25 – KRUSH\n10/25/25 – Boardwalk Rewind with Mick Hale and Drew Melodrama\n10/29/25 – Destinee Monroe & Karlee Bloom\n10/31/25 – PepeLoco\, Miss Cookie & Lova Hames
URL:https://asburyparkchamber.com/event/free-music-at-palmetto/2025-10-15/
LOCATION:Palmetto Southern Kitchen + Bar\, 1000 Ocean Avenue\, Asbury Park\, 07712
CATEGORIES:Music
ATTACH;FMTTYPE=image/jpeg:https://asburyparkchamber.com/wp-content/uploads/2025/10/Palmetto-e1759330571300.jpeg
END:VEVENT
END:VCALENDAR