BEGIN:VCALENDAR
VERSION:2.0
PRODID:-//Asbury Park Chamber of Commerce - ECPv6.15.18//NONSGML v1.0//EN
CALSCALE:GREGORIAN
METHOD:PUBLISH
X-ORIGINAL-URL:https://asburyparkchamber.com
X-WR-CALDESC:Events for Asbury Park Chamber of Commerce
REFRESH-INTERVAL;VALUE=DURATION:PT1H
X-Robots-Tag:noindex
X-PUBLISHED-TTL:PT1H
BEGIN:VTIMEZONE
TZID:America/New_York
BEGIN:DAYLIGHT
TZOFFSETFROM:-0500
TZOFFSETTO:-0400
TZNAME:EDT
DTSTART:20250309T070000
END:DAYLIGHT
BEGIN:STANDARD
TZOFFSETFROM:-0400
TZOFFSETTO:-0500
TZNAME:EST
DTSTART:20251102T060000
END:STANDARD
BEGIN:DAYLIGHT
TZOFFSETFROM:-0500
TZOFFSETTO:-0400
TZNAME:EDT
DTSTART:20260308T070000
END:DAYLIGHT
BEGIN:STANDARD
TZOFFSETFROM:-0400
TZOFFSETTO:-0500
TZNAME:EST
DTSTART:20261101T060000
END:STANDARD
BEGIN:DAYLIGHT
TZOFFSETFROM:-0500
TZOFFSETTO:-0400
TZNAME:EDT
DTSTART:20270314T070000
END:DAYLIGHT
BEGIN:STANDARD
TZOFFSETFROM:-0400
TZOFFSETTO:-0500
TZNAME:EST
DTSTART:20271107T060000
END:STANDARD
END:VTIMEZONE
BEGIN:VEVENT
DTSTART;TZID=America/New_York:20260116T170000
DTEND;TZID=America/New_York:20260116T193000
DTSTAMP:20260423T154733
CREATED:20260115T201522Z
LAST-MODIFIED:20260115T201522Z
UID:10007089-1768582800-1768591800@asburyparkchamber.com
SUMMARY:🎥 Movies by the Sea 🌊: Ice Age - Collision Course at the Showroom Cinema  🍿
DESCRIPTION:Movies by the Sea is back with Ice Age: Collision Course on Friday\, January 16\, 2026\, at the ShowRoom Cinema\, 707 Cookman Avenue. Showtime is 5pm. Admission is free and includes popcorn and one drink. Tickets are limited and available at 732-502-5753. Free municipal parking available.
URL:https://asburyparkchamber.com/event/%f0%9f%8e%a5-movies-by-the-sea-%f0%9f%8c%8a-ice-age-collision-course-at-the-showroom-cinema-%f0%9f%8d%bf/
LOCATION:Showroom Cinema\, 707 Cookman ave\, Asbury Park\, NJ
CATEGORIES:Family
ATTACH;FMTTYPE=image/jpeg:https://asburyparkchamber.com/wp-content/uploads/2026/01/Movies-Ice-Age-1-2026.jpg
END:VEVENT
BEGIN:VEVENT
DTSTART;TZID=America/New_York:20260116T180000
DTEND;TZID=America/New_York:20260116T200000
DTSTAMP:20260423T154733
CREATED:20251103T165139Z
LAST-MODIFIED:20251103T165139Z
UID:10006588-1768586400-1768593600@asburyparkchamber.com
SUMMARY:The Four Horsemen - Tribute to Metallica
DESCRIPTION:Welcome to House of Independents in Asbury Park\, New Jersey – the ultimate destination for live music lovers! On January 16\, 2026\, get ready to rock out with The Four Horsemen – Tribute to Metallica. This electrifying tribute band will transport you to the heyday of Metallica with their authentic sound and high-energy performance. \nHouse of Independents is the perfect venue to experience this epic show. Located in the heart of Asbury Park\, this intimate space allows you to get up close and personal with the music. With state-of-the-art sound and lighting\, you’ll feel like you’re front row at a Metallica concert. \nDon’t miss your chance to be part of this unforgettable night. Grab your tickets now and join us at House of Independents for The Four Horsemen – Tribute to Metallica. Get ready to headbang\, sing along\, and make memories that will last a lifetime. See you there!
URL:https://asburyparkchamber.com/event/the-four-horsemen-tribute-to-metallica/
LOCATION:House of Independents\, 572 Cookman Avenue\, Asbury Park\, NJ\, 07712\, United States
ATTACH;FMTTYPE=image/jpeg:https://asburyparkchamber.com/wp-content/uploads/2025/11/The-Four-Horsemen-Tribute-to-Metallica.jpg
END:VEVENT
BEGIN:VEVENT
DTSTART;TZID=America/New_York:20260116T183000
DTEND;TZID=America/New_York:20260116T223000
DTSTAMP:20260423T154733
CREATED:20251125T172100Z
LAST-MODIFIED:20260106T164650Z
UID:10006710-1768588200-1768602600@asburyparkchamber.com
SUMMARY:LOD Winterfest 26 Presents Dramarama with The Weeklings
DESCRIPTION:The Light of Day Foundation utilizes the awesome power of music to raise money and awareness in its quest to end Parkinson’s disease and its related illnesses ALS (Amyotrophic Lateral Sclerosis) and PSP (Progressive Supranuclear Palsy) within our lifetime. We award grants to fund research and education\, to improve therapies and to provide support for those who suffer from these diseases and their caregivers. \nPlease visit https://lightofday.org for more information on the Light of Day events \n$32 in advance (plus applicable surcharges)\, $37 at the door
URL:https://asburyparkchamber.com/event/light-of-day-winterfest-26-presents-friday-night-at-the-wonder-bar-dramarama/
LOCATION:Wonder Bar\, 1213 Ocean Ave\, Asbury Park\, 07712
CATEGORIES:Fundraiser,Music
ATTACH;FMTTYPE=image/jpeg:https://asburyparkchamber.com/wp-content/uploads/2025/11/03-FBevent_1920x915_Wonderbar_v7-sr_copy-e1767717999337.jpg
END:VEVENT
BEGIN:VEVENT
DTSTART;TZID=America/New_York:20260116T183000
DTEND;TZID=America/New_York:20260116T233000
DTSTAMP:20260423T154733
CREATED:20251202T164901Z
LAST-MODIFIED:20260107T190116Z
UID:10006745-1768588200-1768606200@asburyparkchamber.com
SUMMARY:Light of Day Winterfest - Five Decades of Willie Nile at the Stone Pony
DESCRIPTION:Light Of Day WinterFest 26 presents\nWillie Nile\, Grushecky & The Houserockers\, Tangiers Blues Band & Friends\, Bobby Mahoney\, Milly & more! \n6:40-7:00 Ten Ton Mojo \n7:00-7:10 Strumberry Pie \n7:10-7:30 Bobby Mahoney \n7:30-7:40 Jon Caspi \n7:40-8:00 Least Of Thieves \n8:00–8:10 Danielia Cotton \n8:10-8:35 Milly The Band \n8:35-8:45 Miss Emily \n8:45-9:10 Williams Honor \n9:10-9:20 Will Dailey \n9:20-9:55 Joe Grushecky & The Houserockers \n9:55-10:05 LOD Speaks – Josh Ashley \n10:05-10:45 Willie Nile \n10:45-10:55 Evan Rotella \n10:55-End Tangiers Blues Band & Friends with Danny Clinch \n$32 in advance (plus applicable surcharges)\, $37 at the door
URL:https://asburyparkchamber.com/event/light-of-day-winterfest-five-decades-if-willie-nile/
LOCATION:The Stone Pony
CATEGORIES:Music
ATTACH;FMTTYPE=image/jpeg:https://asburyparkchamber.com/wp-content/uploads/2025/12/lodnile-new-e1767807141382.jpg
END:VEVENT
BEGIN:VEVENT
DTSTART;TZID=America/New_York:20260116T190000
DTEND;TZID=America/New_York:20260116T220000
DTSTAMP:20260423T154733
CREATED:20260106T164405Z
LAST-MODIFIED:20260106T165005Z
UID:10006828-1768590000-1768600800@asburyparkchamber.com
SUMMARY:LOD Winterfest 26 Soundbooth at the Asbury Hotel
DESCRIPTION:LOD WinterFest 26 Soundbooth \nLindsay Jordan\nSomewhat Relative\nTaylor James Davis \nFree Admission
URL:https://asburyparkchamber.com/event/lod-winterfest-26-soundbooth/
LOCATION:The Asbury Hotel\, 210 5th Ave\, Asbury Park\, NJ\, 07712\, United States
CATEGORIES:Music
ATTACH;FMTTYPE=image/jpeg:https://asburyparkchamber.com/wp-content/uploads/2026/01/12-FBevent_1920x915_Soundbooth_AsbHotel_1-16_v2-sr_copy.jpg
END:VEVENT
BEGIN:VEVENT
DTSTART;TZID=America/New_York:20260116T193000
DTEND;TZID=America/New_York:20260116T230000
DTSTAMP:20260423T154733
CREATED:20260106T170453Z
LAST-MODIFIED:20260106T170453Z
UID:10006829-1768591800-1768604400@asburyparkchamber.com
SUMMARY:Light of Day Winterfest 26 Tim McLoone & the Shirleys at McLoones
DESCRIPTION:Tim McLoone and The Shirleys.\n“Tim Mcloone has been a staunch and generous supporter of the Light of Day Foundation for 18 years however this is the first time the he and his incredible band have ever performed during Light of Day WinterFest. It’s most certainly long overdue and we are thrilled to finally have them!”   \nTHE DANCE FLOOR WILL BE OPEN FOR DANCING! \nDoors open 6:00pm for dining \nShow Starts: 7:30pm – 11:00pm
URL:https://asburyparkchamber.com/event/light-of-day-winterfest-26-tim-mcloone-the-shirleys-at-mcloones/
LOCATION:Tim McLoone’s Supper Club\, 1200 Ocean Ave\, Asbury Park\, 07712
CATEGORIES:Music
ATTACH;FMTTYPE=image/jpeg:https://asburyparkchamber.com/wp-content/uploads/2026/01/18-FBcover_1920x915_Mccloones_1-16_v4-sr_copy.jpg
END:VEVENT
END:VCALENDAR