BEGIN:VCALENDAR
VERSION:2.0
PRODID:-//Asbury Park Chamber of Commerce - ECPv6.15.18//NONSGML v1.0//EN
CALSCALE:GREGORIAN
METHOD:PUBLISH
X-ORIGINAL-URL:https://asburyparkchamber.com
X-WR-CALDESC:Events for Asbury Park Chamber of Commerce
REFRESH-INTERVAL;VALUE=DURATION:PT1H
X-Robots-Tag:noindex
X-PUBLISHED-TTL:PT1H
BEGIN:VTIMEZONE
TZID:America/New_York
BEGIN:DAYLIGHT
TZOFFSETFROM:-0500
TZOFFSETTO:-0400
TZNAME:EDT
DTSTART:20250309T070000
END:DAYLIGHT
BEGIN:STANDARD
TZOFFSETFROM:-0400
TZOFFSETTO:-0500
TZNAME:EST
DTSTART:20251102T060000
END:STANDARD
BEGIN:DAYLIGHT
TZOFFSETFROM:-0500
TZOFFSETTO:-0400
TZNAME:EDT
DTSTART:20260308T070000
END:DAYLIGHT
BEGIN:STANDARD
TZOFFSETFROM:-0400
TZOFFSETTO:-0500
TZNAME:EST
DTSTART:20261101T060000
END:STANDARD
BEGIN:DAYLIGHT
TZOFFSETFROM:-0500
TZOFFSETTO:-0400
TZNAME:EDT
DTSTART:20270314T070000
END:DAYLIGHT
BEGIN:STANDARD
TZOFFSETFROM:-0400
TZOFFSETTO:-0500
TZNAME:EST
DTSTART:20271107T060000
END:STANDARD
END:VTIMEZONE
BEGIN:VEVENT
DTSTART;TZID=America/New_York:20260119T080000
DTEND;TZID=America/New_York:20260119T200000
DTSTAMP:20260423T154743
CREATED:20260120T145251Z
LAST-MODIFIED:20260120T145251Z
UID:10007110-1768809600-1768852800@asburyparkchamber.com
SUMMARY:Martin Luther King\, Jr. Day
DESCRIPTION:The Asbury Park Chamber of Commerce will be closed in observance of Martin Luther King\, Jr. Day
URL:https://asburyparkchamber.com/event/martin-luther-king-jr-day/
LOCATION:Asbury Park
CATEGORIES:Art & Culture
ATTACH;FMTTYPE=image/jpeg:https://asburyparkchamber.com/wp-content/uploads/2026/01/615336713_1319838880189947_2768312232236467270_n-e1768920763555.jpg
ORGANIZER;CN="Asbury Park Chamber":MAILTO:info@asburyparkchamber.com
END:VEVENT
BEGIN:VEVENT
DTSTART;TZID=America/New_York:20260119T150000
DTEND;TZID=America/New_York:20260119T170000
DTSTAMP:20260423T154743
CREATED:20260109T155615Z
LAST-MODIFIED:20260109T155615Z
UID:10006894-1768834800-1768842000@asburyparkchamber.com
SUMMARY:Self Care with Art Workshops at the Center in Asbury 👨🏾‍🎨
DESCRIPTION:ART with Nelson. Part of Mind Body Spirit\, this workshop focuses on expression. All materials provided. \nFree and open to everyone in the community! \nMonday & Wednesday from 3-5 pm.  \nMeet at The Center\, 806 Third Ave entrance.
URL:https://asburyparkchamber.com/event/self-care-with-art-workshops-at-the-center-in-asbury-%f0%9f%91%a8%f0%9f%8f%be%f0%9f%8e%a8/2026-01-19/
LOCATION:The Center\, 806 3rd Ave\, Asbury Park
CATEGORIES:Art & Culture
ATTACH;FMTTYPE=image/png:https://asburyparkchamber.com/wp-content/uploads/2026/01/8af527_7fa72a0d6bd94b7f8af8868b31135e31mv2.png
ORGANIZER;CN="The Center":MAILTO:mail@thecenterinap.com
END:VEVENT
BEGIN:VEVENT
DTSTART;TZID=America/New_York:20260119T170000
DTEND;TZID=America/New_York:20260119T210000
DTSTAMP:20260423T154743
CREATED:20260120T144828Z
LAST-MODIFIED:20260120T144828Z
UID:10007109-1768842000-1768856400@asburyparkchamber.com
SUMMARY:Do You Still Dream - A Play About MLK\, Jr. at the Second Baptist Church
DESCRIPTION:As we honor Dr. Martin Luther King\, Jr. We come to Asbury Park to celebrate the day at the historic Second Baptist Church of Asbury Park with the stage play\, Do You Still Dream. Written by award winning playwright\, Kenneth Craddox of Bishop’s Kid Productions. Before we stage this production at the Midtown Theater Festival in Manhattan\, this production returns to the roots of the playwright\, Asbury Park. All seats are FREE as we honor this great leader. Come join us for an amazing day of celebration. \nFREE EVENT \nDoors 5pm\nShow 6pm
URL:https://asburyparkchamber.com/event/do-you-still-dream-a-play-about-mlk-jr-at-the-second-baptist-church/
LOCATION:Second Baptist Church\, 124 Atkins Ave\, Asbury Park\, 07712
CATEGORIES:Art & Culture
ATTACH;FMTTYPE=image/jpeg:https://asburyparkchamber.com/wp-content/uploads/2026/01/616819311_10174256457730599_4978557567320507111_n-e1768920499109.jpg
ORGANIZER;CN="Second Baptist Church":MAILTO:info@sbcapnj.org
END:VEVENT
BEGIN:VEVENT
DTSTART;TZID=America/New_York:20260119T190000
DTEND;TZID=America/New_York:20260119T200000
DTSTAMP:20260423T154743
CREATED:20260106T180609Z
LAST-MODIFIED:20260106T180609Z
UID:10006839-1768849200-1768852800@asburyparkchamber.com
SUMMARY:Yoga 101 - Intro to Yoga Series at Kur Studios
DESCRIPTION:There are a few spots left to sign-up for our Intro to Yoga 101 Series coming up 🧘🏼 Mondays in January\, starting 1/5 @ 7:00pm ✨ Sign up online – $99 for all four Mondays. Includes a personal yoga mat to keep. 🧡\nDesigned specifically for all who have wanted to try yoga but have found it hard to walk into a classroom. Learn the basics of a modern yoga practice in a safe\, supportive environment. 🧡\nJoin us for this closed-group 4-week series and discover the feel-good factor of yoga\, ready to:\n💫Feel confident to walk into any yoga class\n💫Perform basic poses (asanas)\n💫Understand proper alignment needed for safe practice\n💫Participate in breathing and meditation techniques\n💫Appreciate the core philosophies behind this ancient tradition\nInstructors will be available to answer questions during the series and provide guidance as to which classes to attend in order to start or continue a regular yoga practice. All you need to do is bring your body\, explore your boundaries\, and have fun! All fitness levels welcome.
URL:https://asburyparkchamber.com/event/yoga-101-intro-to-yoga-series-at-kur-studios/2026-01-19/
LOCATION:Kur Wellness Studios\, 412 Bond Street\, Asbury Park\, 07712
CATEGORIES:Sports
ATTACH;FMTTYPE=image/jpeg:https://asburyparkchamber.com/wp-content/uploads/2026/01/606880734_1368376661969460_4520921204631268525_n.jpg
ORGANIZER;CN="Kur Wellness Studios":MAILTO:info@kurstudios.com
END:VEVENT
END:VCALENDAR