BEGIN:VCALENDAR
VERSION:2.0
PRODID:-//Asbury Park Chamber of Commerce - ECPv6.15.18//NONSGML v1.0//EN
CALSCALE:GREGORIAN
METHOD:PUBLISH
X-WR-CALNAME:Asbury Park Chamber of Commerce
X-ORIGINAL-URL:https://asburyparkchamber.com
X-WR-CALDESC:Events for Asbury Park Chamber of Commerce
REFRESH-INTERVAL;VALUE=DURATION:PT1H
X-Robots-Tag:noindex
X-PUBLISHED-TTL:PT1H
BEGIN:VTIMEZONE
TZID:America/New_York
BEGIN:DAYLIGHT
TZOFFSETFROM:-0500
TZOFFSETTO:-0400
TZNAME:EDT
DTSTART:20250309T070000
END:DAYLIGHT
BEGIN:STANDARD
TZOFFSETFROM:-0400
TZOFFSETTO:-0500
TZNAME:EST
DTSTART:20251102T060000
END:STANDARD
BEGIN:DAYLIGHT
TZOFFSETFROM:-0500
TZOFFSETTO:-0400
TZNAME:EDT
DTSTART:20260308T070000
END:DAYLIGHT
BEGIN:STANDARD
TZOFFSETFROM:-0400
TZOFFSETTO:-0500
TZNAME:EST
DTSTART:20261101T060000
END:STANDARD
BEGIN:DAYLIGHT
TZOFFSETFROM:-0500
TZOFFSETTO:-0400
TZNAME:EDT
DTSTART:20270314T070000
END:DAYLIGHT
BEGIN:STANDARD
TZOFFSETFROM:-0400
TZOFFSETTO:-0500
TZNAME:EST
DTSTART:20271107T060000
END:STANDARD
END:VTIMEZONE
BEGIN:VEVENT
DTSTART;TZID=America/New_York:20260224T193000
DTEND;TZID=America/New_York:20260224T233000
DTSTAMP:20260419T104216
CREATED:20260130T142619Z
LAST-MODIFIED:20260130T142619Z
UID:10007143-1771961400-1771975800@asburyparkchamber.com
SUMMARY:Creatures of Chrome - A Pole Dance Tribute To Your Favorite Butt Rock Hits - Asbury Park
DESCRIPTION:Welcome to the House of Independents in Asbury Park\, New Jersey\, where local entertainment meets unforgettable performances. Join us on February 24\, 2026\, at 7:30 PM for Creatures of Chrome – A Pole Dance Tribute To Your Favorite Butt Rock Hits. Get ready to be amazed as these talented performers pay homage to classic rock hits in a unique and captivating pole dance show. \nCreatures of Chrome brings a fresh and exciting twist to your favorite butt rock hits\, blending athleticism\, artistry\, and music in a way you’ve never seen before. This show is guaranteed to leave you in awe and wanting more\, making it a must-see event for music and dance enthusiasts alike. \nLocated in the heart of Asbury Park\, the House of Independents offers a cozy and intimate atmosphere that adds to the overall experience of the show. With its convenient location and welcoming vibes\, you’ll feel right at home as you enjoy a night of entertainment like no other. \nDon’t miss out on this one-of-a-kind event! Grab your tickets now and get ready to witness a performance that will leave you speechless. Join us at the House of Independents for Creatures of Chrome – A Pole Dance Tribute To Your Favorite Butt Rock Hits on February 24\, 2026. See you there!
URL:https://asburyparkchamber.com/event/creatures-of-chrome-a-pole-dance-tribute-to-your-favorite-butt-rock-hits-asbury-park/
LOCATION:House of Independents\, 572 Cookman Avenue\, Asbury Park\, NJ\, 07712\, United States
CATEGORIES:Music
ATTACH;FMTTYPE=image/jpeg:https://asburyparkchamber.com/wp-content/uploads/2026/01/Creatures-of-Chrome-A-Pole-Dance-Tribute-To-Your-Favorite-Butt-Rock-Hits.jpg
ORGANIZER;CN="House of Independents":MAILTO:info@houseofindependents.com
END:VEVENT
END:VCALENDAR