BEGIN:VCALENDAR
VERSION:2.0
PRODID:-//Asbury Park Chamber of Commerce - ECPv6.15.18//NONSGML v1.0//EN
CALSCALE:GREGORIAN
METHOD:PUBLISH
X-WR-CALNAME:Asbury Park Chamber of Commerce
X-ORIGINAL-URL:https://asburyparkchamber.com
X-WR-CALDESC:Events for Asbury Park Chamber of Commerce
REFRESH-INTERVAL;VALUE=DURATION:PT1H
X-Robots-Tag:noindex
X-PUBLISHED-TTL:PT1H
BEGIN:VTIMEZONE
TZID:America/New_York
BEGIN:DAYLIGHT
TZOFFSETFROM:-0500
TZOFFSETTO:-0400
TZNAME:EDT
DTSTART:20230312T070000
END:DAYLIGHT
BEGIN:STANDARD
TZOFFSETFROM:-0400
TZOFFSETTO:-0500
TZNAME:EST
DTSTART:20231105T060000
END:STANDARD
BEGIN:DAYLIGHT
TZOFFSETFROM:-0500
TZOFFSETTO:-0400
TZNAME:EDT
DTSTART:20240310T070000
END:DAYLIGHT
BEGIN:STANDARD
TZOFFSETFROM:-0400
TZOFFSETTO:-0500
TZNAME:EST
DTSTART:20241103T060000
END:STANDARD
BEGIN:DAYLIGHT
TZOFFSETFROM:-0500
TZOFFSETTO:-0400
TZNAME:EDT
DTSTART:20250309T070000
END:DAYLIGHT
BEGIN:STANDARD
TZOFFSETFROM:-0400
TZOFFSETTO:-0500
TZNAME:EST
DTSTART:20251102T060000
END:STANDARD
END:VTIMEZONE
BEGIN:VEVENT
DTSTART;TZID=America/New_York:20240901T140000
DTEND;TZID=America/New_York:20240901T153000
DTSTAMP:20260425T163859
CREATED:20240904T212108Z
LAST-MODIFIED:20240904T212108Z
UID:10003650-1725199200-1725204600@asburyparkchamber.com
SUMMARY:The Two Hander
DESCRIPTION:Therapy first-timer Claire is reluctant to undergo psychotherapy. But after a few sessions with Diana\, her unorthodox\, sharp-witted therapist\, a sort of trust begins to form between the two. But there are obstacles in the room as patient and doctor dig deeper and come to rely on each other in a way that transcends the office\, and this very fragile trust can easily turn into betrayal.
URL:https://asburyparkchamber.com/event/the-two-hander/2024-09-01/
LOCATION:New Jersey Repertory Company\, 179 Broadway\, Long Branch\, NJ\, 07740\, United States
CATEGORIES:Awards Gala,Comedy
ATTACH;FMTTYPE=image/jpeg:https://asburyparkchamber.com/wp-content/uploads/2024/04/Instagram-square-Two-Hander.jpg
ORGANIZER;CN="New Jersey Repretory Company":MAILTO:njrep@njrep.org
END:VEVENT
END:VCALENDAR