BEGIN:VCALENDAR
VERSION:2.0
PRODID:-//Asbury Park Chamber of Commerce - ECPv6.15.18//NONSGML v1.0//EN
CALSCALE:GREGORIAN
METHOD:PUBLISH
X-ORIGINAL-URL:https://asburyparkchamber.com
X-WR-CALDESC:Events for Asbury Park Chamber of Commerce
REFRESH-INTERVAL;VALUE=DURATION:PT1H
X-Robots-Tag:noindex
X-PUBLISHED-TTL:PT1H
BEGIN:VTIMEZONE
TZID:America/New_York
BEGIN:DAYLIGHT
TZOFFSETFROM:-0500
TZOFFSETTO:-0400
TZNAME:EDT
DTSTART:20250309T070000
END:DAYLIGHT
BEGIN:STANDARD
TZOFFSETFROM:-0400
TZOFFSETTO:-0500
TZNAME:EST
DTSTART:20251102T060000
END:STANDARD
BEGIN:DAYLIGHT
TZOFFSETFROM:-0500
TZOFFSETTO:-0400
TZNAME:EDT
DTSTART:20260308T070000
END:DAYLIGHT
BEGIN:STANDARD
TZOFFSETFROM:-0400
TZOFFSETTO:-0500
TZNAME:EST
DTSTART:20261101T060000
END:STANDARD
BEGIN:DAYLIGHT
TZOFFSETFROM:-0500
TZOFFSETTO:-0400
TZNAME:EDT
DTSTART:20270314T070000
END:DAYLIGHT
BEGIN:STANDARD
TZOFFSETFROM:-0400
TZOFFSETTO:-0500
TZNAME:EST
DTSTART:20271107T060000
END:STANDARD
END:VTIMEZONE
BEGIN:VEVENT
DTSTART;TZID=America/New_York:20260220T190000
DTEND;TZID=America/New_York:20260220T203000
DTSTAMP:20260426T002747
CREATED:20260217T203110Z
LAST-MODIFIED:20260217T203110Z
UID:10007317-1771614000-1771619400@asburyparkchamber.com
SUMMARY:Don't Tell Comedy - Asbury Park
DESCRIPTION:Comedy is at its best when there’s a surprise – that’s why Don’t Tell Comedy puts on events where the performers and location are kept secret until the day of the show. With over 250 cities already in on the joke\, you never know where we’ll set up shop\, or who might pop in.
URL:https://asburyparkchamber.com/event/dont-tell-comedy-asbury-park/2026-02-20/1/
LOCATION:Secret Location
CATEGORIES:Comedy
ATTACH;FMTTYPE=image/png:https://asburyparkchamber.com/wp-content/uploads/2026/02/dtc-logo.png
ORGANIZER;CN="Don't Tell Comedy":MAILTO:info@donttellcomedy.com
END:VEVENT
BEGIN:VEVENT
DTSTART;TZID=America/New_York:20260220T210000
DTEND;TZID=America/New_York:20260220T223000
DTSTAMP:20260426T002747
CREATED:20260217T203110Z
LAST-MODIFIED:20260217T203110Z
UID:10007318-1771621200-1771626600@asburyparkchamber.com
SUMMARY:Don't Tell Comedy - Asbury Park
DESCRIPTION:Comedy is at its best when there’s a surprise – that’s why Don’t Tell Comedy puts on events where the performers and location are kept secret until the day of the show. With over 250 cities already in on the joke\, you never know where we’ll set up shop\, or who might pop in.
URL:https://asburyparkchamber.com/event/dont-tell-comedy-asbury-park/2026-02-20/2/
LOCATION:Secret Location
CATEGORIES:Comedy
ATTACH;FMTTYPE=image/png:https://asburyparkchamber.com/wp-content/uploads/2026/02/dtc-logo.png
ORGANIZER;CN="Don't Tell Comedy":MAILTO:info@donttellcomedy.com
END:VEVENT
BEGIN:VEVENT
DTSTART;TZID=America/New_York:20260226T193000
DTEND;TZID=America/New_York:20260226T210000
DTSTAMP:20260426T002747
CREATED:20260219T155328Z
LAST-MODIFIED:20260219T155328Z
UID:10007319-1772134200-1772139600@asburyparkchamber.com
SUMMARY:Power Bottom Comedy @ Porta
DESCRIPTION:Power Bottom is Asbury Park’s BEST comedy show! Laugh with the funniest up and coming comics on the east coast\, as well as nationally touring headliners.\nPlus\, your ticket automatically enters you to win gift cards from our friends at Mutiny BBQ\, Rebel Supply\, Pulp\, and Wolfe & Kron Books… as well as our famous CASH PRIZE at every show!\nThis is a ridiculously fun night of comedy that rivals the energy and quality of the most famous clubs across the country — right in Asbury Park! \nTickets available on Eventbrite:\npowerbottom2026.eventbrite.com
URL:https://asburyparkchamber.com/event/power-bottom-comedy-porta/
LOCATION:Porta\, 911 Kingsley Street\, Asbury Park\, 07712
CATEGORIES:Comedy
ATTACH;FMTTYPE=image/jpeg:https://asburyparkchamber.com/wp-content/uploads/2026/02/IMG_1398.jpeg
ORGANIZER;CN="Porta":MAILTO:info.ap@pizzaporta.com
END:VEVENT
BEGIN:VEVENT
DTSTART;TZID=America/New_York:20260307T200000
DTEND;TZID=America/New_York:20260307T220000
DTSTAMP:20260426T002747
CREATED:20260211T182433Z
LAST-MODIFIED:20260211T182433Z
UID:10007299-1772913600-1772920800@asburyparkchamber.com
SUMMARY:Sherri Shepherd: Make It Make Sense Comedy Tour
DESCRIPTION:As she continues to captivate audiences nationwide as the host of her nationally syndicated daytime talk show Sherri\, actress\, comedian\, Daytime Emmy Award-winning talk show host\, and best-selling author Sherri Shepherd is kicking off the new year with her brand-new stand-up comedy tour\, Make It Make Sense. Known for her fiery humor\, razor-sharp wit\, fearless honesty\, and signature storytelling\, Sherri will bring the laughs across more than 20 cities nationwide\, with a stop at the Music Box at Borgata in Atlantic City\, NJ on Saturday\, March 7th.
URL:https://asburyparkchamber.com/event/sherri-shepherd-make-it-make-sense-comedy-tour/
LOCATION:Music Box at Borgata\, Borgata Hotel Casino & Spa 1 Borgata Way\, Atlantic City\, NJ\, 08401
CATEGORIES:Comedy
ATTACH;FMTTYPE=image/png:https://asburyparkchamber.com/wp-content/uploads/2026/02/Sherri-Tour-Flyer.png
END:VEVENT
BEGIN:VEVENT
DTSTART;TZID=America/New_York:20260328T190000
DTEND;TZID=America/New_York:20260328T210000
DTSTAMP:20260426T002747
CREATED:20260211T151521Z
LAST-MODIFIED:20260211T151607Z
UID:10007250-1774724400-1774731600@asburyparkchamber.com
SUMMARY:Springo Bingo at QSpot LGBTQ Community Center 🏳️‍🌈
DESCRIPTION:Join the fun with your host Bea Arthur from Golden Gays on Saturday\, March 28th at 7pm!
URL:https://asburyparkchamber.com/event/springo-bingo-at-qspot-lgbtq-community-center-%f0%9f%8f%b3%ef%b8%8f%f0%9f%8c%88/
LOCATION:QSpot\, 1601 Asbury Avenue\, Asbury Park\, 07702
CATEGORIES:Comedy,Party
ATTACH;FMTTYPE=image/png:https://asburyparkchamber.com/wp-content/uploads/2026/02/1096c202-18cd-f7c8-adfd-7a67aa6e25b7.png
ORGANIZER;CN="Q Spot":MAILTO:info@jsqspot.org
END:VEVENT
BEGIN:VEVENT
DTSTART;TZID=America/New_York:20260702T190000
DTEND;TZID=America/New_York:20260702T213000
DTSTAMP:20260426T002747
CREATED:20260424T194841Z
LAST-MODIFIED:20260424T194841Z
UID:10007504-1783018800-1783027800@asburyparkchamber.com
SUMMARY:The Vagina Monologues by Eve Ensler Coming to Asbury Park!
DESCRIPTION:Center Stage Productions presents THE VAGINA MONOLOGUES by Eve Ensler! Join us for an unforgettable evening of entertainment for Ages 18+. Performance dates: July 2nd & 3rd at Over The Moon Art Studios\, 808 Springwood Ave\, Asbury Park\, NJ. Get ready to be entertained by Eve Ensler’s iconic play. This event promises to be a night filled with laughter\, tears\, and thought-provoking stories about the most intimate aspects of womanhood. Don’t miss the chance to experience this powerful and empowering performance! In honor of Women nationwide\, the performance is made up of an array of monologues\, each dealing with distinctive viewpoints of the feminine experience. A consistent theme throughout the play is “female empowerment” and the essential expressions of uniqueness and individuality. Grab your friends and family and purchase your tickets now! For Ages 18+ \nPurchase Tickets on EVENTBRITE.com\nDirect Link to tickets: https://vmasburypark.eventbrite.com
URL:https://asburyparkchamber.com/event/the-vagina-monologues-by-eve-ensler-coming-to-asbury-park/2026-07-02/
LOCATION:Over the Moon Art Studios\, 808 Springwood Ave\, Asbury Park\, 07712
CATEGORIES:Art & Culture,Comedy,Event
ATTACH;FMTTYPE=image/png:https://asburyparkchamber.com/wp-content/uploads/2026/04/NEW-VM-OTM-Flyer-Untitled-2160-x-1080-px-7-1.png
ORGANIZER;CN="Center Stage Productions":MAILTO:info@centerstageprod.com
END:VEVENT
BEGIN:VEVENT
DTSTART;TZID=America/New_York:20260703T190000
DTEND;TZID=America/New_York:20260703T213000
DTSTAMP:20260426T002747
CREATED:20260424T194841Z
LAST-MODIFIED:20260424T194841Z
UID:10007505-1783105200-1783114200@asburyparkchamber.com
SUMMARY:The Vagina Monologues by Eve Ensler Coming to Asbury Park!
DESCRIPTION:Center Stage Productions presents THE VAGINA MONOLOGUES by Eve Ensler! Join us for an unforgettable evening of entertainment for Ages 18+. Performance dates: July 2nd & 3rd at Over The Moon Art Studios\, 808 Springwood Ave\, Asbury Park\, NJ. Get ready to be entertained by Eve Ensler’s iconic play. This event promises to be a night filled with laughter\, tears\, and thought-provoking stories about the most intimate aspects of womanhood. Don’t miss the chance to experience this powerful and empowering performance! In honor of Women nationwide\, the performance is made up of an array of monologues\, each dealing with distinctive viewpoints of the feminine experience. A consistent theme throughout the play is “female empowerment” and the essential expressions of uniqueness and individuality. Grab your friends and family and purchase your tickets now! For Ages 18+ \nPurchase Tickets on EVENTBRITE.com\nDirect Link to tickets: https://vmasburypark.eventbrite.com
URL:https://asburyparkchamber.com/event/the-vagina-monologues-by-eve-ensler-coming-to-asbury-park/2026-07-03/
LOCATION:Over the Moon Art Studios\, 808 Springwood Ave\, Asbury Park\, 07712
CATEGORIES:Art & Culture,Comedy,Event
ATTACH;FMTTYPE=image/png:https://asburyparkchamber.com/wp-content/uploads/2026/04/NEW-VM-OTM-Flyer-Untitled-2160-x-1080-px-7-1.png
ORGANIZER;CN="Center Stage Productions":MAILTO:info@centerstageprod.com
END:VEVENT
END:VCALENDAR