BEGIN:VCALENDAR
VERSION:2.0
PRODID:-//Asbury Park Chamber of Commerce - ECPv6.15.18//NONSGML v1.0//EN
CALSCALE:GREGORIAN
METHOD:PUBLISH
X-ORIGINAL-URL:https://asburyparkchamber.com
X-WR-CALDESC:Events for Asbury Park Chamber of Commerce
REFRESH-INTERVAL;VALUE=DURATION:PT1H
X-Robots-Tag:noindex
X-PUBLISHED-TTL:PT1H
BEGIN:VTIMEZONE
TZID:America/New_York
BEGIN:DAYLIGHT
TZOFFSETFROM:-0500
TZOFFSETTO:-0400
TZNAME:EDT
DTSTART:20250309T070000
END:DAYLIGHT
BEGIN:STANDARD
TZOFFSETFROM:-0400
TZOFFSETTO:-0500
TZNAME:EST
DTSTART:20251102T060000
END:STANDARD
BEGIN:DAYLIGHT
TZOFFSETFROM:-0500
TZOFFSETTO:-0400
TZNAME:EDT
DTSTART:20260308T070000
END:DAYLIGHT
BEGIN:STANDARD
TZOFFSETFROM:-0400
TZOFFSETTO:-0500
TZNAME:EST
DTSTART:20261101T060000
END:STANDARD
BEGIN:DAYLIGHT
TZOFFSETFROM:-0500
TZOFFSETTO:-0400
TZNAME:EDT
DTSTART:20270314T070000
END:DAYLIGHT
BEGIN:STANDARD
TZOFFSETFROM:-0400
TZOFFSETTO:-0500
TZNAME:EST
DTSTART:20271107T060000
END:STANDARD
END:VTIMEZONE
BEGIN:VEVENT
DTSTART;TZID=America/New_York:20260425T110000
DTEND;TZID=America/New_York:20260425T210000
DTSTAMP:20260422T233819
CREATED:20260407T134858Z
LAST-MODIFIED:20260407T134858Z
UID:10007439-1777114800-1777150800@asburyparkchamber.com
SUMMARY:Independent Bookstore Day
DESCRIPTION:One Day. Fifty States. 2\,000+ Bookstores.\nCelebrate with Wolfe & Kron Books for the 13th Annual INDEPENDENT BOOKSTORE DAY!\nThis national one-day party held the last Saturday in April celebrates independent bookstores across the country online and in-store. \nWolfe & Kron Books will have door prizes including ARCs (Advance Reader Copies of books)\, free bookmarks\, and a sticker with every purchase.\nSnag a signed copies while they last of:\n– “You Should Have Been Nicer to My Mom” by Vincent Tirado\n– “A Door Into Ocean” by Joan Slonczewski\n– “The Cut” and “These Familiar Walls” by CJ Dotson\n– “The Last Great Heir” and “The Unbreakable Crown” by Carina Finn
URL:https://asburyparkchamber.com/event/independent-bookstore-day/
LOCATION:Wolfe & Kron Bookstore\, 808 1/2 5th Avenue\, Asbury Park\, 07712
CATEGORIES:Books and Reading,Event,Shopping
ATTACH;FMTTYPE=image/png:https://asburyparkchamber.com/wp-content/uploads/2026/04/IBD-2026-Logo-primary.png
ORGANIZER;CN="American Booksellers Association":MAILTO:info@bookweb.org
END:VEVENT
BEGIN:VEVENT
DTSTART;TZID=America/New_York:20260425T120000
DTEND;TZID=America/New_York:20260425T160000
DTSTAMP:20260422T233819
CREATED:20260416T163955Z
LAST-MODIFIED:20260416T163955Z
UID:10007463-1777118400-1777132800@asburyparkchamber.com
SUMMARY:Made (and Sold) in Asbury Park at the Berkeley Oceanfront Hotel
DESCRIPTION:Mark your calendars! The Third Annual “Made (and Sold) In Asbury Park” is back on April 25 from 12 to 4pm at the Berkeley Oceanfront Hotel. Shop local\, enjoy live music\, and support your community. Free and open to the public! www.cityofasburypark.com/madeandsoldinap.
URL:https://asburyparkchamber.com/event/made-and-sold-in-asbury-park-at-the-berkeley-oceanfront-hotel/
LOCATION:The Berkeley Oceanfront Hotel\, 1401 Ocean Avenue\, Asbury Park\, 07712\, United States
CATEGORIES:Event,Networking,Shopping
ATTACH;FMTTYPE=image/png:https://asburyparkchamber.com/wp-content/uploads/2026/04/Made-in-AP-2026-square-v2-e1776357585203.png
END:VEVENT
BEGIN:VEVENT
DTSTART;TZID=America/New_York:20260503T170000
DTEND;TZID=America/New_York:20260503T183000
DTSTAMP:20260422T233819
CREATED:20260408T154553Z
LAST-MODIFIED:20260408T154553Z
UID:10007443-1777827600-1777833000@asburyparkchamber.com
SUMMARY:Author Presentation & Signing at Asbury Book Cooperative
DESCRIPTION:Join us for a presentation and signing by Emily Nemens\, author of CLUTCH. \n\n\n\n\nWe are very excited to welcome Emily Nemens to Asbury Book Cooperative! She will be presenting her newest title CLUTCH in conversation with local author\, Tim DeMarco! \nThe $28 event ticket reserves your seat and purchases a copy of CLUTCH! The $5 ticket reserves a seat only; you will receive a $5 voucher upon arrival to spend at the store for a purchase that night! \nWalk-ins to this event are welcome but space is limited. \nHope to see you in the shop!
URL:https://asburyparkchamber.com/event/author-presentation-signing-at-asbury-book-cooperative/
LOCATION:Asbury Book Cooperative\, 644A Cookman Ave\, Asbury Park\, 07712
CATEGORIES:Books and Reading,Event
ATTACH;FMTTYPE=image/png:https://asburyparkchamber.com/wp-content/uploads/2026/04/9301cc0b-6b77-f0e3-95cf-e4f07b5640e4-e1775663143951.png
END:VEVENT
BEGIN:VEVENT
DTSTART;TZID=America/New_York:20260510T180000
DTEND;TZID=America/New_York:20260510T230000
DTSTAMP:20260422T233819
CREATED:20260407T134859Z
LAST-MODIFIED:20260408T152626Z
UID:10007441-1778436000-1778454000@asburyparkchamber.com
SUMMARY:Woman's Club of Asbury Park presents Mother's Tea Party
DESCRIPTION:Mother’s Day Tea Party British Elegance Edition\nComedy Show / Live Entertainment\nJoin us on May 10\, 2026 for a cozy Mother’s Tea Party filled with laughs\, stories\, and sweet sips and meet our chefs at the action stations …\nJoin Our Mother’s Tea Party!\nAll are invited to our Mother’s Tea Party. Whether you are a mother\, daughter\, or friend\, this tea party promises to be a memorable celebration of love\, appreciation\, and togetherness. \nDress code is British Elegance\, and we encourage participants to bring along their favorite hat for a touch of charm. \nGreat music\, Good food and good vibes. You do not want to miss this event!!!
URL:https://asburyparkchamber.com/event/mothers-tea-party/
LOCATION:Woman’s Club of Asbury Park\, 57 Wickapeka Dr.\, Ocean\, 07712
CATEGORIES:Event
ATTACH;FMTTYPE=image/png:https://asburyparkchamber.com/wp-content/uploads/2026/04/Mothers-Day-Tea-C-1-1-e1775661974475.png
END:VEVENT
BEGIN:VEVENT
DTSTART;TZID=America/New_York:20260531T170000
DTEND;TZID=America/New_York:20260531T183000
DTSTAMP:20260422T233819
CREATED:20260408T154756Z
LAST-MODIFIED:20260408T154830Z
UID:10007444-1780246800-1780252200@asburyparkchamber.com
SUMMARY:Author Presentation & Signing at Asbury Book Cooperative
DESCRIPTION:Join us for a presentation and signing by Kerri Schlottman\, author of DAYTIME MOON. \n\n\n\n\nWe are very excited to welcome Kerri Schlottman to Asbury Book Cooperative! She will be presenting her newest title DAYTIME MOON in conversation with local author\, Emmalea Russo! \nThe $30 event ticket reserves your seat and purchases a copy of DAYTIME MOON! The $5 ticket reserves a seat only; you will receive a $5 voucher upon arrival to spend at the store for a purchase that night! \nWalk-ins to this event are welcome but space is limited. \nHope to see you in the shop!
URL:https://asburyparkchamber.com/event/author-presentation-signing-at-asbury-book-cooperative-2/
LOCATION:Asbury Book Cooperative\, 644A Cookman Ave\, Asbury Park\, 07712
CATEGORIES:Books and Reading,Event
ATTACH;FMTTYPE=image/png:https://asburyparkchamber.com/wp-content/uploads/2026/04/3dc89471-26f0-2a22-de6d-bfb4a028183e-e1775663266342.png
END:VEVENT
END:VCALENDAR