BEGIN:VCALENDAR
VERSION:2.0
PRODID:-//Asbury Park Chamber of Commerce - ECPv6.15.18//NONSGML v1.0//EN
CALSCALE:GREGORIAN
METHOD:PUBLISH
X-ORIGINAL-URL:https://asburyparkchamber.com
X-WR-CALDESC:Events for Asbury Park Chamber of Commerce
REFRESH-INTERVAL;VALUE=DURATION:PT1H
X-Robots-Tag:noindex
X-PUBLISHED-TTL:PT1H
BEGIN:VTIMEZONE
TZID:America/New_York
BEGIN:DAYLIGHT
TZOFFSETFROM:-0500
TZOFFSETTO:-0400
TZNAME:EDT
DTSTART:20250309T070000
END:DAYLIGHT
BEGIN:STANDARD
TZOFFSETFROM:-0400
TZOFFSETTO:-0500
TZNAME:EST
DTSTART:20251102T060000
END:STANDARD
BEGIN:DAYLIGHT
TZOFFSETFROM:-0500
TZOFFSETTO:-0400
TZNAME:EDT
DTSTART:20260308T070000
END:DAYLIGHT
BEGIN:STANDARD
TZOFFSETFROM:-0400
TZOFFSETTO:-0500
TZNAME:EST
DTSTART:20261101T060000
END:STANDARD
BEGIN:DAYLIGHT
TZOFFSETFROM:-0500
TZOFFSETTO:-0400
TZNAME:EDT
DTSTART:20270314T070000
END:DAYLIGHT
BEGIN:STANDARD
TZOFFSETFROM:-0400
TZOFFSETTO:-0500
TZNAME:EST
DTSTART:20271107T060000
END:STANDARD
END:VTIMEZONE
BEGIN:VEVENT
DTSTART;TZID=America/New_York:20260424T120000
DTEND;TZID=America/New_York:20260424T130000
DTSTAMP:20260420T045859
CREATED:20260330T131932Z
LAST-MODIFIED:20260330T131932Z
UID:10007423-1777032000-1777035600@asburyparkchamber.com
SUMMARY:Yoga with Love - Lunchtime Reiki and Sound Bath
DESCRIPTION:Join Claudine for a relaxing session of Reiki & Sound.  Particpants will be lying down to receive the beautiful vibrations of the instruments and culminate with being offered individual light touch reiki healing.  Come away feeling refreshed and ready for the day ahead!  \nWe recommend dressing in layers\, the body may cool down during the event. \nYou may book with your membership\, class card or single class option. \nYoga with Love\n417 Euclid Ave\nLoch Arbour\, NJ 07711\n848-777-2942
URL:https://asburyparkchamber.com/event/yoga-with-love-lunchtime-reiki-and-sound-bath/
LOCATION:Yoga With Love\, 417 Euclid Ave\, Loch Arbour\, NJ\, 07711\, United States
CATEGORIES:Event
ATTACH;FMTTYPE=image/jpeg:https://asburyparkchamber.com/wp-content/uploads/2026/03/reiki-and-sound-1-2025-scaled.jpeg
ORGANIZER;CN="Claudine Fenniman":MAILTO:claudine@yogawithlovenj.com
END:VEVENT
BEGIN:VEVENT
DTSTART;TZID=America/New_York:20260425T110000
DTEND;TZID=America/New_York:20260425T210000
DTSTAMP:20260420T045859
CREATED:20260407T134858Z
LAST-MODIFIED:20260407T134858Z
UID:10007439-1777114800-1777150800@asburyparkchamber.com
SUMMARY:Independent Bookstore Day
DESCRIPTION:One Day. Fifty States. 2\,000+ Bookstores.\nCelebrate with Wolfe & Kron Books for the 13th Annual INDEPENDENT BOOKSTORE DAY!\nThis national one-day party held the last Saturday in April celebrates independent bookstores across the country online and in-store. \nWolfe & Kron Books will have door prizes including ARCs (Advance Reader Copies of books)\, free bookmarks\, and a sticker with every purchase.\nSnag a signed copies while they last of:\n– “You Should Have Been Nicer to My Mom” by Vincent Tirado\n– “A Door Into Ocean” by Joan Slonczewski\n– “The Cut” and “These Familiar Walls” by CJ Dotson\n– “The Last Great Heir” and “The Unbreakable Crown” by Carina Finn
URL:https://asburyparkchamber.com/event/independent-bookstore-day/
LOCATION:Wolfe & Kron Bookstore\, 808 1/2 5th Avenue\, Asbury Park\, 07712
CATEGORIES:Books and Reading,Event,Shopping
ATTACH;FMTTYPE=image/png:https://asburyparkchamber.com/wp-content/uploads/2026/04/IBD-2026-Logo-primary.png
ORGANIZER;CN="American Booksellers Association":MAILTO:info@bookweb.org
END:VEVENT
BEGIN:VEVENT
DTSTART;TZID=America/New_York:20260425T120000
DTEND;TZID=America/New_York:20260425T160000
DTSTAMP:20260420T045859
CREATED:20260416T163955Z
LAST-MODIFIED:20260416T163955Z
UID:10007463-1777118400-1777132800@asburyparkchamber.com
SUMMARY:Made (and Sold) in Asbury Park at the Berkeley Oceanfront Hotel
DESCRIPTION:Mark your calendars! The Third Annual “Made (and Sold) In Asbury Park” is back on April 25 from 12 to 4pm at the Berkeley Oceanfront Hotel. Shop local\, enjoy live music\, and support your community. Free and open to the public! www.cityofasburypark.com/madeandsoldinap.
URL:https://asburyparkchamber.com/event/made-and-sold-in-asbury-park-at-the-berkeley-oceanfront-hotel/
LOCATION:The Berkeley Oceanfront Hotel\, 1401 Ocean Avenue\, Asbury Park\, 07712\, United States
CATEGORIES:Event,Networking,Shopping
ATTACH;FMTTYPE=image/png:https://asburyparkchamber.com/wp-content/uploads/2026/04/Made-in-AP-2026-square-v2-e1776357585203.png
END:VEVENT
END:VCALENDAR