BEGIN:VCALENDAR
VERSION:2.0
PRODID:-//Asbury Park Chamber of Commerce - ECPv6.15.18//NONSGML v1.0//EN
CALSCALE:GREGORIAN
METHOD:PUBLISH
X-WR-CALNAME:Asbury Park Chamber of Commerce
X-ORIGINAL-URL:https://asburyparkchamber.com
X-WR-CALDESC:Events for Asbury Park Chamber of Commerce
REFRESH-INTERVAL;VALUE=DURATION:PT1H
X-Robots-Tag:noindex
X-PUBLISHED-TTL:PT1H
BEGIN:VTIMEZONE
TZID:America/New_York
BEGIN:DAYLIGHT
TZOFFSETFROM:-0500
TZOFFSETTO:-0400
TZNAME:EDT
DTSTART:20240310T070000
END:DAYLIGHT
BEGIN:STANDARD
TZOFFSETFROM:-0400
TZOFFSETTO:-0500
TZNAME:EST
DTSTART:20241103T060000
END:STANDARD
BEGIN:DAYLIGHT
TZOFFSETFROM:-0500
TZOFFSETTO:-0400
TZNAME:EDT
DTSTART:20250309T070000
END:DAYLIGHT
BEGIN:STANDARD
TZOFFSETFROM:-0400
TZOFFSETTO:-0500
TZNAME:EST
DTSTART:20251102T060000
END:STANDARD
BEGIN:DAYLIGHT
TZOFFSETFROM:-0500
TZOFFSETTO:-0400
TZNAME:EDT
DTSTART:20260308T070000
END:DAYLIGHT
BEGIN:STANDARD
TZOFFSETFROM:-0400
TZOFFSETTO:-0500
TZNAME:EST
DTSTART:20261101T060000
END:STANDARD
END:VTIMEZONE
BEGIN:VEVENT
DTSTART;TZID=America/New_York:20250901T080000
DTEND;TZID=America/New_York:20250901T170000
DTSTAMP:20260425T183154
CREATED:20250829T135811Z
LAST-MODIFIED:20250829T135811Z
UID:10005818-1756713600-1756746000@asburyparkchamber.com
SUMMARY:Happy Labor Day!
DESCRIPTION:In observance of Labor Day\, please be advised of the following closures and service changes:\nCity Hall: Closed Monday\, September 1\, 2025\nAsbury Park Public Library: Closed Saturday\, August 30\, 2025 and Monday\, September 1\, 2025\nAlternate side parking regulations: Suspended Monday\, September 1\, 2025\nRegular services resume Tuesday\, September 2\, 2025.
URL:https://asburyparkchamber.com/event/happy-labor-day/
LOCATION:Asbury Park
CATEGORIES:Family
ATTACH;FMTTYPE=image/png:https://asburyparkchamber.com/wp-content/uploads/2025/08/Labor-Day_2026.png
ORGANIZER;CN="Asbury Park Chamber":MAILTO:info@asburyparkchamber.com
END:VEVENT
BEGIN:VEVENT
DTSTART;TZID=America/New_York:20250903T080000
DTEND;TZID=America/New_York:20250903T170000
DTSTAMP:20260425T183154
CREATED:20250829T135811Z
LAST-MODIFIED:20250829T135811Z
UID:10005819-1756886400-1756918800@asburyparkchamber.com
SUMMARY:Monmouth County Paper Shredding Schedule
DESCRIPTION:Monmouth County residents can take advantage of free paper shredding in Asbury Park on Saturday\, September 6\, 2025\, from 9am to 1pm at City Hall\, 1 Municipal Plaza. Limit of 100 lbs. per person. No businesses allowed. Stay in your vehicle. Learn more at www.visitmonmouth.com. \nSee schedule for other cities in graphic.
URL:https://asburyparkchamber.com/event/monmouth-county-paper-shredding-schedule/
LOCATION:Asbury Park
CATEGORIES:Family
ATTACH;FMTTYPE=image/jpeg:https://asburyparkchamber.com/wp-content/uploads/2025/08/shredding-2025.jpg
END:VEVENT
BEGIN:VEVENT
DTSTART;TZID=America/New_York:20250905T170000
DTEND;TZID=America/New_York:20250905T200000
DTSTAMP:20260425T183154
CREATED:20250305T203135Z
LAST-MODIFIED:20250305T203135Z
UID:10004255-1757091600-1757102400@asburyparkchamber.com
SUMMARY:First Friday - Art and Sound at the Station
DESCRIPTION:Join us on the first Friday of every month from 5-8 PM for a vibrant pop-up art and music show at the Asbury Park Transportation Center! Celebrate local talent with an exciting lineup of visual artists\, musicians\, and art/craft vendors showcasing their work in a lively community atmosphere. \nThis monthly event is brought to you by The City of Asbury Park and Over the Moon Art Studios\, creating a platform for emerging and established artists to connect with the community. Whether you’re an artist\, musician\, or maker\, we encourage you to apply and be part of this creative celebration!
URL:https://asburyparkchamber.com/event/first-friday-art-and-sound-at-the-station/2025-09-05/
LOCATION:Asbury Park Transportation Center\, 111 Main Street\, Asbury Park\, 07712
CATEGORIES:Art & Culture,Family,Music
ATTACH;FMTTYPE=image/png:https://asburyparkchamber.com/wp-content/uploads/2025/03/Green-General-First-Friday-1080-x-1350-px.png
ORGANIZER;CN="Over the Moon Art Studios":MAILTO:info@overthemoonartstudios.com
END:VEVENT
BEGIN:VEVENT
DTSTART;TZID=America/New_York:20250906T073000
DTEND;TZID=America/New_York:20250906T140000
DTSTAMP:20260425T183154
CREATED:20250822T135518Z
LAST-MODIFIED:20250822T135518Z
UID:10005811-1757143800-1757167200@asburyparkchamber.com
SUMMARY:JERSEY SHORE RIDE FOR FOOD JUSTICE
DESCRIPTION:A 15 mile\, 30 mile\, or 62 mile bike ride along the Jersey Shore to support the Food Justice Programs at the Trinity Center for Community! \nThe 7th Annual Jersey Shore Ride for Food Justice is back! 100% of the proceeds raised from the ride will be used to support the Trinity Center for Community. This program includes a food pantry\, a community meal (soup kitchen)\, housing help\, Code Blue Warming Center\, homeless prevention\, overall personal wellness programs\, financial and budgeting courses\, community arts and music programs\, and much more! \nWe invite riders of all levels to join as individuals or as a team! Start and Finish at Trinity Church\, Asbury Park. \n***Rain date: Saturday\, Sept. 20\, 2025 \nTO JOIN THE RIDE OR DONATE:\nFoodJusticeRide@gmail.com\nwww.trinitynj.com/foodjusticeride \nTo learn more about the ride\, please see link below.
URL:https://asburyparkchamber.com/event/jersey-shore-ride-for-food-justice/
LOCATION:Trinity Church\, 503 Asbury Avenue\, Asbury Park\, 07712
CATEGORIES:Family,Fundraiser
ATTACH;FMTTYPE=image/png:https://asburyparkchamber.com/wp-content/uploads/2025/08/Bike-Poster-25.png
ORGANIZER;CN="Trinity Church":MAILTO:office@trinitynj.com
END:VEVENT
BEGIN:VEVENT
DTSTART;TZID=America/New_York:20250906T080000
DTEND;TZID=America/New_York:20250906T130000
DTSTAMP:20260425T183154
CREATED:20250814T165206Z
LAST-MODIFIED:20250814T165206Z
UID:10005793-1757145600-1757163600@asburyparkchamber.com
SUMMARY:AP Sunset Farmer's Market
DESCRIPTION:Farmer’s Market: 4 Farm stands\, pickles\, honey\, breads Italian cheeses\, pastries and other specialty vendors. \nLocation: \nFireman’s Park – Sunset Ave and Main Street\, Asbury Park\, NJ 07712
URL:https://asburyparkchamber.com/event/ap-sunset-farmers-market/2025-09-06/
LOCATION:Fireman’s Park\, Main St. and Sunset Ave.\, Asbury Park\, 07712
CATEGORIES:Family
ATTACH;FMTTYPE=image/jpeg:https://asburyparkchamber.com/wp-content/uploads/2025/08/515497190_1255664096348663_4143454345591754815_n.jpg
END:VEVENT
BEGIN:VEVENT
DTSTART;TZID=America/New_York:20250911T030000
DTEND;TZID=America/New_York:20250911T230000
DTSTAMP:20260425T183154
CREATED:20250911T193314Z
LAST-MODIFIED:20250911T193314Z
UID:10005857-1757559600-1757631600@asburyparkchamber.com
SUMMARY:NEVER FORGET
DESCRIPTION:Today\, we honor the lives lost and the heroes of September 11.\nMay resilience and unity light our path forward.\nNever forgotten. September 11 reminds us of courage\, sacrifice\, and the power of unity.
URL:https://asburyparkchamber.com/event/never-forget/
LOCATION:Asbury Park
CATEGORIES:Family
ATTACH;FMTTYPE=image/jpeg:https://asburyparkchamber.com/wp-content/uploads/2025/09/Unknown.jpeg
ORGANIZER;CN="Asbury Park Chamber":MAILTO:info@asburyparkchamber.com
END:VEVENT
BEGIN:VEVENT
DTSTART;TZID=America/New_York:20250911T150000
DTEND;TZID=America/New_York:20250911T170000
DTSTAMP:20260425T183154
CREATED:20250911T192444Z
LAST-MODIFIED:20250911T192444Z
UID:10005849-1757602800-1757610000@asburyparkchamber.com
SUMMARY:Free Fresh Produce Distribution
DESCRIPTION:Stop by Interfaith Neighbors (810 Fourth Ave\, Asbury Park) for free local produce—no registration required!\nJoin us on Thursdays\, September 11\, September 25\, and October 9 from 3–5pm (or until gone).
URL:https://asburyparkchamber.com/event/free-fresh-produce-distribution/2025-09-11/
LOCATION:Interfaith Neighbors\, 410 4th Avenue\, Asbury Park\, 07712
CATEGORIES:Family
ATTACH;FMTTYPE=image/png:https://asburyparkchamber.com/wp-content/uploads/2025/09/Sept_OctProduce-Dist.png
ORGANIZER;CN="Interfaith Neighbors/Springwood Avenue Rising":MAILTO:DianeS@interfaithneighbors.org
END:VEVENT
BEGIN:VEVENT
DTSTART;TZID=America/New_York:20250913T080000
DTEND;TZID=America/New_York:20250913T130000
DTSTAMP:20260425T183154
CREATED:20250814T165206Z
LAST-MODIFIED:20250814T165206Z
UID:10005794-1757750400-1757768400@asburyparkchamber.com
SUMMARY:AP Sunset Farmer's Market
DESCRIPTION:Farmer’s Market: 4 Farm stands\, pickles\, honey\, breads Italian cheeses\, pastries and other specialty vendors. \nLocation: \nFireman’s Park – Sunset Ave and Main Street\, Asbury Park\, NJ 07712
URL:https://asburyparkchamber.com/event/ap-sunset-farmers-market/2025-09-13/
LOCATION:Fireman’s Park\, Main St. and Sunset Ave.\, Asbury Park\, 07712
CATEGORIES:Family
ATTACH;FMTTYPE=image/jpeg:https://asburyparkchamber.com/wp-content/uploads/2025/08/515497190_1255664096348663_4143454345591754815_n.jpg
END:VEVENT
BEGIN:VEVENT
DTSTART;TZID=America/New_York:20250913T120000
DTEND;TZID=America/New_York:20250913T223000
DTSTAMP:20260425T183154
CREATED:20250422T172338Z
LAST-MODIFIED:20250422T172338Z
UID:10005317-1757764800-1757802600@asburyparkchamber.com
SUMMARY:Sea.Hear.Now 2025 - Hozier\, LCD Soundsystem\, Alabama Shakes & more
DESCRIPTION:Sea.Hear.Now 2025 \nHozier\, LCD Soundsystem\, Alabama Shakes\, ZZ Top\, Remi Wolf\, Royel Otis\, De La Soul\, UB40\, Gigi Perez\, Trombone Shorty & Orleans Avenue\, Inhaler\, Mondo Cozmo\, Bumpin Uglies\, Not Yer Baby
URL:https://asburyparkchamber.com/event/sea-hear-now-2025-hozier-lcd-soundsystem-alabama-shakes-more/
LOCATION:Asbury Park
CATEGORIES:Art & Culture,Family,Music
ATTACH;FMTTYPE=image/png:https://asburyparkchamber.com/wp-content/uploads/2025/04/67dad62812024daf52a318e7_SHN25_Admats_1080x1350_presale-p-2600.png
END:VEVENT
BEGIN:VEVENT
DTSTART;TZID=America/New_York:20250914T120000
DTEND;TZID=America/New_York:20250914T220000
DTSTAMP:20260425T183154
CREATED:20250422T172338Z
LAST-MODIFIED:20250422T172338Z
UID:10005318-1757851200-1757887200@asburyparkchamber.com
SUMMARY:Sea.Hear.Now 2025  - Blink-182\, Lenny Kravitz\, Sublime & more
DESCRIPTION:Sea.Hear.Now 2025\nBlink-182\, Lenny Kravitz\, Sublime\, Public Enemy\, TV on the Radio\, Spoon\, Phantogram\, 4 Non Blondes\, Hot Mulligan\, Grace Bowers & the Hodge Podge\, Landon McNamara\, Neal Francis\, Surfing for Daisy\, The Tide Bends and more
URL:https://asburyparkchamber.com/event/sea-hear-now-2025-blink-182-lenny-kravitz-sublime-more/
LOCATION:Asbury Park
CATEGORIES:Art & Culture,Family,Music
ATTACH;FMTTYPE=image/png:https://asburyparkchamber.com/wp-content/uploads/2025/04/67dad62812024daf52a318e7_SHN25_Admats_1080x1350_presale-p-2600-1.png
END:VEVENT
BEGIN:VEVENT
DTSTART;TZID=America/New_York:20250920T080000
DTEND;TZID=America/New_York:20250920T130000
DTSTAMP:20260425T183154
CREATED:20250814T165206Z
LAST-MODIFIED:20250814T165206Z
UID:10005795-1758355200-1758373200@asburyparkchamber.com
SUMMARY:AP Sunset Farmer's Market
DESCRIPTION:Farmer’s Market: 4 Farm stands\, pickles\, honey\, breads Italian cheeses\, pastries and other specialty vendors. \nLocation: \nFireman’s Park – Sunset Ave and Main Street\, Asbury Park\, NJ 07712
URL:https://asburyparkchamber.com/event/ap-sunset-farmers-market/2025-09-20/
LOCATION:Fireman’s Park\, Main St. and Sunset Ave.\, Asbury Park\, 07712
CATEGORIES:Family
ATTACH;FMTTYPE=image/jpeg:https://asburyparkchamber.com/wp-content/uploads/2025/08/515497190_1255664096348663_4143454345591754815_n.jpg
END:VEVENT
BEGIN:VEVENT
DTSTART;TZID=America/New_York:20250920T110000
DTEND;TZID=America/New_York:20250920T140000
DTSTAMP:20260425T183154
CREATED:20250911T192444Z
LAST-MODIFIED:20250912T142338Z
UID:10005852-1758366000-1758376800@asburyparkchamber.com
SUMMARY:Community Food Connection
DESCRIPTION:Free NJ naturally grown produce from Fernbrook Farms available in the Junior Room 11am – 2pm on the following Saturdays: \nSeptember 20\nOctober 4\nOctober 18\nNovember 8\nNovember 22 \nEach share includes a mix of fresh seasonal vegetables and recipe ideas to help you enjoy your harvest! \nOnly 15 shares are available each Saturday.
URL:https://asburyparkchamber.com/event/community-food-connection/2025-09-20/
LOCATION:Asbury Park Public Library\, 500 1st Ave.\, Asbury Park\, 07712
CATEGORIES:Family
ATTACH;FMTTYPE=image/jpeg:https://asburyparkchamber.com/wp-content/uploads/2025/09/1st-Draft-Community-Food-Connection-.jpg
END:VEVENT
BEGIN:VEVENT
DTSTART;TZID=America/New_York:20250920T120000
DTEND;TZID=America/New_York:20250920T160000
DTSTAMP:20260425T183154
CREATED:20250410T144524Z
LAST-MODIFIED:20250911T190959Z
UID:10005206-1758369600-1758384000@asburyparkchamber.com
SUMMARY:Asbury Park Community Festival
DESCRIPTION:Join the City of Asbury Park Quality of Life Committee and Monmouth County Meets the Needs for a free community event at Springwood Park (126 Atkins Ave). Enjoy food trucks\, entertainment\, kids’ activities\, community resources\, healthcare info & screenings\, vendors\, giveaways—and free haircuts for kids. \nNo registration fees or charges for tables or food truck spaces. Rain date: Sunday\, September 21. More info: apqualityoflife@gmail.com. \nTo register\, receive information and updates please email apqualityoflife@gmail.com
URL:https://asburyparkchamber.com/event/asbury-park-community-festival/
LOCATION:Springwood Park\, 126 Atkins Ave\, Asbury Park\, NJ\, 07712\, United States
CATEGORIES:Art & Culture,Family,Music
ATTACH;FMTTYPE=image/jpeg:https://asburyparkchamber.com/wp-content/uploads/2025/04/QOL-Fest-9-20-25.jpg
END:VEVENT
BEGIN:VEVENT
DTSTART;TZID=America/New_York:20250925T150000
DTEND;TZID=America/New_York:20250925T170000
DTSTAMP:20260425T183154
CREATED:20250911T192444Z
LAST-MODIFIED:20250911T192444Z
UID:10005850-1758812400-1758819600@asburyparkchamber.com
SUMMARY:Free Fresh Produce Distribution
DESCRIPTION:Stop by Interfaith Neighbors (810 Fourth Ave\, Asbury Park) for free local produce—no registration required!\nJoin us on Thursdays\, September 11\, September 25\, and October 9 from 3–5pm (or until gone).
URL:https://asburyparkchamber.com/event/free-fresh-produce-distribution/2025-09-25/
LOCATION:Interfaith Neighbors\, 410 4th Avenue\, Asbury Park\, 07712
CATEGORIES:Family
ATTACH;FMTTYPE=image/png:https://asburyparkchamber.com/wp-content/uploads/2025/09/Sept_OctProduce-Dist.png
ORGANIZER;CN="Interfaith Neighbors/Springwood Avenue Rising":MAILTO:DianeS@interfaithneighbors.org
END:VEVENT
BEGIN:VEVENT
DTSTART;TZID=America/New_York:20250927T080000
DTEND;TZID=America/New_York:20250927T130000
DTSTAMP:20260425T183154
CREATED:20250814T165206Z
LAST-MODIFIED:20250814T165206Z
UID:10005796-1758960000-1758978000@asburyparkchamber.com
SUMMARY:AP Sunset Farmer's Market
DESCRIPTION:Farmer’s Market: 4 Farm stands\, pickles\, honey\, breads Italian cheeses\, pastries and other specialty vendors. \nLocation: \nFireman’s Park – Sunset Ave and Main Street\, Asbury Park\, NJ 07712
URL:https://asburyparkchamber.com/event/ap-sunset-farmers-market/2025-09-27/
LOCATION:Fireman’s Park\, Main St. and Sunset Ave.\, Asbury Park\, 07712
CATEGORIES:Family
ATTACH;FMTTYPE=image/jpeg:https://asburyparkchamber.com/wp-content/uploads/2025/08/515497190_1255664096348663_4143454345591754815_n.jpg
END:VEVENT
BEGIN:VEVENT
DTSTART;TZID=America/New_York:20250927T090000
DTEND;TZID=America/New_York:20250927T100000
DTSTAMP:20260425T183154
CREATED:20250922T180322Z
LAST-MODIFIED:20250922T180346Z
UID:10005859-1758963600-1758967200@asburyparkchamber.com
SUMMARY:Shipwreck'd Beach Clean-Up Event in Avon By the Sea!
DESCRIPTION:Shipwreck’d is holding a beach cleanup event scheduled for Saturday\, September 27th\, from 9:00–10:00 AM at Avon-by-the-Sea (Lincoln Ave entrance). \nAll are welcome to join\, and we’ll be providing gloves and garbage bags.
URL:https://asburyparkchamber.com/event/shipwreckd-beach-clean-up-event/
LOCATION:Avon Beach\, Avon\, 07717
CATEGORIES:Family
ATTACH;FMTTYPE=image/jpeg:https://asburyparkchamber.com/wp-content/uploads/2025/09/Beach-Clean-Up.jpg
ORGANIZER;CN="Shipwreck'd":MAILTO:info@shipwreckd.com
END:VEVENT
BEGIN:VEVENT
DTSTART;TZID=America/New_York:20250927T090000
DTEND;TZID=America/New_York:20250927T120000
DTSTAMP:20260425T183154
CREATED:20250922T193744Z
LAST-MODIFIED:20250922T193744Z
UID:10005860-1758963600-1758974400@asburyparkchamber.com
SUMMARY:Free Meal Kits Available
DESCRIPTION:The City of Asbury Park’s Food Assistance Program is offering free meal kits at City hall on Saturday\, September 27th.
URL:https://asburyparkchamber.com/event/free-meal-kits-available/
LOCATION:City Hall Parking Lot at 1 Municipal Plaza
CATEGORIES:Family
ATTACH;FMTTYPE=image/png:https://asburyparkchamber.com/wp-content/uploads/2025/09/Food-Assistance-2025-ENGLISH-PR.png
END:VEVENT
BEGIN:VEVENT
DTSTART;TZID=America/New_York:20250927T120000
DTEND;TZID=America/New_York:20250927T170000
DTSTAMP:20260425T183154
CREATED:20250923T192341Z
LAST-MODIFIED:20250923T192341Z
UID:10005867-1758974400-1758992400@asburyparkchamber.com
SUMMARY:Asbury Park Fall Bazaar 2025
DESCRIPTION:ASBURY PARK FALL BAZAAR 2025\nSAT & SUN\, SEPT 27 & 28\, 12-5 PM\nGRAND ARCADE OF CONVENTION HALL\, ASBURY PARK\, NJ \nCelebrate local makers\, music and art – and OKTOBERFEST! – at the Asbury Park Fall Bazaar happening in the Grand Arcade at historic Convention Hall on Saturday & Sunday\, September 27 & 28\, from noon to 5 pm. Asbury Park Fall Bazaar is indoors\, free for all ages\, and pet friendly. \nAsbury Park Fall Bazaar will feature shopping from a curated market of makers from the Jersey Shore & beyond\, kids activities\, photo opps\, music\, workshops\, and delicious food\, libations and entertainment:\n* Unique Shopping: Explore a curated market featuring designers\, makers\, artists and collectors selling a wide array of gifts and goods. Check out our vendor list below!\n* Oktoberfest Celebration featuring food + drinks specials and live music. On Saturday\, don’t miss a performancy by Josh Zuckerman Trio & on Sunday music by DJ C WILL\n* Kids Activies including Face Painting with Kayla from Krissy Face Painting.\n* Snap Insta-worth fall photos at our photo wall designed by Stina Does It\n* Permanent Jewelry Bar: Forever Golden (Saturday) & Arm Vibes Bracelet Bar (Sunday)\n* Bead Bar: Create it and wear it at Zoe’s Project Bead Bar! Design your own custom bracelet (Saturday).\n* Food & Libations: SHUCKED Local 130 Seafood\, Mutiny Beach\, Betty’s Ice Box\, Offshore Coffee Co.\n* Vinyl Record Shopping: R&R Music & Records\n* Exclusive Giveaways: Be one of the first 25 shoppers through the door each day and receive a coveted Bazaar tote bag. \nVENDORS: \nSATURDAY\nA Girls Day\nArtistscent\nAshley’s Handmade Designs\nBeAbove Designs\nBeach Metal Photos\nCaviar Dreams\nCrystalmama.Nj\nDaphnew design\nFlyDyes\nForever Golden Permanent Jewelry\nGGYYcat illustration\nJB Couture Cupcakes\nJulie Mollo!\nLaplaca pottery works\nLily Lough Jewelry\nLittle Grasshoppers\nMadeBySarahJ\nModern Vintage Painters\nOh My Balm\nPostdigital Ink\nR&R Music- Records/ Music Memorabilia\nsanto marco accessories\nSea and Shore Soap Company\nShorecuterie\nSolo Souls\nThe Collected Vault\nTimberloom Woodworking\nTree Ya Later\nTwo Sense Studio \nSUNDAY\nArm Vibes Bracelet Bar\nBrain Wave Superfood Mushrooms\nAugust & Mae\ndordesign\nEveryday Dose Inc\nFrederick Family Co\nGrove 11\nGypsea Caravan\nHolly Jolly Jams\nHye Jane Jewelry\nIntention Blends\nJB Couture Cupcakes\nLaplaca pottery works\nLily May Pottery\nLittle Cheese Shop\nMaker Megan\nMorning Bloom Boutique\nPeru Guru Store\nQueen Pictoria\nQuilty Pleasure\nR&R Music- Records/ Music Memorabilia\nReptilian Revive\nRobey Boutique\nSavvy Fit Soaps\nSets on the beach\nStacey Lyn Designs\nTerra Candles Co.\nTidal Threads Boutique\nTree Ya Later\nFor more information\, visit. www.asburyparkbazaar.com
URL:https://asburyparkchamber.com/event/asbury-park-fall-bazaar-2025/2025-09-27/
LOCATION:The Grand Arcade of Asbury Park Convention Hall
CATEGORIES:Family
ATTACH;FMTTYPE=image/jpeg:https://asburyparkchamber.com/wp-content/uploads/2025/09/519416963_785530270478771_5592375197729579807_n-e1758655551901.jpg
ORGANIZER;CN="Asbury Park Bazaar":MAILTO:team@asburyparkbazaar.com
END:VEVENT
BEGIN:VEVENT
DTSTART;TZID=America/New_York:20250927T130000
DTEND;TZID=America/New_York:20250927T170000
DTSTAMP:20260425T183154
CREATED:20250925T143045Z
LAST-MODIFIED:20250925T143059Z
UID:10005878-1758978000-1758992400@asburyparkchamber.com
SUMMARY:Asbury Park Porch Fest! 🎸 🎶
DESCRIPTION:On Saturday\, September 27\, from 1:00–5:00 PM\, front porches and lawns across Asbury Park will transform into stages for dozens of local musicians. \nTrinity is honored to be one of only two nonprofit beneficiaries of this beloved town-wide festival and to host our own porch at 503 Asbury Avenue. Stop by to enjoy live music and soak up the community spirit that makes PorchFest such a highlight of the season. All performances are free\, and donations collected throughout the day directly support Trinity’s programs addressing hunger\, housing\, employment\, and health in our neighborhood.
URL:https://asburyparkchamber.com/event/asbury-park-porchfest-%f0%9f%8e%b8-%f0%9f%8e%b6/
LOCATION:Asbury Park
CATEGORIES:Family,Music
ATTACH;FMTTYPE=image/png:https://asburyparkchamber.com/wp-content/uploads/2025/09/Porchfest-banner.png
ORGANIZER;CN="Trinity Church":MAILTO:office@trinitynj.com
END:VEVENT
BEGIN:VEVENT
DTSTART;TZID=America/New_York:20250928T120000
DTEND;TZID=America/New_York:20250928T170000
DTSTAMP:20260425T183154
CREATED:20250923T192341Z
LAST-MODIFIED:20250923T192341Z
UID:10005868-1759060800-1759078800@asburyparkchamber.com
SUMMARY:Asbury Park Fall Bazaar 2025
DESCRIPTION:ASBURY PARK FALL BAZAAR 2025\nSAT & SUN\, SEPT 27 & 28\, 12-5 PM\nGRAND ARCADE OF CONVENTION HALL\, ASBURY PARK\, NJ \nCelebrate local makers\, music and art – and OKTOBERFEST! – at the Asbury Park Fall Bazaar happening in the Grand Arcade at historic Convention Hall on Saturday & Sunday\, September 27 & 28\, from noon to 5 pm. Asbury Park Fall Bazaar is indoors\, free for all ages\, and pet friendly. \nAsbury Park Fall Bazaar will feature shopping from a curated market of makers from the Jersey Shore & beyond\, kids activities\, photo opps\, music\, workshops\, and delicious food\, libations and entertainment:\n* Unique Shopping: Explore a curated market featuring designers\, makers\, artists and collectors selling a wide array of gifts and goods. Check out our vendor list below!\n* Oktoberfest Celebration featuring food + drinks specials and live music. On Saturday\, don’t miss a performancy by Josh Zuckerman Trio & on Sunday music by DJ C WILL\n* Kids Activies including Face Painting with Kayla from Krissy Face Painting.\n* Snap Insta-worth fall photos at our photo wall designed by Stina Does It\n* Permanent Jewelry Bar: Forever Golden (Saturday) & Arm Vibes Bracelet Bar (Sunday)\n* Bead Bar: Create it and wear it at Zoe’s Project Bead Bar! Design your own custom bracelet (Saturday).\n* Food & Libations: SHUCKED Local 130 Seafood\, Mutiny Beach\, Betty’s Ice Box\, Offshore Coffee Co.\n* Vinyl Record Shopping: R&R Music & Records\n* Exclusive Giveaways: Be one of the first 25 shoppers through the door each day and receive a coveted Bazaar tote bag. \nVENDORS: \nSATURDAY\nA Girls Day\nArtistscent\nAshley’s Handmade Designs\nBeAbove Designs\nBeach Metal Photos\nCaviar Dreams\nCrystalmama.Nj\nDaphnew design\nFlyDyes\nForever Golden Permanent Jewelry\nGGYYcat illustration\nJB Couture Cupcakes\nJulie Mollo!\nLaplaca pottery works\nLily Lough Jewelry\nLittle Grasshoppers\nMadeBySarahJ\nModern Vintage Painters\nOh My Balm\nPostdigital Ink\nR&R Music- Records/ Music Memorabilia\nsanto marco accessories\nSea and Shore Soap Company\nShorecuterie\nSolo Souls\nThe Collected Vault\nTimberloom Woodworking\nTree Ya Later\nTwo Sense Studio \nSUNDAY\nArm Vibes Bracelet Bar\nBrain Wave Superfood Mushrooms\nAugust & Mae\ndordesign\nEveryday Dose Inc\nFrederick Family Co\nGrove 11\nGypsea Caravan\nHolly Jolly Jams\nHye Jane Jewelry\nIntention Blends\nJB Couture Cupcakes\nLaplaca pottery works\nLily May Pottery\nLittle Cheese Shop\nMaker Megan\nMorning Bloom Boutique\nPeru Guru Store\nQueen Pictoria\nQuilty Pleasure\nR&R Music- Records/ Music Memorabilia\nReptilian Revive\nRobey Boutique\nSavvy Fit Soaps\nSets on the beach\nStacey Lyn Designs\nTerra Candles Co.\nTidal Threads Boutique\nTree Ya Later\nFor more information\, visit. www.asburyparkbazaar.com
URL:https://asburyparkchamber.com/event/asbury-park-fall-bazaar-2025/2025-09-28/
LOCATION:The Grand Arcade of Asbury Park Convention Hall
CATEGORIES:Family
ATTACH;FMTTYPE=image/jpeg:https://asburyparkchamber.com/wp-content/uploads/2025/09/519416963_785530270478771_5592375197729579807_n-e1758655551901.jpg
ORGANIZER;CN="Asbury Park Bazaar":MAILTO:team@asburyparkbazaar.com
END:VEVENT
BEGIN:VEVENT
DTSTART;TZID=America/New_York:20250928T130000
DTEND;TZID=America/New_York:20250928T160000
DTSTAMP:20260425T183154
CREATED:20250829T134137Z
LAST-MODIFIED:20250829T134137Z
UID:10005816-1759064400-1759075200@asburyparkchamber.com
SUMMARY:SPUR Family Barn Dance
DESCRIPTION:SPUR PLANS FAMILY BARN DANCE FUNDRAISER\nPut on your dancing boots and grab your Stetson! \nSPUR (Special People United to Ride) is hosting its third annual fundraiser Family Barn Dance on Sunday\, September 28\, 2025. The event will be held in the Thompson Park Activity Barn\, 805 Newman Springs Road\, Lincroft\, from 1 pm to 4pm. \nProceeds will benefit various aspects of SPUR’s therapeutic horsemanship program. The SPUR Board of Directors raises monies for need-based SPUR lesson scholarships for individuals with disabilities\, funds horse purchases and horse retirements\, and provides other material assistance to the Monmouth County Park System for the implementation of SPUR programs.\nThe afternoon will be filled with music and line dancing instruction provided by BTK Entertainment. Pros from BTK will teach and lead line dancing. A 50/50 raffle is also planned.\nTickets are $10 for adults and $5 for children 10 years and under. They can be purchased at the door or online at spuronline.org. \nFor more information contact:\nKaren D. Jarmusz\nMonmouth County Park System\nLiaison to SPUR\n732-542-1642 X 24\nkjarmusz@monmouthcountyparks.com
URL:https://asburyparkchamber.com/event/spur-family-barn-dance/
LOCATION:Thompson Park Activity Center – Monmouth County Park System\, 805 Newman Springs Road\, Lincroft\, 07738
CATEGORIES:Family,Fundraiser
ATTACH;FMTTYPE=image/jpeg:https://asburyparkchamber.com/wp-content/uploads/2025/08/SPUR-Photo-1.jpg
ORGANIZER;CN="Karen Jarmusz":MAILTO:Karen.Jarmusz@co.monmouth.nj.us
END:VEVENT
END:VCALENDAR