BEGIN:VCALENDAR
VERSION:2.0
PRODID:-//Asbury Park Chamber of Commerce - ECPv6.15.18//NONSGML v1.0//EN
CALSCALE:GREGORIAN
METHOD:PUBLISH
X-ORIGINAL-URL:https://asburyparkchamber.com
X-WR-CALDESC:Events for Asbury Park Chamber of Commerce
REFRESH-INTERVAL;VALUE=DURATION:PT1H
X-Robots-Tag:noindex
X-PUBLISHED-TTL:PT1H
BEGIN:VTIMEZONE
TZID:America/New_York
BEGIN:DAYLIGHT
TZOFFSETFROM:-0500
TZOFFSETTO:-0400
TZNAME:EDT
DTSTART:20240310T070000
END:DAYLIGHT
BEGIN:STANDARD
TZOFFSETFROM:-0400
TZOFFSETTO:-0500
TZNAME:EST
DTSTART:20241103T060000
END:STANDARD
BEGIN:DAYLIGHT
TZOFFSETFROM:-0500
TZOFFSETTO:-0400
TZNAME:EDT
DTSTART:20250309T070000
END:DAYLIGHT
BEGIN:STANDARD
TZOFFSETFROM:-0400
TZOFFSETTO:-0500
TZNAME:EST
DTSTART:20251102T060000
END:STANDARD
BEGIN:DAYLIGHT
TZOFFSETFROM:-0500
TZOFFSETTO:-0400
TZNAME:EDT
DTSTART:20260308T070000
END:DAYLIGHT
BEGIN:STANDARD
TZOFFSETFROM:-0400
TZOFFSETTO:-0500
TZNAME:EST
DTSTART:20261101T060000
END:STANDARD
END:VTIMEZONE
BEGIN:VEVENT
DTSTART;TZID=America/New_York:20250515T140000
DTEND;TZID=America/New_York:20250515T170000
DTSTAMP:20260422T010908
CREATED:20250407T155013Z
LAST-MODIFIED:20250407T155013Z
UID:10005195-1747317600-1747328400@asburyparkchamber.com
SUMMARY:Rock of Ages - The Musical
DESCRIPTION:This electrifying musical—known as Broadway’s Best Party—takes you back to the outrageous 1980s on the legendary Sunset Strip\, where dreams come alive through rock ‘n’ roll. Join small-town girl Sherrie and city boy Drew from South Detroit\, as they chase fame\, love\, and rock ‘n’ roll. Rock of Ages is electrified by the magic of the era’s biggest hits from bands like Journey\, Styx and Bon Jovi\, featuring new arrangements of all-time hit songs like “We Built This City\,” “We’re Not Gonna Take It\,” and “Every Rose Has Its Thorn.” With a mix of romance\, comedy\, and high-energy performances\, Rock of Ages is a must-see spectacle that will have you dancing in your seat and singing along all night long. The Axelrod production is directed and choreographed by Lisa Stevens. \nTICKET PRICES\n​​\nPreviews: $42 All Seats\nAdult Premium $74\, Regular $62\, Standard $52\nStandard $52\nStudent: $32\n​\nGroup (10 or more):\nPremium $52 and Regular $47 (no fees)\n​\nThere is a $5 Facility Fee per ticket. \nCredit card purchases have an additional $4.50 Convenience Fee.
URL:https://asburyparkchamber.com/event/rock-of-ages-the-musical-11/
LOCATION:Axelrod Performing Arts Center\, 100 Grant Ave\, Deal\, 07723
CATEGORIES:Family,Music
ORGANIZER;CN="Bell Theater at Bell Works":MAILTO:info@belltheater.org
END:VEVENT
BEGIN:VEVENT
DTSTART;TZID=America/New_York:20250515T190000
DTEND;TZID=America/New_York:20250515T220000
DTSTAMP:20260422T010908
CREATED:20250407T165620Z
LAST-MODIFIED:20250407T165620Z
UID:10005201-1747335600-1747346400@asburyparkchamber.com
SUMMARY:Rock of Ages - The Musical
DESCRIPTION:This electrifying musical—known as Broadway’s Best Party—takes you back to the outrageous 1980s on the legendary Sunset Strip\, where dreams come alive through rock ‘n’ roll. Join small-town girl Sherrie and city boy Drew from South Detroit\, as they chase fame\, love\, and rock ‘n’ roll. Rock of Ages is electrified by the magic of the era’s biggest hits from bands like Journey\, Styx and Bon Jovi\, featuring new arrangements of all-time hit songs like “We Built This City\,” “We’re Not Gonna Take It\,” and “Every Rose Has Its Thorn.” With a mix of romance\, comedy\, and high-energy performances\, Rock of Ages is a must-see spectacle that will have you dancing in your seat and singing along all night long. The Axelrod production is directed and choreographed by Lisa Stevens. \nTICKET PRICES\n​​\nPreviews: $42 All Seats\nAdult Premium $74\, Regular $62\, Standard $52\nStandard $52\nStudent: $32\n​\nGroup (10 or more):\nPremium $52 and Regular $47 (no fees)\n​\nThere is a $5 Facility Fee per ticket. \nCredit card purchases have an additional $4.50 Convenience Fee.
URL:https://asburyparkchamber.com/event/rock-of-ages-the-musical-12/
LOCATION:Axelrod Performing Arts Center\, 100 Grant Ave\, Deal\, 07723
CATEGORIES:Family,Music
ORGANIZER;CN="Bell Theater at Bell Works":MAILTO:info@belltheater.org
END:VEVENT
END:VCALENDAR