BEGIN:VCALENDAR
VERSION:2.0
PRODID:-//Asbury Park Chamber of Commerce - ECPv6.15.18//NONSGML v1.0//EN
CALSCALE:GREGORIAN
METHOD:PUBLISH
X-ORIGINAL-URL:https://asburyparkchamber.com
X-WR-CALDESC:Events for Asbury Park Chamber of Commerce
REFRESH-INTERVAL;VALUE=DURATION:PT1H
X-Robots-Tag:noindex
X-PUBLISHED-TTL:PT1H
BEGIN:VTIMEZONE
TZID:America/New_York
BEGIN:DAYLIGHT
TZOFFSETFROM:-0500
TZOFFSETTO:-0400
TZNAME:EDT
DTSTART:20240310T070000
END:DAYLIGHT
BEGIN:STANDARD
TZOFFSETFROM:-0400
TZOFFSETTO:-0500
TZNAME:EST
DTSTART:20241103T060000
END:STANDARD
BEGIN:DAYLIGHT
TZOFFSETFROM:-0500
TZOFFSETTO:-0400
TZNAME:EDT
DTSTART:20250309T070000
END:DAYLIGHT
BEGIN:STANDARD
TZOFFSETFROM:-0400
TZOFFSETTO:-0500
TZNAME:EST
DTSTART:20251102T060000
END:STANDARD
BEGIN:DAYLIGHT
TZOFFSETFROM:-0500
TZOFFSETTO:-0400
TZNAME:EDT
DTSTART:20260308T070000
END:DAYLIGHT
BEGIN:STANDARD
TZOFFSETFROM:-0400
TZOFFSETTO:-0500
TZNAME:EST
DTSTART:20261101T060000
END:STANDARD
END:VTIMEZONE
BEGIN:VEVENT
DTSTART;TZID=America/New_York:20251009T080000
DTEND;TZID=America/New_York:20251009T170000
DTSTAMP:20260423T184810
CREATED:20251003T184848Z
LAST-MODIFIED:20251003T185408Z
UID:10006167-1759996800-1760029200@asburyparkchamber.com
SUMMARY:Warmest Wishes Coat Drive ❄️
DESCRIPTION:Help keep local kids warm!\nDonate new youth coats (XS–XL) to the Warmest Wishes Coat Drive by 10/30. \nDrop off at Asbury Park City Hall\, 2nd Floor\, City Manager’s Office\, Mon–Fri 8:30am–4:30pm.\nQuestions? Please call 732-502-5753.
URL:https://asburyparkchamber.com/event/warmest-wishes-coat-drive-%e2%9d%84%ef%b8%8f/2025-10-09/
LOCATION:City Hall Parking Lot at 1 Municipal Plaza
CATEGORIES:Family,Fundraiser
ATTACH;FMTTYPE=image/jpeg:https://asburyparkchamber.com/wp-content/uploads/2025/10/Coat-Drive-flyer-2025-v2.jpeg
END:VEVENT
BEGIN:VEVENT
DTSTART;TZID=America/New_York:20251009T150000
DTEND;TZID=America/New_York:20251009T170000
DTSTAMP:20260423T184810
CREATED:20250911T192444Z
LAST-MODIFIED:20250911T192444Z
UID:10005851-1760022000-1760029200@asburyparkchamber.com
SUMMARY:Free Fresh Produce Distribution
DESCRIPTION:Stop by Interfaith Neighbors (810 Fourth Ave\, Asbury Park) for free local produce—no registration required!\nJoin us on Thursdays\, September 11\, September 25\, and October 9 from 3–5pm (or until gone).
URL:https://asburyparkchamber.com/event/free-fresh-produce-distribution/2025-10-09/
LOCATION:Interfaith Neighbors\, 410 4th Avenue\, Asbury Park\, 07712
CATEGORIES:Family
ATTACH;FMTTYPE=image/png:https://asburyparkchamber.com/wp-content/uploads/2025/09/Sept_OctProduce-Dist.png
ORGANIZER;CN="Interfaith Neighbors/Springwood Avenue Rising":MAILTO:DianeS@interfaithneighbors.org
END:VEVENT
END:VCALENDAR