BEGIN:VCALENDAR
VERSION:2.0
PRODID:-//Asbury Park Chamber of Commerce - ECPv6.15.18//NONSGML v1.0//EN
CALSCALE:GREGORIAN
METHOD:PUBLISH
X-ORIGINAL-URL:https://asburyparkchamber.com
X-WR-CALDESC:Events for Asbury Park Chamber of Commerce
REFRESH-INTERVAL;VALUE=DURATION:PT1H
X-Robots-Tag:noindex
X-PUBLISHED-TTL:PT1H
BEGIN:VTIMEZONE
TZID:America/New_York
BEGIN:DAYLIGHT
TZOFFSETFROM:-0500
TZOFFSETTO:-0400
TZNAME:EDT
DTSTART:20240310T070000
END:DAYLIGHT
BEGIN:STANDARD
TZOFFSETFROM:-0400
TZOFFSETTO:-0500
TZNAME:EST
DTSTART:20241103T060000
END:STANDARD
BEGIN:DAYLIGHT
TZOFFSETFROM:-0500
TZOFFSETTO:-0400
TZNAME:EDT
DTSTART:20250309T070000
END:DAYLIGHT
BEGIN:STANDARD
TZOFFSETFROM:-0400
TZOFFSETTO:-0500
TZNAME:EST
DTSTART:20251102T060000
END:STANDARD
BEGIN:DAYLIGHT
TZOFFSETFROM:-0500
TZOFFSETTO:-0400
TZNAME:EDT
DTSTART:20260308T070000
END:DAYLIGHT
BEGIN:STANDARD
TZOFFSETFROM:-0400
TZOFFSETTO:-0500
TZNAME:EST
DTSTART:20261101T060000
END:STANDARD
END:VTIMEZONE
BEGIN:VEVENT
DTSTART;TZID=America/New_York:20250601T120000
DTEND;TZID=America/New_York:20250601T190000
DTSTAMP:20260419T145913
CREATED:20250519T151604Z
LAST-MODIFIED:20250530T195656Z
UID:10005381-1748779200-1748804400@asburyparkchamber.com
SUMMARY:PRIDE DAY! Parade and Celebration!
DESCRIPTION:🌈 Celebrate PRIDE in Asbury Park!!! 🌈\nNew Jersey’s 33rd Annual Statewide LGBTQ+ Pride Celebration. \nSunday\, June 1st\nNoon-7pm\, rain or shine \nNew Jersey’s 33rd Annual Statewide LGBTQ+ Pride Celebration will be held in-person on Sunday\, June 1st 2025. As always\, those behind the scenes have been working closely with the host city of Asbury Park to ensure the safety of all participants. It is the largest\, and oldest\, LGBTQ Pride Celebration in the garden state\, with attendance under normal circumstances surpassing 20\,000. \n🌈 Celebrate love\, diversity\, and community at New Jersey’s 33rd Annual Statewide LGBTQ+ Pride Celebration on Sunday\, June 1\, 2025. Join thousands in Asbury Park for a day filled with joy\, solidarity\, and unforgettable experiences. 🌈 \nPARADE AT NOON! \nRALLY – against a backdrop of the Atlantic Ocean\, and New Jersey’s famous boardwalk\, national headliners and local artists share the rally stage for a six hour outdoor concert. \nThe Pride Festival provides an opportunity for community groups and businesses to distribute a wide variety of information\, including job opportunities\, housing options\, family issues\, disease prevention and screening\, sources of support for victims of violence and abuse\, legal rights and services\, and the availability of support for issues that the queer community faces. This family (and pet) friendly event also features NJ’s largest outdoor display of the Names Project’s AIDS Memorial Quilt\, rides in our Family Zone\, and an array of eating options at our food court. \n📍 Event Overview \n\nDate: Sunday\, June 1\, 2025\nTime: 12:00 PM – 7:00 PM\, rain or shine\nLocation: Festival grounds between Sunset Lake and Convention Hall\, Asbury Park\nHear from inspiring speakers and enjoy powerful performances throughout the day\nAdmission: $10 (includes access to the Festival and Rally grounds\, food court\, family zone\, and more)\n\n🎉 Parade Details \n\nStart Time: 12:00 PM sharp\nRoute: Begins at Asbury Park City Hall\, proceeds south on Main Street\, turns left onto Cookman Avenue\, then left onto Grand Avenue\, and continues north to Sunset Avenue\, ending at the festival grounds\n\n🎶 Festival Highlights \n\nLive Entertainment: Enjoy performances by local and national LGBTQ+ musicians\, drag performers\, and other entertainers\nFood & Vendors: Savor a variety of cuisines and explore offerings from LGBTQ+ advocacy groups and merchants\nFamily Zone: Engage in activities suitable for all ages\, including face painting and crafts\n\n🚗 Getting There \n\nBy Train: Take NJ Transit’s North Jersey Coast Line to Asbury Park Station\, located just a short walk from the parade starting point.\nBy Car: Asbury Park is accessible via Route 71\, with several private parking lots nearby. Parking fills quickly\, so arrive early.\nRide-Share: Consider using ride-share services like Uber or Lyft for convenience and to reduce parking stress.\nBiking: Use VeoRide for a fun and eco-friendly option. Veo electric bikes and scooters are available throughout Asbury Park. Learn more: veoride.com/ride-asbury-park\n\nFor more information and updates\, visit jerseypride.org. \nLet’s come together to celebrate and support the LGBTQ+ community at Jersey Pride 2025!
URL:https://asburyparkchamber.com/event/pride-day-parade-and-celebration/
LOCATION:Asbury Park
CATEGORIES:Family,Music,Parade
ATTACH;FMTTYPE=image/png:https://asburyparkchamber.com/wp-content/uploads/2025/05/Pride-2025.png
ORGANIZER;CN="Jersey Pride":MAILTO:info@jerseypride.org
END:VEVENT
BEGIN:VEVENT
DTSTART;TZID=America/New_York:20250606T170000
DTEND;TZID=America/New_York:20250606T200000
DTSTAMP:20260419T145913
CREATED:20250305T203135Z
LAST-MODIFIED:20250305T203135Z
UID:10004252-1749229200-1749240000@asburyparkchamber.com
SUMMARY:First Friday - Art and Sound at the Station
DESCRIPTION:Join us on the first Friday of every month from 5-8 PM for a vibrant pop-up art and music show at the Asbury Park Transportation Center! Celebrate local talent with an exciting lineup of visual artists\, musicians\, and art/craft vendors showcasing their work in a lively community atmosphere. \nThis monthly event is brought to you by The City of Asbury Park and Over the Moon Art Studios\, creating a platform for emerging and established artists to connect with the community. Whether you’re an artist\, musician\, or maker\, we encourage you to apply and be part of this creative celebration!
URL:https://asburyparkchamber.com/event/first-friday-art-and-sound-at-the-station/2025-06-06/
LOCATION:Asbury Park Transportation Center\, 111 Main Street\, Asbury Park\, 07712
CATEGORIES:Art & Culture,Family,Music
ATTACH;FMTTYPE=image/png:https://asburyparkchamber.com/wp-content/uploads/2025/03/Green-General-First-Friday-1080-x-1350-px.png
ORGANIZER;CN="Over the Moon Art Studios":MAILTO:info@overthemoonartstudios.com
END:VEVENT
BEGIN:VEVENT
DTSTART;TZID=America/New_York:20250606T170000
DTEND;TZID=America/New_York:20250606T220000
DTSTAMP:20260419T145913
CREATED:20250403T164818Z
LAST-MODIFIED:20250509T191542Z
UID:10004402-1749229200-1749247200@asburyparkchamber.com
SUMMARY:AsburyFest 2025!
DESCRIPTION:June 6\, 7 and 8 – Music\, Food\, Fun! \nin the park across from Convention Hall \nFriday: 5pm – 10pm (Free Admission on Friday only)\nSaturday: 11am – 10pm\nSunday: 11am – 6pm \nFood!\nTraditional and unique festival fare available from dozens of vendors. \nDrinks!\nAsburyFest will feature alcoholic and non-alcoholic beverages again this year. \nCrafts!\nGreat gifts and treasures from dozens of local & unique vendors. \nMusic Line-up Coming Soon! \nSupporting the Community\nAsburyFest is proud to partner with local non-profits that support Asbury Park. \nDogs\nAsburyFest welcomes your well behaved and leashed canine friends! \nAdmission (Children 6 and under are free)\n$5.00 \nA portion of the entrance fee goes to support our non-profit partner.\nAsburyFest salutes our local heroes with FREE ADMISSION for all Veterans\, Active Duty Military\, and First Responders.
URL:https://asburyparkchamber.com/event/asburyfest-2025-3/
LOCATION:Bradley Park\, 101-199 5th Ave\, Asbury Park\, NJ\, 07712\, United States
CATEGORIES:Art & Culture,Family,Music
ATTACH;FMTTYPE=image/png:https://asburyparkchamber.com/wp-content/uploads/2025/04/AF25Logo.png
ORGANIZER;CN="Asbury Park Chamber":MAILTO:info@asburyparkchamber.com
END:VEVENT
BEGIN:VEVENT
DTSTART;TZID=America/New_York:20250607T110000
DTEND;TZID=America/New_York:20250607T220000
DTSTAMP:20260419T145913
CREATED:20250403T164730Z
LAST-MODIFIED:20250509T191720Z
UID:10004403-1749294000-1749333600@asburyparkchamber.com
SUMMARY:AsburyFest 2025!
DESCRIPTION:June 6\, 7 and 8 – Music\, Food\, Fun! \nin the park across from Convention Hall \nFriday: 5pm – 10pm (Free Admission on Friday only)\nSaturday: 11am – 10pm\nSunday: 11am – 6pm \nFood!\nTraditional and unique festival fare available from dozens of vendors.\nDrinks! \nAsburyFest will feature alcoholic and non-alcoholic beverages again this year.\nCrafts!\nGreat gifts and treasures from dozens of local & unique vendors. \nMusic Line-up Coming Soon! \nSupporting the Community\nAsburyFest is proud to partner with local non-profits that support Asbury Park. \nDogs\nAsburyFest welcomes your well behaved and leashed canine friends! \nAdmission (Children 6 and under are free)\n$5.00 \nA portion of the entrance fee goes to support our non-profit partner.\nAsburyFest salutes our local heroes with FREE ADMISSION for all Veterans\, Active Duty Military\, and First Responders.
URL:https://asburyparkchamber.com/event/asburyfest-2025-2/
LOCATION:Bradley Park\, 101-199 5th Ave\, Asbury Park\, NJ\, 07712\, United States
CATEGORIES:Art & Culture,Family,Music
ATTACH;FMTTYPE=image/png:https://asburyparkchamber.com/wp-content/uploads/2025/04/AF25Logo.png
ORGANIZER;CN="Asbury Park Chamber":MAILTO:info@asburyparkchamber.com
END:VEVENT
END:VCALENDAR