BEGIN:VCALENDAR
VERSION:2.0
PRODID:-//Asbury Park Chamber of Commerce - ECPv6.15.18//NONSGML v1.0//EN
CALSCALE:GREGORIAN
METHOD:PUBLISH
X-ORIGINAL-URL:https://asburyparkchamber.com
X-WR-CALDESC:Events for Asbury Park Chamber of Commerce
REFRESH-INTERVAL;VALUE=DURATION:PT1H
X-Robots-Tag:noindex
X-PUBLISHED-TTL:PT1H
BEGIN:VTIMEZONE
TZID:America/New_York
BEGIN:DAYLIGHT
TZOFFSETFROM:-0500
TZOFFSETTO:-0400
TZNAME:EDT
DTSTART:20240310T070000
END:DAYLIGHT
BEGIN:STANDARD
TZOFFSETFROM:-0400
TZOFFSETTO:-0500
TZNAME:EST
DTSTART:20241103T060000
END:STANDARD
BEGIN:DAYLIGHT
TZOFFSETFROM:-0500
TZOFFSETTO:-0400
TZNAME:EDT
DTSTART:20250309T070000
END:DAYLIGHT
BEGIN:STANDARD
TZOFFSETFROM:-0400
TZOFFSETTO:-0500
TZNAME:EST
DTSTART:20251102T060000
END:STANDARD
BEGIN:DAYLIGHT
TZOFFSETFROM:-0500
TZOFFSETTO:-0400
TZNAME:EDT
DTSTART:20260308T070000
END:DAYLIGHT
BEGIN:STANDARD
TZOFFSETFROM:-0400
TZOFFSETTO:-0500
TZNAME:EST
DTSTART:20261101T060000
END:STANDARD
END:VTIMEZONE
BEGIN:VEVENT
DTSTART;TZID=America/New_York:20250810T120000
DTEND;TZID=America/New_York:20250810T160000
DTSTAMP:20260422T111547
CREATED:20250731T184252Z
LAST-MODIFIED:20250731T184656Z
UID:10005718-1754827200-1754841600@asburyparkchamber.com
SUMMARY:APESTC Garden Party
DESCRIPTION:Join us for the Friends of APESTC (Asbury Park Environmental Shade Tree Commission) Garden Party on Sunday\, August 10\, 12–4pm at Lake Ave Gardens (Grand Ave to St. James)!\nMusic\, games\, garden tours\, kids activities\, dunk tank\, corn hole.\nFree & open to the public. \nDetails: https://friendsofapestc.org
URL:https://asburyparkchamber.com/event/apestc-garden-party/
LOCATION:Asbury Park
CATEGORIES:Art & Culture,Family
ATTACH;FMTTYPE=image/png:https://asburyparkchamber.com/wp-content/uploads/2025/07/Unknown.png
ORGANIZER;CN="APESTC":MAILTO:info@friendsofapestc.org
END:VEVENT
BEGIN:VEVENT
DTSTART;TZID=America/New_York:20250810T190000
DTEND;TZID=America/New_York:20250810T210000
DTSTAMP:20260422T111547
CREATED:20250620T143622Z
LAST-MODIFIED:20250620T143622Z
UID:10005489-1754852400-1754859600@asburyparkchamber.com
SUMMARY:How My Grandparents Fell in Love the Musical
DESCRIPTION:In 1933\, Charlie\, a Polish-born Jew who emigrated to America a decade earlier\, returns to his hometown of Rovno in search of a bride. There Charlie meets Chava\, who works at a hat shop and hopes to become a scholar. However\, Chava’s ambitions for the future and the growing clouds of European anti-Semitism and persecution threaten both their dreams.
URL:https://asburyparkchamber.com/event/how-my-grandparents-fell-in-love-the-musical/2025-08-10/
LOCATION:New Jersey Repertory Company\, 179 Broadway\, Long Branch\, NJ\, 07740\, United States
CATEGORIES:Family
ORGANIZER;CN="New Jersey Repertory Company":MAILTO:njrep@njrep.org
END:VEVENT
BEGIN:VEVENT
DTSTART;TZID=America/New_York:20250811T180000
DTEND;TZID=America/New_York:20250811T210000
DTSTAMP:20260422T111547
CREATED:20250623T144150Z
LAST-MODIFIED:20250804T134539Z
UID:10005499-1754935200-1754946000@asburyparkchamber.com
SUMMARY:Music Mondays at Springwood Park!
DESCRIPTION:Celebrating 10 years of free concerts in the heart of the West Side!\nJoin us at 6:00 p.m. for the start of a summer full of soul\, joy\, and unforgettable performances in the heart of the city’s West Side. The series features returning crowd favorites including Alexander Simone\, The Men of Soul\, JT Bowen\, Ms. G and da Guyz\, and Des and the Swagmatics\, along with many more. \nSpringwood Park | Mondays at 6:00 p.m. | Through August 26\nCelebrating 10 years of soul\, joy\, and community on the West Side. \nThe Soul Project NOLA kicks off the season tonight! \nSee schedule below: \n\nAugust 5 – The Sounds of Sandstorm\nAugust 11 – The Men of Soul | Leon Trent Waterfront Duo\nAugust 18 – Ms. G & Da Guyz | Kuf Knotz & Christine Elise\nAugust 25 – NEW DATE just added – Alexander Simone & WHODAT Live Crew\nAugust 26 (Tues) – The Sensational Soul Cruisers\n\nSponsored by Jules L. Plangere Family Foundation\, Mullin Family\, Donna and Ron Troppoli\, and Asbury Audio.
URL:https://asburyparkchamber.com/event/music-mondays-at-springwood-park-10/2025-08-11/
LOCATION:Springwood Park\, 126 Atkins Ave\, Asbury Park\, NJ\, 07712\, United States
CATEGORIES:Family,Music
ORGANIZER;CN="Asbury Park Music Foundation":MAILTO:info@asburyparkmusiclives.org
END:VEVENT
BEGIN:VEVENT
DTSTART;TZID=America/New_York:20250812T190000
DTEND;TZID=America/New_York:20250812T210000
DTSTAMP:20260422T111547
CREATED:20250623T144149Z
LAST-MODIFIED:20250804T142133Z
UID:10005508-1755025200-1755032400@asburyparkchamber.com
SUMMARY:Asbury Park Concert Band - Now on Tuesdays!
DESCRIPTION:The Asbury Park Concert Band has been entertaining crowds of all ages since 1945. Now on Tuesday nights and celebrating an incredible 80 years\, this beloved community band brings timeless classics and themed performances to the Boardwalk.\nShows featuring weekly themes from patriotic marches to jazz to Broadway tunes take place every Tuesday night at 7pm in July and August. These family-friendly shows are held at the Arthur Pryor Bandshell at the 5th Avenue Pavilion on the Asbury Park Boardwalk (entrance on Ocean Avenue) overlooking the boardwalk and the ocean. \nWhether you come for one show or stay all season\, every concert is free\, family friendly\, and open to all. Bring a blanket\, bring a friend\, and take part in a tradition that continues to bring people together through music. \nAsbury Park Concert Band Schedule:\nAugust 5 – Traveling the Seas (with student performers)\nAugust 12 – Perfect Pairs\nAugust 19 – More Broadway\nAugust 26 – Salute to American Entertainers (with student performers)\nMade possible through support from McLoone’s and the American Federation of Musicians. \nArthur Pryor Bandshell | Tuesdays at 7:00 p.m. | July 1 – August 26
URL:https://asburyparkchamber.com/event/asbury-park-concert-band-now-on-tuesdays/2025-08-12/
LOCATION:Arthur Pryor Bandshell\, 5th Ave Pavilion
CATEGORIES:Family,Music
ORGANIZER;CN="Asbury Park Music Foundation":MAILTO:info@asburyparkmusiclives.org
END:VEVENT
BEGIN:VEVENT
DTSTART;TZID=America/New_York:20250813T190000
DTEND;TZID=America/New_York:20250813T210000
DTSTAMP:20260422T111547
CREATED:20250623T144149Z
LAST-MODIFIED:20250804T141831Z
UID:10005518-1755111600-1755118800@asburyparkchamber.com
SUMMARY:AP Live! on the Boardwalk
DESCRIPTION:Asbury Park Live! at the 1st Avenue Green on the AP Boardwalk is a 10-week series on Wednesday nights next to the MOGO Korean Fusion Tacos stand.\nBack for its ninth season\, this high-energy series features regional talent across genres—pop\, rock\, funk\, hip hop\, and indie—with student bands from Lakehouse Music Academy opening each night.\nLakehouse Music Academy bands featuring APMF scholarship students open for local musicians/bands each week. \nBYO lawn chair\, your friends\, and your dancing shoes! \nFirst Avenue Green | Wednesdays at 7:00 p.m. | June 25 – August 28 \nSee schedule below: \nAugust 6 – Indigo Sky | Emerson Woolf & The Wishbones\nAugust 12 (Tues) – October Man | Great Oblivion\nAugust 20 – Mike Frank & Friends | Foes of Fern\nAugust 28 (Thurs) – Alors Alors | S0ulfood | Des & The Swagmatics \nPresented with MOGO\, Watermark\, and Lakehouse Music Academy. Sponsored by Tito’s Handmade Vodka\, Pepsi\, Asbury Park Sunset\, Provident Bank\, Asbury Park Brewery\, Ansell Grimm & Aaron\, Madison Marquette\, The Stone Pony\, and Wild Air Brewing
URL:https://asburyparkchamber.com/event/ap-live-on-the-boardwalk/2025-08-13/
LOCATION:1st Avenue Green Space\, 1st Avenue\, Asbury Park
CATEGORIES:Family,Music
ORGANIZER;CN="Asbury Park Music Foundation":MAILTO:info@asburyparkmusiclives.org
END:VEVENT
BEGIN:VEVENT
DTSTART;TZID=America/New_York:20250815T170000
DTEND;TZID=America/New_York:20250815T190000
DTSTAMP:20260422T111547
CREATED:20250711T144553Z
LAST-MODIFIED:20250711T144553Z
UID:10005670-1755277200-1755284400@asburyparkchamber.com
SUMMARY:Play on Pine Returns for Summer 2025!
DESCRIPTION:Join us on Pine Street between 2nd and 3rd Avenues every Friday from July 11 to August 29\, 2025 from 5pm to 7pm for Play on Pine—a free\, family-friendly series of summer street and playground activities. Kids can enjoy chalk art\, jump ropes\, scooters\, cardboard creations\, soccer balls\, and more in a safe\, playful environment. Children must be supervised by an adult. Weather permitting.
URL:https://asburyparkchamber.com/event/play-on-pine-returns-for-summer-2025/2025-08-15/
LOCATION:Pine Street\, 2nd and 3rd Ave\, Asbury Park\, 07422
CATEGORIES:Family
ATTACH;FMTTYPE=image/png:https://asburyparkchamber.com/wp-content/uploads/2025/07/Play-on-Pine-2025.png
END:VEVENT
BEGIN:VEVENT
DTSTART;TZID=America/New_York:20250816T080000
DTEND;TZID=America/New_York:20250816T130000
DTSTAMP:20260422T111547
CREATED:20250814T165206Z
LAST-MODIFIED:20250814T165206Z
UID:10005790-1755331200-1755349200@asburyparkchamber.com
SUMMARY:AP Sunset Farmer's Market
DESCRIPTION:Farmer’s Market: 4 Farm stands\, pickles\, honey\, breads Italian cheeses\, pastries and other specialty vendors. \nLocation: \nFireman’s Park – Sunset Ave and Main Street\, Asbury Park\, NJ 07712
URL:https://asburyparkchamber.com/event/ap-sunset-farmers-market/2025-08-16/
LOCATION:Fireman’s Park\, Main St. and Sunset Ave.\, Asbury Park\, 07712
CATEGORIES:Family
ATTACH;FMTTYPE=image/jpeg:https://asburyparkchamber.com/wp-content/uploads/2025/08/515497190_1255664096348663_4143454345591754815_n.jpg
END:VEVENT
BEGIN:VEVENT
DTSTART;TZID=America/New_York:20250816T090000
DTEND;TZID=America/New_York:20250816T110000
DTSTAMP:20260422T111547
CREATED:20250814T153424Z
LAST-MODIFIED:20250814T153654Z
UID:10005786-1755334800-1755342000@asburyparkchamber.com
SUMMARY:Open Garden Tours & Free Community Farm Stand
DESCRIPTION:Open Garden Tours & Free Community Farm Stand – Saturday\, August 16\nVisit the City of Asbury Park Community Farm Stand (Bangs & Memorial) from 9am to 11am.\nWalk through the garden and see how we’re growing fresh\, healthy veggies for the community!
URL:https://asburyparkchamber.com/event/open-garden-tours-free-community-farm-stand/
LOCATION:Community Farm Stand\, Corner of Bangs and Memorial Aves\, Asbury Park\, 07712
CATEGORIES:Family
ATTACH;FMTTYPE=image/png:https://asburyparkchamber.com/wp-content/uploads/2025/08/Community-Farm-Stand-8-16-25-e1755185799915.png
END:VEVENT
BEGIN:VEVENT
DTSTART;TZID=America/New_York:20250816T130000
DTEND;TZID=America/New_York:20250816T160000
DTSTAMP:20260422T111547
CREATED:20250814T153424Z
LAST-MODIFIED:20250814T153926Z
UID:10005787-1755349200-1755360000@asburyparkchamber.com
SUMMARY:The City of Asbury Park's Big Splash!
DESCRIPTION:The City of Asbury Park’s Big Splash Party is coming up on Saturday\, August 16\, 2025 from 1 to 4pm at Springwood Park.! \nJoin us for waterslides\, music\, snacks\, and a full afternoon of fun. For more info\, call 732-502-5753. \nHosted by Community & Cultural Affairs.
URL:https://asburyparkchamber.com/event/the-city-of-asbury-parks-big-splash/
LOCATION:Springwood Park\, 126 Atkins Ave\, Asbury Park\, NJ\, 07712\, United States
CATEGORIES:Family
ATTACH;FMTTYPE=image/jpeg:https://asburyparkchamber.com/wp-content/uploads/2025/08/Big-Splash-2025-e1755185956999.jpg
END:VEVENT
END:VCALENDAR