BEGIN:VCALENDAR
VERSION:2.0
PRODID:-//Asbury Park Chamber of Commerce - ECPv6.15.18//NONSGML v1.0//EN
CALSCALE:GREGORIAN
METHOD:PUBLISH
X-ORIGINAL-URL:https://asburyparkchamber.com
X-WR-CALDESC:Events for Asbury Park Chamber of Commerce
REFRESH-INTERVAL;VALUE=DURATION:PT1H
X-Robots-Tag:noindex
X-PUBLISHED-TTL:PT1H
BEGIN:VTIMEZONE
TZID:America/New_York
BEGIN:DAYLIGHT
TZOFFSETFROM:-0500
TZOFFSETTO:-0400
TZNAME:EDT
DTSTART:20250309T070000
END:DAYLIGHT
BEGIN:STANDARD
TZOFFSETFROM:-0400
TZOFFSETTO:-0500
TZNAME:EST
DTSTART:20251102T060000
END:STANDARD
BEGIN:DAYLIGHT
TZOFFSETFROM:-0500
TZOFFSETTO:-0400
TZNAME:EDT
DTSTART:20260308T070000
END:DAYLIGHT
BEGIN:STANDARD
TZOFFSETFROM:-0400
TZOFFSETTO:-0500
TZNAME:EST
DTSTART:20261101T060000
END:STANDARD
BEGIN:DAYLIGHT
TZOFFSETFROM:-0500
TZOFFSETTO:-0400
TZNAME:EDT
DTSTART:20270314T070000
END:DAYLIGHT
BEGIN:STANDARD
TZOFFSETFROM:-0400
TZOFFSETTO:-0500
TZNAME:EST
DTSTART:20271107T060000
END:STANDARD
END:VTIMEZONE
BEGIN:VEVENT
DTSTART;TZID=America/New_York:20260206T183000
DTEND;TZID=America/New_York:20260206T213000
DTSTAMP:20260423T154418
CREATED:20251117T191050Z
LAST-MODIFIED:20251211T171532Z
UID:10006634-1770402600-1770413400@asburyparkchamber.com
SUMMARY:CentraState Healthcare Foundation's 64th Annual Celebration Ball - Under the Sea 🧜🏼‍♀️
DESCRIPTION:CentraState Healthcare Foundation is delighted to announce their 64th Annual Celebration Ball taking place on Friday\, February 6\, 2026\, at South Gate Manor in Freehold\, NJ. Proceeds from this event will benefit programs and services offered at CentraState Medical Center.\nThey will be honoring Eugene W. Landy as Distinguished Ambassador. He is a pioneering leader in the Real Estate Investment Trust (REIT) industry\, serving as founder and Chairman of UMH Properties\, Inc.\, and founder and former Chairman of Monmouth Real Estate Investment Corporation. A graduate of the U.S. Merchant Marine Academy and Yale Law School\, Mr. Landy has been widely recognized for his visionary leadership\, contributions to affordable housing\, and decades of service\, helping grow UMH into one of the nation’s largest manufactured home community owners while improving the lives of residents\, employees\, and communities. \nThis highly anticipated event’s theme is Under the Sea and will feature a reception\, dinner\, dancing\, auctions\, entertainment and more. Our co-chairs this year Mr. & Mrs. Julian Leone\, Dr. & Mrs. Sanjay Mehta\, and Honorable Barbara J McMorrow and J. Patrick McMorrow\, Esq. are planning a glamorous black-tie optional evening. Early bird pricing is available until 12/31/2025. \nFor more information\, please call the Foundation at (732) 294-7030\, e-mail foundation@centrastate.com\, or register online at https://www.centrastatefoundation.org/special-events/celebration-ball/.
URL:https://asburyparkchamber.com/event/64th-annual-celebration-ball/
LOCATION:South Gate Manor\, 260 South St.\, Freehold\, NJ\, NJ\, 07728\, United States
CATEGORIES:Fundraiser
ATTACH;FMTTYPE=image/jpeg:https://asburyparkchamber.com/wp-content/uploads/2025/11/1763149507023-5d05f69b-9a53-4a23-b530-dd52e54f32d0_2-1.jpg
ORGANIZER;CN="CentraState":MAILTO:Gayle.Foley@centrastate.org
END:VEVENT
BEGIN:VEVENT
DTSTART;TZID=America/New_York:20260211T190000
DTEND;TZID=America/New_York:20260211T210000
DTSTAMP:20260423T154418
CREATED:20260112T161856Z
LAST-MODIFIED:20260112T162022Z
UID:10007035-1770836400-1770843600@asburyparkchamber.com
SUMMARY:🏳️‍🌈 Rainbow Quest presents GAYME NIGHT! 🏳️‍🌈
DESCRIPTION:Monmouth County Habitat for Humanity Restore is hosting GAYME NIGHT on the 2nd Wednesday of every month\, starting January and ending in June.\nAll are welcome! \n$20 suggested donation is recommended. \nFor more information\, please visit RainbowQuest.org
URL:https://asburyparkchamber.com/event/%f0%9f%8f%b3%ef%b8%8f%f0%9f%8c%88-rainbow-quest-presents-gayme-night-%f0%9f%8f%b3%ef%b8%8f%f0%9f%8c%88/2026-02-11/
LOCATION:Coastal Habitat for Humanity ReStore\, 1105 Memorial Dr.\, Asbury Park\, NJ\, 07712\, United States
CATEGORIES:Fundraiser,Networking,Party
ATTACH;FMTTYPE=image/jpeg:https://asburyparkchamber.com/wp-content/uploads/2026/01/Revised-Habitat-Game-Night-2026-e1768234812590.jpg
ORGANIZER;CN="Rainbow Quest":MAILTO:info@rainbowquest.org
END:VEVENT
BEGIN:VEVENT
DTSTART;TZID=America/New_York:20260215T130000
DTEND;TZID=America/New_York:20260215T200000
DTSTAMP:20260423T154418
CREATED:20260109T201713Z
LAST-MODIFIED:20260212T202646Z
UID:10007029-1771160400-1771185600@asburyparkchamber.com
SUMMARY:🎶🍀 Shamrock 'n Roll at the Wonder Bar 🍀🎶
DESCRIPTION:Grab your green gear and come rock out to our 12th Annual ShamRock N Roll at Wonder Bar! \nThis event will be held from 1:00pm-8:00pm on February 15th. Tickets are $20 and will be available at the door or will be available to purchase in advance soon. Proceeds will be in support of the 11th Annual Asbury Park St. Patrick’s Day Parade. \nLineup: \nTBA \nCan’t attend? Please consider donating!
URL:https://asburyparkchamber.com/event/%f0%9f%8e%b6%f0%9f%8d%80-shamrock-n-roll-at-the-wonder-bar-%f0%9f%8d%80%f0%9f%8e%b6/
LOCATION:Wonder Bar\, 1213 Ocean Ave\, Asbury Park\, 07712
CATEGORIES:Fundraiser,Music
ATTACH;FMTTYPE=image/jpeg:https://asburyparkchamber.com/wp-content/uploads/2026/01/Shamrock_Instagram_2026_tbajpg-2048x2048-1.jpg
END:VEVENT
BEGIN:VEVENT
DTSTART;TZID=America/New_York:20260223T180000
DTEND;TZID=America/New_York:20260223T210000
DTSTAMP:20260423T154418
CREATED:20260129T161037Z
LAST-MODIFIED:20260129T161324Z
UID:10007140-1771869600-1771880400@asburyparkchamber.com
SUMMARY:❄️ Inaugural Winter Celebration at Watermark ❄️
DESCRIPTION:Hosted by the Jersey Shore Partnership’s Young Professionals Committee\, the Inaugural Winter Celebration brings together community leaders and rising professionals to connect\, share ideas\, and celebrate the Shore.\nJoin us at Watermark in Asbury Park for an oceanfront evening with drinks\, light fare\, and great company. Celebrate the people and places that make the Jersey Shore special while supporting the Partnership’s mission to keep the Shore vibrant year-round.\nWhether you’re a longtime supporter or new to the Partnership\, this is the perfect opportunity to network and show your love for the Shore! \n***Sponsorships available
URL:https://asburyparkchamber.com/event/%e2%9d%84%ef%b8%8f-inaugural-winter-celebration-at-watermark-%e2%9d%84%ef%b8%8f/
LOCATION:Watermark\, 800 Ocean Ave.\, Asbury Park
CATEGORIES:Fundraiser
ATTACH;FMTTYPE=image/jpeg:https://asburyparkchamber.com/wp-content/uploads/2026/01/tempImageykN6Xt.jpg
ORGANIZER;CN="Jersey Shore Partnership":MAILTO:info@jerseyshorepartnership.com
END:VEVENT
BEGIN:VEVENT
DTSTART;TZID=America/New_York:20260228T120000
DTEND;TZID=America/New_York:20260228T160000
DTSTAMP:20260423T154418
CREATED:20260109T201713Z
LAST-MODIFIED:20260109T201713Z
UID:10007028-1772280000-1772294400@asburyparkchamber.com
SUMMARY:🍀St. Patrick's Day Parade Pre-Game at Asbury Park Brewery🍻
DESCRIPTION:This event is all ages and free to attend; bring the kids & friendly doggies! \nThere will be live music by Chris Brown\, festive decor & fun for the whole family. Raffle tickets will be available for purchase\, and can be used for bidding on various items or participating in fun activities around the brewery. \n100% of the raffle ticket sales will go to the AP St. Patrick’s Day Parade Fundraiser & APB will also be donating a percentage of the bar sales directly to the fundraiser so be sure to come thirsty!
URL:https://asburyparkchamber.com/event/%f0%9f%8d%80st-patricks-day-parade-pre-game-at-asbury-park-brewery%f0%9f%8d%bb/
LOCATION:Asbury Park Brewery\, 614 Cookman Ave.\, Suite 1\, Asbury Park\, 07712
CATEGORIES:Family,Fundraiser,Music
ATTACH;FMTTYPE=image/jpeg:https://asburyparkchamber.com/wp-content/uploads/2026/01/AP_BREWERY_ADMAT_v2.jpg
END:VEVENT
END:VCALENDAR