BEGIN:VCALENDAR
VERSION:2.0
PRODID:-//Asbury Park Chamber of Commerce - ECPv6.15.18//NONSGML v1.0//EN
CALSCALE:GREGORIAN
METHOD:PUBLISH
X-ORIGINAL-URL:https://asburyparkchamber.com
X-WR-CALDESC:Events for Asbury Park Chamber of Commerce
REFRESH-INTERVAL;VALUE=DURATION:PT1H
X-Robots-Tag:noindex
X-PUBLISHED-TTL:PT1H
BEGIN:VTIMEZONE
TZID:America/New_York
BEGIN:DAYLIGHT
TZOFFSETFROM:-0500
TZOFFSETTO:-0400
TZNAME:EDT
DTSTART:20240310T070000
END:DAYLIGHT
BEGIN:STANDARD
TZOFFSETFROM:-0400
TZOFFSETTO:-0500
TZNAME:EST
DTSTART:20241103T060000
END:STANDARD
BEGIN:DAYLIGHT
TZOFFSETFROM:-0500
TZOFFSETTO:-0400
TZNAME:EDT
DTSTART:20250309T070000
END:DAYLIGHT
BEGIN:STANDARD
TZOFFSETFROM:-0400
TZOFFSETTO:-0500
TZNAME:EST
DTSTART:20251102T060000
END:STANDARD
BEGIN:DAYLIGHT
TZOFFSETFROM:-0500
TZOFFSETTO:-0400
TZNAME:EDT
DTSTART:20260308T070000
END:DAYLIGHT
BEGIN:STANDARD
TZOFFSETFROM:-0400
TZOFFSETTO:-0500
TZNAME:EST
DTSTART:20261101T060000
END:STANDARD
END:VTIMEZONE
BEGIN:VEVENT
DTSTART;TZID=America/New_York:20250708T183000
DTEND;TZID=America/New_York:20250708T203000
DTSTAMP:20260423T230830
CREATED:20250627T155529Z
LAST-MODIFIED:20250708T194735Z
UID:10005533-1751999400-1752006600@asburyparkchamber.com
SUMMARY:SLOW ROLL - Blessing of the Bikes - POSTPONED TO July 22 at 6:30 PM!
DESCRIPTION:The Jersey Shore weather is at it again! The National Weather Service has issued a Severe Thunderstorm Watch for this evening. So let’s all stay off our bikes and stay safe. Don’t worry\, we already have a new date scheduled! New date for the Slow Roll with Blessing of the Bikes is July 22 at 6:30pm. See you then! \nJoin the Asbury Park Complete Streets Coalition & Trinity Church\, Asbury Park as we kick off our 2025 riding season!\nWe’ll begin by having our bikes blessed by Father Chase from Trinity Church and then take a leisurely slow roll around Asbury Park!\nAll levels of riders are invited.\nKids are welcome!\nHelmets are required for those under 17 years old. \n***********************\nAs we ride\, you will learn about the 7th Annual Jersey Shore Ride for Food Justice. The JSRFJ is an annual charity bike ride along the Jersey Shore which raises funds for the Trinity Center for Community\, a non-profit organization that provides comprehensive food assistance\, community meal services\, housing support\, homelessness prevention\, Code Blue\, and community arts and music programs.
URL:https://asburyparkchamber.com/event/slow-roll-blessing-of-the-bikes/
LOCATION:Asbury Park Boardwalk\, 1300 Ocean Ave\, Asbury Park\, 07712
CATEGORIES:Family,Fundraiser
ATTACH;FMTTYPE=image/png:https://asburyparkchamber.com/wp-content/uploads/2025/06/Slow-Ride-Flyer-_1_.png
ORGANIZER;CN="Trinity Church":MAILTO:office@trinitynj.com
END:VEVENT
END:VCALENDAR