BEGIN:VCALENDAR
VERSION:2.0
PRODID:-//Asbury Park Chamber of Commerce - ECPv6.15.18//NONSGML v1.0//EN
CALSCALE:GREGORIAN
METHOD:PUBLISH
X-ORIGINAL-URL:https://asburyparkchamber.com
X-WR-CALDESC:Events for Asbury Park Chamber of Commerce
REFRESH-INTERVAL;VALUE=DURATION:PT1H
X-Robots-Tag:noindex
X-PUBLISHED-TTL:PT1H
BEGIN:VTIMEZONE
TZID:America/New_York
BEGIN:DAYLIGHT
TZOFFSETFROM:-0500
TZOFFSETTO:-0400
TZNAME:EDT
DTSTART:20240310T070000
END:DAYLIGHT
BEGIN:STANDARD
TZOFFSETFROM:-0400
TZOFFSETTO:-0500
TZNAME:EST
DTSTART:20241103T060000
END:STANDARD
BEGIN:DAYLIGHT
TZOFFSETFROM:-0500
TZOFFSETTO:-0400
TZNAME:EDT
DTSTART:20250309T070000
END:DAYLIGHT
BEGIN:STANDARD
TZOFFSETFROM:-0400
TZOFFSETTO:-0500
TZNAME:EST
DTSTART:20251102T060000
END:STANDARD
BEGIN:DAYLIGHT
TZOFFSETFROM:-0500
TZOFFSETTO:-0400
TZNAME:EDT
DTSTART:20260308T070000
END:DAYLIGHT
BEGIN:STANDARD
TZOFFSETFROM:-0400
TZOFFSETTO:-0500
TZNAME:EST
DTSTART:20261101T060000
END:STANDARD
END:VTIMEZONE
BEGIN:VEVENT
DTSTART;TZID=America/New_York:20250727T103000
DTEND;TZID=America/New_York:20250727T153000
DTSTAMP:20260420T031031
CREATED:20250724T154652Z
LAST-MODIFIED:20250724T155056Z
UID:10005717-1753612200-1753630200@asburyparkchamber.com
SUMMARY:ASBURY PARK'S INAUGURAL CHRISTMAS IN JULY DAY 3!! 🎅🏻🎄
DESCRIPTION:Community Karma is thrilled to partner with the Asbury Park Chamber of Commerce for the inaugural Christmas in July celebration\, Thursday\, July 24 – Sunday\, July 27 —a weekend of festive fun\, community spirit\, and a little holiday magic in the summer sun! \nBecause really\, who wouldn’t want to say hi to Asbury Santa in his off-season and beachwear\, all while supporting two great causes: the Asbury Park Backpack Drive and Holiday Toy Drive? 🎅🌴 \nAll proceeds and donations collected will support underserved families in the greater Asbury Park area through Community Karma’s Backpack and Holiday Toy Drives. \nPlease visit https://www.communitykarma.org/christmas-in-july for Santa’s full weekend schedule!
URL:https://asburyparkchamber.com/event/asbury-parks-inaugural-christmas-in-july-%f0%9f%8e%85%f0%9f%8f%bb/
LOCATION:Convention Hall\, 1300 Ocean Avenue\, Asbury Park\, NJ\, 07712\, United States
CATEGORIES:Family,Fundraiser
ATTACH;FMTTYPE=image/jpeg:https://asburyparkchamber.com/wp-content/uploads/2025/07/Sunday.jpg
ORGANIZER;CN="Asbury Park Chamber":MAILTO:info@asburyparkchamber.com
END:VEVENT
END:VCALENDAR