BEGIN:VCALENDAR
VERSION:2.0
PRODID:-//Asbury Park Chamber of Commerce - ECPv6.15.18//NONSGML v1.0//EN
CALSCALE:GREGORIAN
METHOD:PUBLISH
X-WR-CALNAME:Asbury Park Chamber of Commerce
X-ORIGINAL-URL:https://asburyparkchamber.com
X-WR-CALDESC:Events for Asbury Park Chamber of Commerce
REFRESH-INTERVAL;VALUE=DURATION:PT1H
X-Robots-Tag:noindex
X-PUBLISHED-TTL:PT1H
BEGIN:VTIMEZONE
TZID:America/New_York
BEGIN:DAYLIGHT
TZOFFSETFROM:-0500
TZOFFSETTO:-0400
TZNAME:EDT
DTSTART:20250309T070000
END:DAYLIGHT
BEGIN:STANDARD
TZOFFSETFROM:-0400
TZOFFSETTO:-0500
TZNAME:EST
DTSTART:20251102T060000
END:STANDARD
BEGIN:DAYLIGHT
TZOFFSETFROM:-0500
TZOFFSETTO:-0400
TZNAME:EDT
DTSTART:20260308T070000
END:DAYLIGHT
BEGIN:STANDARD
TZOFFSETFROM:-0400
TZOFFSETTO:-0500
TZNAME:EST
DTSTART:20261101T060000
END:STANDARD
BEGIN:DAYLIGHT
TZOFFSETFROM:-0500
TZOFFSETTO:-0400
TZNAME:EDT
DTSTART:20270314T070000
END:DAYLIGHT
BEGIN:STANDARD
TZOFFSETFROM:-0400
TZOFFSETTO:-0500
TZNAME:EST
DTSTART:20271107T060000
END:STANDARD
END:VTIMEZONE
BEGIN:VEVENT
DTSTART;TZID=America/New_York:20260419T143000
DTEND;TZID=America/New_York:20260419T180000
DTSTAMP:20260422T004421
CREATED:20260416T161138Z
LAST-MODIFIED:20260416T161928Z
UID:10007460-1776609000-1776621600@asburyparkchamber.com
SUMMARY:Sandy Mack's Wonder Jam at the Wonder Bar 💀
DESCRIPTION:Sandy Mack’s Wonder Jam\nfeaturing Sandy Mack & Friends \nSandy Mack leads a stellar rotating house band for two long sets of classic rock\, jam and blues with plenty of good ol’ Grateful Dead! \nTo the Jersey Shore music fans\, he is an ambassador of everything good about our music scene whose presence is familiar as a favorite club or neighborhood watering hole. To his fellow music makers\, he’s the go-to man for all manner of sessions and sitting-in situations; a blues harp ace who can stake out harmonious common ground with acoustic old-schoolers\, supercharged ax slingers\, roots rockers and alt-Americana songsmiths alike — or as local radio linchpin Rich Robinson said\, “he could sit in with anybody like he’s played with them forever.” \nSandy Mack is the ultimate ringmaster of a musical ritual that rivals any family’s most cherished Sunday-sauce tradition. The Wonder Jam continues with an extended fanbase of musical regulars\, guest players\, fans\, friends\, and always interesting cast of Asbury Park characters now know as the “Jamily” putting the spotlight on the Asbury Park music community. \n21+ admitted \n$10 in advance plus applicable surcharges\, $10 at the door
URL:https://asburyparkchamber.com/event/sandy-macks-wonder-jam-at-the-wonder-bar-%f0%9f%92%80-5/2026-04-19/
LOCATION:Wonder Bar\, 1213 Ocean Ave\, Asbury Park\, 07712
CATEGORIES:Music
ATTACH;FMTTYPE=image/jpeg:https://asburyparkchamber.com/wp-content/uploads/2026/01/Sandy-Mack-Sundays-Wonder-bar.jpg
END:VEVENT
BEGIN:VEVENT
DTSTART;TZID=America/New_York:20260419T190000
DTEND;TZID=America/New_York:20260419T230000
DTSTAMP:20260422T004421
CREATED:20260211T165128Z
LAST-MODIFIED:20260211T165128Z
UID:10007269-1776625200-1776639600@asburyparkchamber.com
SUMMARY:Chameleons with The Veldt at the Stone Pony
DESCRIPTION:The legacy of The Chameleons dates all the way back to 1981 when the band were discovered by legendary BBC Radio host John Peel. Following their debut single ‘In Shreds’ for Epic Records in 1982\, the band released three seminal albums: the widely acclaimed ‘Script of the Bridge’ (1983)\, cited by many sources to be a masterpiece way ahead of its time\, its follow up ‘What Does Anything Mean? Basically!’ (1984) and for the US based Geffen Records ‘Strange Times’ (1986). Their unique sound quickly captivated the public through their very own mix of melancholic\, yet energetic and powerful tunes\, hypnotic ethereal riffs and the potent\, timeless lyrical style. The Chameleons are considered to be one of the most influential guitar bands of the 80s and 90s\, contributing substantially to the post-punk\, shoegaze and indie scenes and are often regarded as one of the most underrated bands ever to emerge from the city of Manchester\, England.
URL:https://asburyparkchamber.com/event/chameleons-with-the-veldt-at-the-stone-pony/
LOCATION:The Stone Pony
CATEGORIES:Music
ATTACH;FMTTYPE=image/jpeg:https://asburyparkchamber.com/wp-content/uploads/2026/02/Chameleons.jpg
END:VEVENT
BEGIN:VEVENT
DTSTART;TZID=America/New_York:20260420T190000
DTEND;TZID=America/New_York:20260420T230000
DTSTAMP:20260422T004421
CREATED:20260402T135111Z
LAST-MODIFIED:20260402T135111Z
UID:10007433-1776711600-1776726000@asburyparkchamber.com
SUMMARY:Happy Mondays at the Wonder Bar
DESCRIPTION:Happy Mondays are back at Wonder Bar! \nTHIS IS a FREE EVENT! \n21+ Admitted \nSee flyer for schedule. \n7:00 Start Time
URL:https://asburyparkchamber.com/event/happy-mondays-at-the-wonder-bar-22/2026-04-20/
LOCATION:Wonder Bar\, 1213 Ocean Ave\, Asbury Park\, 07712
CATEGORIES:Music
ATTACH;FMTTYPE=image/png:https://asburyparkchamber.com/wp-content/uploads/2026/04/02b22e00-f720-3632-0b57-e7b6975eaa0f-e1775137863352.png
END:VEVENT
BEGIN:VEVENT
DTSTART;TZID=America/New_York:20260422T190000
DTEND;TZID=America/New_York:20260422T210000
DTSTAMP:20260422T004421
CREATED:20260106T191356Z
LAST-MODIFIED:20260106T191356Z
UID:10006856-1776884400-1776891600@asburyparkchamber.com
SUMMARY:Georgies 2026 Karaoke Idol Contest! 🎤🎶🧑🏽‍🎤
DESCRIPTION:Hosted by DJ Ted D’Bierre! \n– AUDITIONS EVERY WEDNESDAY JANUARY 7TH-JANUARY 28TH!\n– 5 Performers Accepted Each Week!\n– Re-Auditions Allowed as long as auditions are still being held! \nCONTEST DATES: Feb. 4th-April 29th!\n$800 CA$H Grand Prize!\n1st\, 2nd\, & 3rd Place Prizes!
URL:https://asburyparkchamber.com/event/georgies-2026-karaoke-idol-contest-%f0%9f%8e%a4%f0%9f%8e%b6%f0%9f%a7%91%f0%9f%8f%bd%f0%9f%8e%a4/2026-04-22/
LOCATION:Georgie’s Bar\, 812 5th Avenue\, Asbury Park\, 07712
CATEGORIES:Music
ATTACH;FMTTYPE=image/jpeg:https://asburyparkchamber.com/wp-content/uploads/2026/01/611652813_1463474305317451_4659878824079488279_n-e1767726926963.jpg
END:VEVENT
BEGIN:VEVENT
DTSTART;TZID=America/New_York:20260424T190000
DTEND;TZID=America/New_York:20260424T230000
DTSTAMP:20260422T004421
CREATED:20260226T170929Z
LAST-MODIFIED:20260226T170929Z
UID:10007336-1777057200-1777071600@asburyparkchamber.com
SUMMARY:Velvet with Twomoonsaway\, Mischief Night\, honeydaze at the Wonder Bar
DESCRIPTION:VELVET\nTwomoonsaway\nMischief Night\nhoneydaze \n21+ admitted \n$15 advance\, $18 day of show (plus applicable surcharges)
URL:https://asburyparkchamber.com/event/velvet-with-twomoonsaway-mischief-night-honeydaze-at-the-wonder-bar/
LOCATION:Wonder Bar\, 1213 Ocean Ave\, Asbury Park\, 07712
CATEGORIES:Music
ATTACH;FMTTYPE=image/jpeg:https://asburyparkchamber.com/wp-content/uploads/2026/02/Velvet-WB-4.24.jpg
END:VEVENT
BEGIN:VEVENT
DTSTART;TZID=America/New_York:20260424T190000
DTEND;TZID=America/New_York:20260424T230000
DTSTAMP:20260422T004421
CREATED:20260226T174654Z
LAST-MODIFIED:20260226T174654Z
UID:10007345-1777057200-1777071600@asburyparkchamber.com
SUMMARY:Tommy Conwell and the Young Rumblers at the Stone Pony
DESCRIPTION:Tommy Conwell and the Young Rumblers burst onto the Philadelphia music scene in 1984 debuting at JC Dobbs at 3rd and South. Conwell\, born in East Falls and raised in Bala Cynwyd\, quickly rose to the top of the Philly rock n roll food chain by providing long\, sweaty\, bluesy\, and often transcendent shows that audiences ate up as something different from what they were being offered elsewhere. Tommy Conwell and the Young Rumblers made the hugely popular independent album Walking on the Water in 1987 and two albums for Columbia records\, 1988s Rumble and 1990s Guitar Trouble. Rumble yielded a number one hit on the Billboard Album Rock chart\, Im Not Your Man. It was around this time that The Young Rumblers were featured in Rolling Stone magazine and appeared on Dick Clarks American Music Awards\, Late Night with David Letterman\, and the Arsenio Hall Show. The nineties saw Tommy leading Tommy Conwell and the Little Kings\, an outrageous blues/punk/jazz/rock n roll audacity and playing guitar in the loud power pop juggernaut Buzz Zeemer. He still performs with the Young Rumblers who released Showboats and Grandstanders in 2019\, and down the shore in with his four piece rock and roll band formed in 2024. The Pony will be a full band show!
URL:https://asburyparkchamber.com/event/tommy-conwell-and-the-young-rumblers-at-the-stone-pony/
LOCATION:The Stone Pony
CATEGORIES:Music
ATTACH;FMTTYPE=image/jpeg:https://asburyparkchamber.com/wp-content/uploads/2026/02/conwell.jpg
END:VEVENT
BEGIN:VEVENT
DTSTART;TZID=America/New_York:20260425T190000
DTEND;TZID=America/New_York:20260425T233000
DTSTAMP:20260422T004421
CREATED:20260416T165314Z
LAST-MODIFIED:20260416T165314Z
UID:10007464-1777143600-1777159800@asburyparkchamber.com
SUMMARY:We're Ghosts Now with Women in Sports\, The Afraid Brigade at the Wonder Bar
DESCRIPTION:We’re Ghosts Now Record Release Party\nwith special guests Women in Sports and The Afraid Brigade \nDoors 7:00pm\nShow 8:00pm \n21 and up admitted \n  \n$15 in advance plus applicable surcharges\, $15 at the door
URL:https://asburyparkchamber.com/event/were-ghosts-now-with-women-in-sports-the-afraid-brigade-at-the-wonder-bar/
LOCATION:The Wonder Bar\, 1213 Ocean Ave N\, Asbury Park\, 07712
CATEGORIES:Music
ATTACH;FMTTYPE=image/jpeg:https://asburyparkchamber.com/wp-content/uploads/2026/04/Were-Ghosts-Now-4.25-Banner-e1776358380481.jpg
END:VEVENT
END:VCALENDAR