BEGIN:VCALENDAR
VERSION:2.0
PRODID:-//Asbury Park Chamber of Commerce - ECPv6.15.18//NONSGML v1.0//EN
CALSCALE:GREGORIAN
METHOD:PUBLISH
X-WR-CALNAME:Asbury Park Chamber of Commerce
X-ORIGINAL-URL:https://asburyparkchamber.com
X-WR-CALDESC:Events for Asbury Park Chamber of Commerce
REFRESH-INTERVAL;VALUE=DURATION:PT1H
X-Robots-Tag:noindex
X-PUBLISHED-TTL:PT1H
BEGIN:VTIMEZONE
TZID:America/New_York
BEGIN:DAYLIGHT
TZOFFSETFROM:-0500
TZOFFSETTO:-0400
TZNAME:EDT
DTSTART:20240310T070000
END:DAYLIGHT
BEGIN:STANDARD
TZOFFSETFROM:-0400
TZOFFSETTO:-0500
TZNAME:EST
DTSTART:20241103T060000
END:STANDARD
BEGIN:DAYLIGHT
TZOFFSETFROM:-0500
TZOFFSETTO:-0400
TZNAME:EDT
DTSTART:20250309T070000
END:DAYLIGHT
BEGIN:STANDARD
TZOFFSETFROM:-0400
TZOFFSETTO:-0500
TZNAME:EST
DTSTART:20251102T060000
END:STANDARD
BEGIN:DAYLIGHT
TZOFFSETFROM:-0500
TZOFFSETTO:-0400
TZNAME:EDT
DTSTART:20260308T070000
END:DAYLIGHT
BEGIN:STANDARD
TZOFFSETFROM:-0400
TZOFFSETTO:-0500
TZNAME:EST
DTSTART:20261101T060000
END:STANDARD
BEGIN:DAYLIGHT
TZOFFSETFROM:-0500
TZOFFSETTO:-0400
TZNAME:EDT
DTSTART:20270314T070000
END:DAYLIGHT
BEGIN:STANDARD
TZOFFSETFROM:-0400
TZOFFSETTO:-0500
TZNAME:EST
DTSTART:20271107T060000
END:STANDARD
END:VTIMEZONE
BEGIN:VEVENT
DTSTART;TZID=America/New_York:20250601T120000
DTEND;TZID=America/New_York:20250601T190000
DTSTAMP:20260424T162611
CREATED:20250519T151604Z
LAST-MODIFIED:20250530T195656Z
UID:10005381-1748779200-1748804400@asburyparkchamber.com
SUMMARY:PRIDE DAY! Parade and Celebration!
DESCRIPTION:🌈 Celebrate PRIDE in Asbury Park!!! 🌈\nNew Jersey’s 33rd Annual Statewide LGBTQ+ Pride Celebration. \nSunday\, June 1st\nNoon-7pm\, rain or shine \nNew Jersey’s 33rd Annual Statewide LGBTQ+ Pride Celebration will be held in-person on Sunday\, June 1st 2025. As always\, those behind the scenes have been working closely with the host city of Asbury Park to ensure the safety of all participants. It is the largest\, and oldest\, LGBTQ Pride Celebration in the garden state\, with attendance under normal circumstances surpassing 20\,000. \n🌈 Celebrate love\, diversity\, and community at New Jersey’s 33rd Annual Statewide LGBTQ+ Pride Celebration on Sunday\, June 1\, 2025. Join thousands in Asbury Park for a day filled with joy\, solidarity\, and unforgettable experiences. 🌈 \nPARADE AT NOON! \nRALLY – against a backdrop of the Atlantic Ocean\, and New Jersey’s famous boardwalk\, national headliners and local artists share the rally stage for a six hour outdoor concert. \nThe Pride Festival provides an opportunity for community groups and businesses to distribute a wide variety of information\, including job opportunities\, housing options\, family issues\, disease prevention and screening\, sources of support for victims of violence and abuse\, legal rights and services\, and the availability of support for issues that the queer community faces. This family (and pet) friendly event also features NJ’s largest outdoor display of the Names Project’s AIDS Memorial Quilt\, rides in our Family Zone\, and an array of eating options at our food court. \n📍 Event Overview \n\nDate: Sunday\, June 1\, 2025\nTime: 12:00 PM – 7:00 PM\, rain or shine\nLocation: Festival grounds between Sunset Lake and Convention Hall\, Asbury Park\nHear from inspiring speakers and enjoy powerful performances throughout the day\nAdmission: $10 (includes access to the Festival and Rally grounds\, food court\, family zone\, and more)\n\n🎉 Parade Details \n\nStart Time: 12:00 PM sharp\nRoute: Begins at Asbury Park City Hall\, proceeds south on Main Street\, turns left onto Cookman Avenue\, then left onto Grand Avenue\, and continues north to Sunset Avenue\, ending at the festival grounds\n\n🎶 Festival Highlights \n\nLive Entertainment: Enjoy performances by local and national LGBTQ+ musicians\, drag performers\, and other entertainers\nFood & Vendors: Savor a variety of cuisines and explore offerings from LGBTQ+ advocacy groups and merchants\nFamily Zone: Engage in activities suitable for all ages\, including face painting and crafts\n\n🚗 Getting There \n\nBy Train: Take NJ Transit’s North Jersey Coast Line to Asbury Park Station\, located just a short walk from the parade starting point.\nBy Car: Asbury Park is accessible via Route 71\, with several private parking lots nearby. Parking fills quickly\, so arrive early.\nRide-Share: Consider using ride-share services like Uber or Lyft for convenience and to reduce parking stress.\nBiking: Use VeoRide for a fun and eco-friendly option. Veo electric bikes and scooters are available throughout Asbury Park. Learn more: veoride.com/ride-asbury-park\n\nFor more information and updates\, visit jerseypride.org. \nLet’s come together to celebrate and support the LGBTQ+ community at Jersey Pride 2025!
URL:https://asburyparkchamber.com/event/pride-day-parade-and-celebration/
LOCATION:Asbury Park
CATEGORIES:Family,Music,Parade
ATTACH;FMTTYPE=image/png:https://asburyparkchamber.com/wp-content/uploads/2025/05/Pride-2025.png
ORGANIZER;CN="Jersey Pride":MAILTO:info@jerseypride.org
END:VEVENT
BEGIN:VEVENT
DTSTART;TZID=America/New_York:20251004T160000
DTEND;TZID=America/New_York:20251004T190000
DTSTAMP:20260424T162611
CREATED:20250814T162655Z
LAST-MODIFIED:20250814T163144Z
UID:10005789-1759593600-1759604400@asburyparkchamber.com
SUMMARY:2025 Zombie Walk! 🧟‍♂️🧟‍♀️
DESCRIPTION:CELEBRATING ITS 17th YEAR \nTHE ANNUAL ASBURY PARK ZOMBIE WALK IS ON SATURDAY\, OCTOBER 4TH! 🧌 \nThe Asbury Park Zombie Walk will officially kick off the Halloween season in Asbury Park on Saturday\, October 4th. This year our all-ages event celebrates it’s 17th year\nof brains on the Boardwalk and in the City of Asbury Park. \nWhat is a Zombie Walk? A zombie walk is an organized public gathering of people who dress up like zombies and then make their way around city streets in an orderly fashion for fun. 🧟‍♂️ \nThe Asbury Park Zombie Walk is consistently one of the Garden State’s largest Halloween-season gatherings. Everyone is invited to join in for a day of thrills\, chills and laughter throughout the community. Zombies of all ages participate in this family-friendly event. Best of all\, the Zombie Walk is completely FREE! \nPresented by Johnny Mac House of Spirits
URL:https://asburyparkchamber.com/event/2025-zombie-walk-%f0%9f%a7%9f%e2%99%82%ef%b8%8f%f0%9f%a7%9f%e2%99%80%ef%b8%8f/
LOCATION:Asbury Park Boardwalk\, 1300 Ocean Ave\, Asbury Park\, 07712
CATEGORIES:Family,Parade
ATTACH;FMTTYPE=image/jpeg:https://asburyparkchamber.com/wp-content/uploads/2025/08/ZW2025_Horizontal_FINAL_X-scaled-e1755188803642.jpeg
END:VEVENT
BEGIN:VEVENT
DTSTART;TZID=America/New_York:20251005T140000
DTEND;TZID=America/New_York:20251005T170000
DTSTAMP:20260424T162611
CREATED:20250813T155344Z
LAST-MODIFIED:20250902T133425Z
UID:10005782-1759672800-1759683600@asburyparkchamber.com
SUMMARY:8th Annual "HOWL"-O-WIENER WALK! 🐾 🎃
DESCRIPTION:🎃 🎃 SAVE THE DATE!! Free Howl-O-Wiener Walk!\nWill you be strutting your sausage dog with us? All dogs are welcome! Dress them up if you like! 🐾🐾 \nDress up you Dachshunds and Dachshund Friends! \nWe will meet on the lawn across from The Wonder Bar!\nSunday\, October 5\, 2:00 PM \nHosted by TIK TOK’S The Dachshund Doctor\, Dr. Adam Christman!
URL:https://asburyparkchamber.com/event/6th-annual-howl-o-weiner-walk/
LOCATION:Asbury Park Boardwalk\, 1300 Ocean Ave\, Asbury Park\, 07712
CATEGORIES:Family,Parade
ATTACH;FMTTYPE=image/jpeg:https://asburyparkchamber.com/wp-content/uploads/2025/08/480801862_650565990837681_3521518484547996858_n.jpg
END:VEVENT
BEGIN:VEVENT
DTSTART;TZID=America/New_York:20251025T220000
DTEND;TZID=America/New_York:20251025T233000
DTSTAMP:20260424T162611
CREATED:20251021T183133Z
LAST-MODIFIED:20251024T142916Z
UID:10006304-1761429600-1761435000@asburyparkchamber.com
SUMMARY:Hell in Paradise - Halloween Ball & Costume Contest at the Empress Hotel 🌴
DESCRIPTION:HELL IN PARADISE 🧟‍♂️🔥👹\nThe 26th Annual Halloween Ball and Costume Contest\n👩🏾‍🎤🧝‍♀️🧙🏽‍♂️👨🏻‍🎤🧚🏻‍♀️🦹🏽💃🏻🧞 \nSaturday\, October 25th\nDJ John Marto – Main Room\nDJ John Bear – Copper Room \nHosted by:\nVenus Mystique & Jolina Jasmine\n$3000 in prizes and 4 categories to win! \nThe hellish revelry lasts all night long! \nSee flyer for details!
URL:https://asburyparkchamber.com/event/hell-in-paradise-at-the-empress-hotel-%f0%9f%8c%b4-halloween-ball-costume-contest/
LOCATION:Paradise\, 101 Asbury Ave\, Asbury Park\, N\, 07712\, United States
CATEGORIES:Music,Parade
ATTACH;FMTTYPE=image/jpeg:https://asburyparkchamber.com/wp-content/uploads/2025/10/tempImageDqtrfH-e1761316141544.jpg
END:VEVENT
BEGIN:VEVENT
DTSTART;TZID=America/New_York:20260308T130000
DTEND;TZID=America/New_York:20260308T160000
DTSTAMP:20260424T162611
CREATED:20260212T165314Z
LAST-MODIFIED:20260212T165314Z
UID:10007308-1772974800-1772985600@asburyparkchamber.com
SUMMARY:🍀 Asbury Park St. Patrick's Day Parade!! 💚
DESCRIPTION:The 2026 Asbury Park St. Patrick’s Day Parade is scheduled for Sunday\, March 8\, 2026\, stepping off at 1:00 PM!!\nThe route runs along Ocean Avenue. Former Lt. Gov. Kim Guadagno will serve as the Grand Marshal. The event is a popular\, family-friendly celebration featuring floats\, pipes\, and drums.\nKey Details for 2026:\nDate & Time: Sunday\, March 8\, 2026\, 1:00 PM EDT.\nLocation: The route typically starts at 4th Avenue and Ocean Avenue\, continuing through downtown.
URL:https://asburyparkchamber.com/event/%f0%9f%8d%80-asbury-park-st-patricks-day-parade-%f0%9f%92%9a/
LOCATION:Asbury Park
CATEGORIES:Parade
ATTACH;FMTTYPE=image/jpeg:https://asburyparkchamber.com/wp-content/uploads/2026/02/480688785_679124321112433_6037930469438245479_n.jpg
END:VEVENT
END:VCALENDAR