BEGIN:VCALENDAR
VERSION:2.0
PRODID:-//Asbury Park Chamber of Commerce - ECPv6.15.18//NONSGML v1.0//EN
CALSCALE:GREGORIAN
METHOD:PUBLISH
X-WR-CALNAME:Asbury Park Chamber of Commerce
X-ORIGINAL-URL:https://asburyparkchamber.com
X-WR-CALDESC:Events for Asbury Park Chamber of Commerce
REFRESH-INTERVAL;VALUE=DURATION:PT1H
X-Robots-Tag:noindex
X-PUBLISHED-TTL:PT1H
BEGIN:VTIMEZONE
TZID:America/New_York
BEGIN:DAYLIGHT
TZOFFSETFROM:-0500
TZOFFSETTO:-0400
TZNAME:EDT
DTSTART:20250309T070000
END:DAYLIGHT
BEGIN:STANDARD
TZOFFSETFROM:-0400
TZOFFSETTO:-0500
TZNAME:EST
DTSTART:20251102T060000
END:STANDARD
BEGIN:DAYLIGHT
TZOFFSETFROM:-0500
TZOFFSETTO:-0400
TZNAME:EDT
DTSTART:20260308T070000
END:DAYLIGHT
BEGIN:STANDARD
TZOFFSETFROM:-0400
TZOFFSETTO:-0500
TZNAME:EST
DTSTART:20261101T060000
END:STANDARD
BEGIN:DAYLIGHT
TZOFFSETFROM:-0500
TZOFFSETTO:-0400
TZNAME:EDT
DTSTART:20270314T070000
END:DAYLIGHT
BEGIN:STANDARD
TZOFFSETFROM:-0400
TZOFFSETTO:-0500
TZNAME:EST
DTSTART:20271107T060000
END:STANDARD
END:VTIMEZONE
BEGIN:VEVENT
DTSTART;TZID=America/New_York:20260417T180000
DTEND;TZID=America/New_York:20260417T230000
DTSTAMP:20260422T100936
CREATED:20260226T180233Z
LAST-MODIFIED:20260226T180233Z
UID:10007347-1776448800-1776466800@asburyparkchamber.com
SUMMARY:🪩 Spring Disco at the Grand Arcade in Convention Hall🕺🏿
DESCRIPTION:The 3rd Annual Asbury Park Spring Disco + Night Market returns to the Grand Arcade of Convention Hall on Friday\, April 17\, 2026 | 6–11PM! 💃🕺 \nGet ready for a high-energy night filled with disco beats\, craft cocktails\, delicious eats\, curated shopping\, photo moments\, and all the feel-good vibes you love about Asbury Park. 🌈🎶🍸🛍️ \nGrab your crew\, dress to shine\, and come dance\, shop\, and celebrate spring with us under the lights!
URL:https://asburyparkchamber.com/event/%f0%9f%aa%a9-spring-disco-at-the-grand-arcade-in-convention-hall%f0%9f%95%ba%f0%9f%8f%bf/
LOCATION:The Grand Arcade of Asbury Park Convention Hall
CATEGORIES:Music,Party
ATTACH;FMTTYPE=image/jpeg:https://asburyparkchamber.com/wp-content/uploads/2026/02/636916754_18571402717026546_6775409438973093299_n.jpg
ORGANIZER;CN="Asbury Park Bazaar":MAILTO:team@asburyparkbazaar.com
END:VEVENT
END:VCALENDAR