BEGIN:VCALENDAR
VERSION:2.0
PRODID:-//Asbury Park Chamber of Commerce - ECPv6.15.18//NONSGML v1.0//EN
CALSCALE:GREGORIAN
METHOD:PUBLISH
X-WR-CALNAME:Asbury Park Chamber of Commerce
X-ORIGINAL-URL:https://asburyparkchamber.com
X-WR-CALDESC:Events for Asbury Park Chamber of Commerce
REFRESH-INTERVAL;VALUE=DURATION:PT1H
X-Robots-Tag:noindex
X-PUBLISHED-TTL:PT1H
BEGIN:VTIMEZONE
TZID:America/New_York
BEGIN:DAYLIGHT
TZOFFSETFROM:-0500
TZOFFSETTO:-0400
TZNAME:EDT
DTSTART:20230312T070000
END:DAYLIGHT
BEGIN:STANDARD
TZOFFSETFROM:-0400
TZOFFSETTO:-0500
TZNAME:EST
DTSTART:20231105T060000
END:STANDARD
BEGIN:DAYLIGHT
TZOFFSETFROM:-0500
TZOFFSETTO:-0400
TZNAME:EDT
DTSTART:20240310T070000
END:DAYLIGHT
BEGIN:STANDARD
TZOFFSETFROM:-0400
TZOFFSETTO:-0500
TZNAME:EST
DTSTART:20241103T060000
END:STANDARD
BEGIN:DAYLIGHT
TZOFFSETFROM:-0500
TZOFFSETTO:-0400
TZNAME:EDT
DTSTART:20250309T070000
END:DAYLIGHT
BEGIN:STANDARD
TZOFFSETFROM:-0400
TZOFFSETTO:-0500
TZNAME:EST
DTSTART:20251102T060000
END:STANDARD
END:VTIMEZONE
BEGIN:VEVENT
DTSTART;VALUE=DATE:20240926
DTEND;VALUE=DATE:20241004
DTSTAMP:20260425T225125
CREATED:20240214T174151Z
LAST-MODIFIED:20240214T174151Z
UID:10003493-1727308800-1727999999@asburyparkchamber.com
SUMMARY:One * Show - A Solo Theater Festival
DESCRIPTION:One * Show\nA solo theater festival \nSept 26 – Oct 3 \nThe Showroom  \n707 Cookman Ave\, Asbury Park\, NJ 07712 \nDive into the raw authenticity of our Solo Theater Festival\, where LGBTQ+ storytellers will fearlessly unveil their unique shows. This special event will showcase the unapologetic narratives of renegades and rebels\, the tender beauty of personal stories and the irreverent wit of humorists recounting life under the queer umbrella. Brace yourself for the power of these voices to soulignite\, provoke and make you LOL.
URL:https://asburyparkchamber.com/event/one-show-a-solo-theater-festival/
LOCATION:The Showroom\, 707 Cookman Avenue\, Asbury Park\, 07712
END:VEVENT
BEGIN:VEVENT
DTSTART;TZID=America/New_York:20240928T080000
DTEND;TZID=America/New_York:20240928T140000
DTSTAMP:20260425T225125
CREATED:20240910T183644Z
LAST-MODIFIED:20240910T183644Z
UID:10004166-1727510400-1727532000@asburyparkchamber.com
SUMMARY:Yoga with Love - Open House
DESCRIPTION:Open House\nSaturday\, September\, 28th\, 2024\n8:00a – 2:00p \n*Free Classes * Raffle  *Special discounts – 1 day only! \nJoin our community as we celebrate the\n6th Anniversary of Yoga with Love\nYoga with Love is a boutique Yoga studio that specializes in serving adults 50 and older. Our community believes in yoga for healthy aging\, wisdom and growth through a gentle/moderate practice.\nTo reserve your space for our complementary classes\, (1 class per student ) visit:  https://yogawithlovenj.com/events-and-trainings/ OR use QR code above\nSchedule\n8:30-9:15 am Mindful Flow with Madi\n9:45 – 10:30 am Beginner with Nancy\n11:00 -11:45 am Yoga with Light Weights with Andrea\n12:15 – 1:00 pm Gentle Yoga with Jill\n1:15 – 2:00 pm Reiki and Sound Bath with Claudine & Amy \nYoga with Love\n417 Euclid Ave.\, Loch Arbour\, NJ 07711\n848-777-2942\, www.yogawithlovenj.com
URL:https://asburyparkchamber.com/event/yoga-with-love-open-house/
LOCATION:Yoga With Love\, 417 Euclid Ave\, Loch Arbour\, NJ\, 07711\, United States
CATEGORIES:Music
ATTACH;FMTTYPE=image/jpeg:https://asburyparkchamber.com/wp-content/uploads/2024/09/Happy-Anniversary-Images-4.jpg
ORGANIZER;CN="Claudine Fenniman":MAILTO:claudine@yogawithlovenj.com
END:VEVENT
BEGIN:VEVENT
DTSTART;TZID=America/New_York:20240928T120000
DTEND;TZID=America/New_York:20240929T170000
DTSTAMP:20260425T225125
CREATED:20240820T182624Z
LAST-MODIFIED:20240820T182624Z
UID:10004152-1727524800-1727629200@asburyparkchamber.com
SUMMARY:ASBURY PARK FALL BAZAAR 2024
DESCRIPTION:Visit our Two Pop Up Locations:\nAsbury Park Convention Hall on Saturday & Sunday\nThe Asbury Hotel on Sunday\nCelebrate local makers\, music and art – and local summer! – at the Asbury Park Fall Bazaar happening in two fabulous locations in Asbury Park: the Grand Arcade at historic Convention Hall on Saturday & Sunday\, September 28 & 29 and The Asbury Hotel\, Sunday\, September 29\, from noon to 5 pm. Asbury Park Fall Bazaar is indoors\, free for all ages\, and pet friendly. \nAsbury Park Fall Bazaar will feature shopping from a curated market of makers from the Jersey Shore & beyond\, kids activities\, photo opps\, music\, workshops\, and delicious food\, libations and entertainment at Asbury Oyster Bar\, Seahorse\, and Asbury Hotel.
URL:https://asburyparkchamber.com/event/asbury-park-fall-bazaar-2024/2024-09-28/
LOCATION:The Grand Arcade of Asbury Park Convention Hall
END:VEVENT
BEGIN:VEVENT
DTSTART;TZID=America/New_York:20240928T140000
DTEND;TZID=America/New_York:20240928T160000
DTSTAMP:20260425T225125
CREATED:20240904T213810Z
LAST-MODIFIED:20240904T213810Z
UID:10004145-1727532000-1727539200@asburyparkchamber.com
SUMMARY:The Other American
DESCRIPTION:A World Premiere based on a True Story.  Paris 1952. After tangling over politics with an American tourist\, a promising art student spirals into a mental breakdown that derails his life. Thirty years later he discovers why: The tourist was a CIA operative\, and the student an unwitting participant in one of the darkest chapters of America’s history.
URL:https://asburyparkchamber.com/event/the-other-american/2024-09-28/
LOCATION:New Jersey Repertory Company\, 179 Broadway\, Long Branch\, NJ\, 07740\, United States
CATEGORIES:Art & Culture
ATTACH;FMTTYPE=image/png:https://asburyparkchamber.com/wp-content/uploads/2024/08/Copy-of-Copy-of-THE-OTHER-AMERICAN-slider-300-x-300-px.png
ORGANIZER;CN="New Jersey Repertory Company":MAILTO:njrep@njrep.org
END:VEVENT
BEGIN:VEVENT
DTSTART;TZID=America/New_York:20240928T193000
DTEND;TZID=America/New_York:20240928T213000
DTSTAMP:20260425T225125
CREATED:20240819T181417Z
LAST-MODIFIED:20240819T181417Z
UID:10004134-1727551800-1727559000@asburyparkchamber.com
SUMMARY:The Other American
DESCRIPTION:A World Premiere based on a True Story.  Paris 1952. After tangling over politics with an American tourist\, a promising art student spirals into a mental breakdown that derails his life. Thirty years later he discovers why: The tourist was a CIA operative\, and the student an unwitting participant in one of the darkest chapters of America’s history.
URL:https://asburyparkchamber.com/event/the-other-american/2024-09-28/
LOCATION:New Jersey Repertory Company\, 179 Broadway\, Long Branch\, NJ\, 07740\, United States
CATEGORIES:Art & Culture
ATTACH;FMTTYPE=image/png:https://asburyparkchamber.com/wp-content/uploads/2024/08/Copy-of-Copy-of-THE-OTHER-AMERICAN-slider-300-x-300-px.png
ORGANIZER;CN="New Jersey Repertory Company":MAILTO:njrep@njrep.org
END:VEVENT
BEGIN:VEVENT
DTSTART;TZID=America/New_York:20240929T080000
DTEND;TZID=America/New_York:20240929T090000
DTSTAMP:20260425T225125
CREATED:20240827T185106Z
LAST-MODIFIED:20240827T185106Z
UID:10004161-1727596800-1727600400@asburyparkchamber.com
SUMMARY:Frost Training Club: Mat Pilates
DESCRIPTION:Pilates is a practice focused on improving coordination\, strength\, balance\, and posture through a targeted series of full-body exercises. In Mat Pilates\, we combine the original repertoire and add a modern twist\, using your body weight as resistance.
URL:https://asburyparkchamber.com/event/frost-training-club-mat-pilates/
LOCATION:The St. Laurent\, 408 7th Ave\, Asbury Park\, 07712
END:VEVENT
BEGIN:VEVENT
DTSTART;TZID=America/New_York:20240929T140000
DTEND;TZID=America/New_York:20240929T160000
DTSTAMP:20260425T225125
CREATED:20240904T213810Z
LAST-MODIFIED:20240904T213810Z
UID:10004146-1727618400-1727625600@asburyparkchamber.com
SUMMARY:The Other American
DESCRIPTION:A World Premiere based on a True Story.  Paris 1952. After tangling over politics with an American tourist\, a promising art student spirals into a mental breakdown that derails his life. Thirty years later he discovers why: The tourist was a CIA operative\, and the student an unwitting participant in one of the darkest chapters of America’s history.
URL:https://asburyparkchamber.com/event/the-other-american/2024-09-29/
LOCATION:New Jersey Repertory Company\, 179 Broadway\, Long Branch\, NJ\, 07740\, United States
CATEGORIES:Art & Culture
ATTACH;FMTTYPE=image/png:https://asburyparkchamber.com/wp-content/uploads/2024/08/Copy-of-Copy-of-THE-OTHER-AMERICAN-slider-300-x-300-px.png
ORGANIZER;CN="New Jersey Repertory Company":MAILTO:njrep@njrep.org
END:VEVENT
BEGIN:VEVENT
DTSTART;TZID=America/New_York:20240929T190000
DTEND;TZID=America/New_York:20240929T220000
DTSTAMP:20260425T225125
CREATED:20240206T163719Z
LAST-MODIFIED:20240510T182154Z
UID:10003450-1727636400-1727647200@asburyparkchamber.com
SUMMARY:Slow Down Sundays with BJ Bied
DESCRIPTION:Join us at Soundbooth every Sunday from 7 – 10 pm and listen to lofi jazz loops by the talented guitarist BJ Bied!
URL:https://asburyparkchamber.com/event/slow-down-sundays-with-bj-bied/2024-09-29/
LOCATION:The Asbury Hotel\, 210 5th Ave\, Asbury Park\, NJ\, 07712\, United States
CATEGORIES:Music
ORGANIZER;CN="The Asbury Hotel":MAILTO:theasburyhotel@stayasburypark.com
END:VEVENT
BEGIN:VEVENT
DTSTART;TZID=America/New_York:20240930T190000
DTEND;TZID=America/New_York:20240930T220000
DTSTAMP:20260425T225125
CREATED:20240206T163807Z
LAST-MODIFIED:20240206T163807Z
UID:10003402-1727722800-1727733600@asburyparkchamber.com
SUMMARY:Music Trivia with Giuseppe
DESCRIPTION:Join Giuseppe at Soundbooth every Monday from  7 – 10 pm for Music Trivia!
URL:https://asburyparkchamber.com/event/music-trivia-with-giuseppe/2024-09-30/
LOCATION:The Asbury Hotel\, 210 5th Ave\, Asbury Park\, NJ\, 07712\, United States
ORGANIZER;CN="The Asbury Hotel":MAILTO:theasburyhotel@stayasburypark.com
END:VEVENT
BEGIN:VEVENT
DTSTART;VALUE=DATE:20241004
DTEND;VALUE=DATE:20241005
DTSTAMP:20260425T225125
CREATED:20241003T195217Z
LAST-MODIFIED:20241003T195217Z
UID:10004174-1728000000-1728086399@asburyparkchamber.com
SUMMARY:NATIONAL TACO DAY!!!
DESCRIPTION:Outdoor Street Tacos\n– Chicken\, Pork\, or Vegetarian Tacos\n– Available while supplies last\n– Members of our new Culture Loyalty Club get 1 free street taco if they show their Loyalty Pass \nThrowback Tacos + Specialty Margaritas\n– $10 Fan Fav Tacos: Chicken Tinga\, Pork Cuban & Shrimp Fajita (2 tacos per order)\n– $8 Specialty Margaritas: Tamarind\, Pineapple Habanero\, & Prickly Pear \n3×3 Taco & Margy Flight Special\n– 3 Throwback Tacos + 3 Mini Specialty Margys for $15\n– No modifications\, please \nThis event is free and open to the public\, but we recommend booking a reservation
URL:https://asburyparkchamber.com/event/national-taco-day/
LOCATION:Barrio Costero\, 610 Bangs Avenue\, Asbury Park\, 07712
CATEGORIES:Family
ATTACH;FMTTYPE=image/jpeg:https://asburyparkchamber.com/wp-content/uploads/2024/10/TacoTrio_BC_SP23.jpg
ORGANIZER;CN="Barrio Costero":MAILTO:hola@barriocostero.com
END:VEVENT
BEGIN:VEVENT
DTSTART;TZID=America/New_York:20241004T190000
DTEND;TZID=America/New_York:20241004T220000
DTSTAMP:20260425T225125
CREATED:20240815T170842Z
LAST-MODIFIED:20240815T170842Z
UID:10004083-1728068400-1728079200@asburyparkchamber.com
SUMMARY:LIVE LOCAL MUSIC SHOWCASE
DESCRIPTION:Every Friday\, get in touch with The Asbury music scene as we present live music from local artists curated by local promoters!  \nStay tuned for info on this week’s artists.
URL:https://asburyparkchamber.com/event/live-local-music-showcase/
LOCATION:The Asbury Hotel\, 210 5th Ave\, Asbury Park\, NJ\, 07712\, United States
END:VEVENT
BEGIN:VEVENT
DTSTART;TZID=America/New_York:20241004T200000
DTEND;TZID=America/New_York:20241004T220000
DTSTAMP:20260425T225125
CREATED:20240927T194509Z
LAST-MODIFIED:20240927T194509Z
UID:10004170-1728072000-1728079200@asburyparkchamber.com
SUMMARY:City of Asbury Park's Culture & Comedy Jam
DESCRIPTION:The City presents Culture & Comedy Jam on Friday\, October 4th 2024 at the Stone Pony\, 913 Ocean Avenue\, Asbury Park. Doors open at 7pm\, Showtime is 8pm.  \nGuest performers include Peaches Rodriguez-she appeared Live at the Apollo\, opened for Arsenio Hall and appeared on CBS’s the Paula Abdul Show. Rashaun Reese-he appeared on BET’s One Mic Stand alongside Kevin Hart and appearances on Fox and Showtime. Hamburger Jones-he appeared on HBO’s Def Comedy Jam\, Showtime at the Apollo\, Comic View and Byron Allen’s Comics Unleashed. Kevin Lepka-he’s the owner of the Scranton Comedy Club and Laugh out Lepka’s Comedy\, LLC. performed with Pete Davidson\, Andrew Shulz\, Gilbert Gottfried\, Artie Lange and Rich Vos. \nTickets are $20 and can be purchased at the Stone Pony Box office.
URL:https://asburyparkchamber.com/event/city-of-asbury-parks-culture-comedy-jam/
LOCATION:Stone Pony\, 913 Ocean Ave\, Asbury Park\, 07712
CATEGORIES:Comedy
END:VEVENT
BEGIN:VEVENT
DTSTART;TZID=America/New_York:20241005T190000
DTEND;TZID=America/New_York:20241005T190000
DTSTAMP:20260425T225125
CREATED:20240815T170843Z
LAST-MODIFIED:20240815T170843Z
UID:10004075-1728154800-1728154800@asburyparkchamber.com
SUMMARY:JOEYY "Try Tour"
DESCRIPTION:JOEYY Live In Concert! – ALL AGES TO ENTER\n“Try Tour”
URL:https://asburyparkchamber.com/event/joeyy-try-tour/
LOCATION:House of Independents\, 572 Cookman Avenue\, Asbury Park\, NJ\, 07712\, United States
END:VEVENT
BEGIN:VEVENT
DTSTART;TZID=America/New_York:20241005T210000
DTEND;TZID=America/New_York:20241005T210000
DTSTAMP:20260425T225125
CREATED:20240815T170842Z
LAST-MODIFIED:20240815T170842Z
UID:10004084-1728162000-1728162000@asburyparkchamber.com
SUMMARY:SATURDAY DJ SETS | SALVATION ROOFTOP
DESCRIPTION:Join us every Saturday from 9:00 PM – 1:30 AM for DJ sets by local talent on the Salvation Rooftop.
URL:https://asburyparkchamber.com/event/saturday-dj-sets-salvation-rooftop/
LOCATION:The Asbury Hotel\, 210 5th Ave\, Asbury Park\, NJ\, 07712\, United States
END:VEVENT
BEGIN:VEVENT
DTSTART;TZID=America/New_York:20241006T173000
DTEND;TZID=America/New_York:20241006T220000
DTSTAMP:20260425T225125
CREATED:20240813T180628Z
LAST-MODIFIED:20240813T180628Z
UID:10004020-1728235800-1728252000@asburyparkchamber.com
SUMMARY:KNOCKED LOOSE
DESCRIPTION:KNOCKED LOOSE\nTHE GARDEN\nDRAIN\nand more on the Stone Pony Summer Stage!
URL:https://asburyparkchamber.com/event/knocked-loose/
LOCATION:The Stone Pony Summer Stage\, 913 Ocean Ave\, Asbury Park\, NJ\, 07702\, United States
END:VEVENT
BEGIN:VEVENT
DTSTART;TZID=America/New_York:20241006T190000
DTEND;TZID=America/New_York:20241006T220000
DTSTAMP:20260425T225125
CREATED:20240206T163719Z
LAST-MODIFIED:20240510T182154Z
UID:10003451-1728241200-1728252000@asburyparkchamber.com
SUMMARY:Slow Down Sundays with BJ Bied
DESCRIPTION:Join us at Soundbooth every Sunday from 7 – 10 pm and listen to lofi jazz loops by the talented guitarist BJ Bied!
URL:https://asburyparkchamber.com/event/slow-down-sundays-with-bj-bied/2024-10-06/
LOCATION:The Asbury Hotel\, 210 5th Ave\, Asbury Park\, NJ\, 07712\, United States
CATEGORIES:Music
ORGANIZER;CN="The Asbury Hotel":MAILTO:theasburyhotel@stayasburypark.com
END:VEVENT
BEGIN:VEVENT
DTSTART;TZID=America/New_York:20241007T190000
DTEND;TZID=America/New_York:20241007T220000
DTSTAMP:20260425T225125
CREATED:20240206T163807Z
LAST-MODIFIED:20240206T163807Z
UID:10003403-1728327600-1728338400@asburyparkchamber.com
SUMMARY:Music Trivia with Giuseppe
DESCRIPTION:Join Giuseppe at Soundbooth every Monday from  7 – 10 pm for Music Trivia!
URL:https://asburyparkchamber.com/event/music-trivia-with-giuseppe/2024-10-07/
LOCATION:The Asbury Hotel\, 210 5th Ave\, Asbury Park\, NJ\, 07712\, United States
ORGANIZER;CN="The Asbury Hotel":MAILTO:theasburyhotel@stayasburypark.com
END:VEVENT
BEGIN:VEVENT
DTSTART;TZID=America/New_York:20241008T190000
DTEND;TZID=America/New_York:20241008T220000
DTSTAMP:20260425T225125
CREATED:20240815T170842Z
LAST-MODIFIED:20240815T170842Z
UID:10004085-1728414000-1728424800@asburyparkchamber.com
SUMMARY:PIANO PARTY WITH BOB EGAN
DESCRIPTION:Join us every Tuesday from 7 pm – 10 pm in Soundbooth and listen to Bob Egan play the piano while guests sing along!
URL:https://asburyparkchamber.com/event/piano-party-with-bob-egan-2/
LOCATION:The Asbury Hotel\, 210 5th Ave\, Asbury Park\, NJ\, 07712\, United States
END:VEVENT
BEGIN:VEVENT
DTSTART;TZID=America/New_York:20241009T190000
DTEND;TZID=America/New_York:20241009T190000
DTSTAMP:20260425T225125
CREATED:20240813T191035Z
LAST-MODIFIED:20240813T191035Z
UID:10004029-1728500400-1728500400@asburyparkchamber.com
SUMMARY:BROOKS NIELSEN OF THE GROWLERS
DESCRIPTION:Brooks Nielsen\, lead singer of surf-psych icons The Growlers\, revisits the band’s classic album\, Chinese Fountain\, to celebrate its tenth anniversary. Nielsen will perform the album from start to finish (and then some) this fall at 26 very special North American shows. \nChinese Fountain is The Growlers’ fourth studio album and sees the band evolve from a psych-circus\, while remaining true to the band’s “beach goth” essence. It is blessedly direct\, with razor sharp songwriting and engaging melodies at the center of every song; “Big Toe\,” “Going Gets Tough\,” “Love Test\,” “Rare Hearts” and or course\, the disco-punk and synth-splashed title track. It was that track that signaled the band’s move from the dive bar to the dance floor–a precursor of sorts to the band’s follow-up\, the Julian Casablancas-produced City Club. \nUncompromising\, enigmatic\, and wildly ambitious\, Nielsen isn’t tiptoeing into his solo career. The energetic singer has had a busy couple of years\, embarking on headline tours where he regularly performs more than two hours each night\, sometimes stretching his show past the three-hour mark. \nHis latest singles “Tropical Cowboy” and “Chew My Heart Out\,” function as a duo. A couple. A gemini gesture to herald his upcoming second solo album\, A Ride I’m Waiting For. Originally written in 2014 for Chinese Fountain\, the songs are a sneaky flashback to a different era when The Growlers released tracks as “couples.” Not singles\, but two songs together\, intertwined in thought and expression. \nYou can hear the new tracks live at the upcoming Chinese Fountain 10th Anniversary Shows as well as songs from Nielsen’s 20-track solo debut One Match Left and subsequent The Circle and Psycho EPs. Nielsen’s dynamic set lists have been loaded with Growlers’ classics\, deep cuts\, choice covers\, and stripped-down\, unplugged mini-sets. \nAided by a live band that includes Growlers drummer Richard Gowen\, bassist Brogan Dutcher\, keyboardist Cole Riddle\, and guitarists J.D. Carrera and Elyadeen Anbar\, Nielsen melds the live spontaneity of the improv-driven rock scene with the energy of his punk peers.
URL:https://asburyparkchamber.com/event/brooks-nielsen-of-the-growlers-2/
LOCATION:The Stone Pony
END:VEVENT
BEGIN:VEVENT
DTSTART;TZID=America/New_York:20241010T190000
DTEND;TZID=America/New_York:20241010T190000
DTSTAMP:20260425T225125
CREATED:20240814T170421Z
LAST-MODIFIED:20240814T170421Z
UID:10004039-1728586800-1728586800@asburyparkchamber.com
SUMMARY:Rose Betts
DESCRIPTION:General Admission Only \n21 AND OVER ADMITTED\nDOORS 7:00 PM
URL:https://asburyparkchamber.com/event/rose-betts/
LOCATION:Wonder Bar\, 1213 Ocean Ave\, Asbury Park\, 07712
END:VEVENT
BEGIN:VEVENT
DTSTART;TZID=America/New_York:20241011T180000
DTEND;TZID=America/New_York:20241011T180000
DTSTAMP:20260425T225125
CREATED:20240813T191035Z
LAST-MODIFIED:20240813T191035Z
UID:10004030-1728669600-1728669600@asburyparkchamber.com
SUMMARY:BRETT YOUNG
DESCRIPTION:Brett Young\nRestless Road & Owen Riegling\non The Stone Pony Summer Stage \nDoors: 6:00 PM\nShow: 7:00 PM \nTickets: $49.50 in advance (plus applicable surcharges)\, $54.50 at the door
URL:https://asburyparkchamber.com/event/brett-young/
LOCATION:The Stone Pony Summer Stage\, 913 Ocean Ave\, Asbury Park\, NJ\, 07702\, United States
END:VEVENT
BEGIN:VEVENT
DTSTART;TZID=America/New_York:20241011T190000
DTEND;TZID=America/New_York:20241011T230000
DTSTAMP:20260425T225125
CREATED:20240814T170908Z
LAST-MODIFIED:20240814T170908Z
UID:10004036-1728673200-1728687600@asburyparkchamber.com
SUMMARY:Everclear
DESCRIPTION:Everclear\nMarcy Playground\nJimmie’s Chicken Shack\nAll Ages
URL:https://asburyparkchamber.com/event/everclear/
LOCATION:Asbury Lanes\, 209 4th Avenue\, Asbury Park\, 07712
END:VEVENT
BEGIN:VEVENT
DTSTART;TZID=America/New_York:20241012T090000
DTEND;TZID=America/New_York:20241012T130000
DTSTAMP:20260425T225125
CREATED:20240710T150703Z
LAST-MODIFIED:20240710T150703Z
UID:10003904-1728723600-1728738000@asburyparkchamber.com
SUMMARY:Mary’s Place by the Sea 13th Annual Walk-A-Thon & 6th Annual 5K Run
DESCRIPTION:Join Mary’s Place by the Sea on Saturday\, October 12th\, 2024 in Ocean Grove\, NJ for our Annual Walk/Run! This event supports our mission as we provide a place for women with cancer to heal: mind\, body and soul. This year\, Mary’s Place reached a milestone anniversary of 15 years of service to 15\,000 women with cancer\, thanks to YOUR commitment\, generosity and love. Proceeds from this event directly support our guests who enjoy wellness retreats and receive all integrative services\, meals\, and accommodations at absolutely NO COST\, thanks in part to fundraisers such as this. To register to walk/run please visit: https://runsignup.com/marysplacebytheseawalk2024
URL:https://asburyparkchamber.com/event/marys-place-by-the-sea-13th-annual-walk-a-thon-6th-annual-5k-run/
ATTACH;FMTTYPE=image/png:https://asburyparkchamber.com/wp-content/uploads/2024/07/The-Tribe-15.png
END:VEVENT
BEGIN:VEVENT
DTSTART;TZID=America/New_York:20241013T120000
DTEND;TZID=America/New_York:20241013T150000
DTSTAMP:20260425T225125
CREATED:20241008T151857Z
LAST-MODIFIED:20241008T152143Z
UID:10004176-1728820800-1728831600@asburyparkchamber.com
SUMMARY:MEET ARI LEHMAN: The First Jason Voorhees from Friday The 13th
DESCRIPTION:Come meet the First Jason of Friday the 13th\, Ari Lehman at our shop in Ocean Grove on Sunday October 13th from 12-3! \nOrder early and we’ll throw in a FREE Funko pop for you to get signed.\nMail ins and shipping available. \n$40 per autograph\nAdd $10 for jaa cert.\n$10 for insured shipping \nAdditional items available on our website. \nhttps://www.popstopandpokemonship.com/ari-lehman-signing
URL:https://asburyparkchamber.com/event/meet-ari-lehman-the-first-jason-voorhees-from-friday-the-13th/
LOCATION:Pop Stop and Pokemon Shop\, 108 S. Main Street\, Ocean Grove
CATEGORIES:Art & Culture
ATTACH;FMTTYPE=image/jpeg:https://asburyparkchamber.com/wp-content/uploads/2024/10/09-26-2024_PopStop-Ari_4x5_Ad.jpg
END:VEVENT
BEGIN:VEVENT
DTSTART;TZID=America/New_York:20241013T190000
DTEND;TZID=America/New_York:20241013T220000
DTSTAMP:20260425T225125
CREATED:20240206T163719Z
LAST-MODIFIED:20240510T182154Z
UID:10003452-1728846000-1728856800@asburyparkchamber.com
SUMMARY:Slow Down Sundays with BJ Bied
DESCRIPTION:Join us at Soundbooth every Sunday from 7 – 10 pm and listen to lofi jazz loops by the talented guitarist BJ Bied!
URL:https://asburyparkchamber.com/event/slow-down-sundays-with-bj-bied/2024-10-13/
LOCATION:The Asbury Hotel\, 210 5th Ave\, Asbury Park\, NJ\, 07712\, United States
CATEGORIES:Music
ORGANIZER;CN="The Asbury Hotel":MAILTO:theasburyhotel@stayasburypark.com
END:VEVENT
BEGIN:VEVENT
DTSTART;TZID=America/New_York:20241014T190000
DTEND;TZID=America/New_York:20241014T220000
DTSTAMP:20260425T225125
CREATED:20240206T163807Z
LAST-MODIFIED:20240206T163807Z
UID:10003404-1728932400-1728943200@asburyparkchamber.com
SUMMARY:Music Trivia with Giuseppe
DESCRIPTION:Join Giuseppe at Soundbooth every Monday from  7 – 10 pm for Music Trivia!
URL:https://asburyparkchamber.com/event/music-trivia-with-giuseppe/2024-10-14/
LOCATION:The Asbury Hotel\, 210 5th Ave\, Asbury Park\, NJ\, 07712\, United States
ORGANIZER;CN="The Asbury Hotel":MAILTO:theasburyhotel@stayasburypark.com
END:VEVENT
BEGIN:VEVENT
DTSTART;TZID=America/New_York:20241015T180000
DTEND;TZID=America/New_York:20241015T200000
DTSTAMP:20260425T225125
CREATED:20240930T152310Z
LAST-MODIFIED:20240930T152310Z
UID:10004171-1729015200-1729022400@asburyparkchamber.com
SUMMARY:Business Made Social at Tim McLoone's Supper Club
DESCRIPTION:The Asbury Park Chamber of Commerce invites you to join us for business networking at Tim McLoone’s Supper Club on Tuesday\, October 15th from 6pm – 8pm. \n$15 in advance ($20 at the door for non-members/$15 at the door for members)
URL:https://asburyparkchamber.com/event/business-made-social-at-tim-mcloones-supper-club/
LOCATION:Tim McLoone’s Supper Club\, 1200 Ocean Ave\, Asbury Park\, 07712
CATEGORIES:Networking
ORGANIZER;CN="Asbury Park Chamber":MAILTO:info@asburyparkchamber.com
END:VEVENT
BEGIN:VEVENT
DTSTART;TZID=America/New_York:20241015T190000
DTEND;TZID=America/New_York:20241015T220000
DTSTAMP:20260425T225125
CREATED:20240819T182333Z
LAST-MODIFIED:20240819T182333Z
UID:10004086-1729018800-1729029600@asburyparkchamber.com
SUMMARY:PIANO PARTY WITH BOB EGAN
DESCRIPTION:Join us every Tuesday from 7 pm – 10 pm in Soundbooth and listen to Bob Egan play the piano while guests sing along!
URL:https://asburyparkchamber.com/event/piano-party-with-bob-egan-15/
LOCATION:The Asbury Hotel\, 210 5th Ave\, Asbury Park\, NJ\, 07712\, United States
END:VEVENT
BEGIN:VEVENT
DTSTART;TZID=America/New_York:20241016T180000
DTEND;TZID=America/New_York:20241016T220000
DTSTAMP:20260425T225125
CREATED:20240819T182333Z
LAST-MODIFIED:20240819T182333Z
UID:10004087-1729101600-1729116000@asburyparkchamber.com
SUMMARY:SANDY MACK JAM BAND
DESCRIPTION:Join us at Soundbooth Every Wednesday from 6-10PM to enjoy a Sand Mack Jam Band! This event is free and open to the public We hope to see you there!
URL:https://asburyparkchamber.com/event/sandy-mack-jam-band-12/
LOCATION:The Asbury Hotel\, 210 5th Ave\, Asbury Park\, NJ\, 07712\, United States
END:VEVENT
BEGIN:VEVENT
DTSTART;TZID=America/New_York:20241017T183000
DTEND;TZID=America/New_York:20241017T200000
DTSTAMP:20260425T225125
CREATED:20240625T193745Z
LAST-MODIFIED:20240718T184558Z
UID:10003864-1729189800-1729195200@asburyparkchamber.com
SUMMARY:Comedy Night at Bell Theater with Mike Vecchione
DESCRIPTION:Mike Vecchione has performed in NYC clubs and across the country for more than 20 years. Vecchione has appeared on The Tonight Show\, Netflix\, Comedy Central and Hulu. He was in Pete Davidson’s movie The King of Staten Island and currently has a comedy special on YouTube called The Attractives\, directed and produced by fellow comedian Nate Bargatze. Vecchione’s sarcastic\, joke-heavy style combined with sharp writing and an understated delivery leaves audiences in stitches.\nBell Theater offers a full bar\, plenty of parking\, and all tickets are $25. 6:30 p.m.
URL:https://asburyparkchamber.com/event/comedy-night-at-bell-theater-with-mike-vecchione/
LOCATION:Bell Theater\, 101 Crawfords Corner Road\, Holmdel\, 07733
CATEGORIES:Comedy
ATTACH;FMTTYPE=image/jpeg:https://asburyparkchamber.com/wp-content/uploads/2024/06/Mike-Vecchione-420-x-315-px.jpg
ORGANIZER;CN="Axelrod Performing Arts Center":MAILTO:maryannbourbeau@axelrodartscenter.org
END:VEVENT
END:VCALENDAR