BEGIN:VCALENDAR
VERSION:2.0
PRODID:-//Asbury Park Chamber of Commerce - ECPv6.15.18//NONSGML v1.0//EN
CALSCALE:GREGORIAN
METHOD:PUBLISH
X-ORIGINAL-URL:https://asburyparkchamber.com
X-WR-CALDESC:Events for Asbury Park Chamber of Commerce
REFRESH-INTERVAL;VALUE=DURATION:PT1H
X-Robots-Tag:noindex
X-PUBLISHED-TTL:PT1H
BEGIN:VTIMEZONE
TZID:America/New_York
BEGIN:DAYLIGHT
TZOFFSETFROM:-0500
TZOFFSETTO:-0400
TZNAME:EDT
DTSTART:20200308T070000
END:DAYLIGHT
BEGIN:STANDARD
TZOFFSETFROM:-0400
TZOFFSETTO:-0500
TZNAME:EST
DTSTART:20201101T060000
END:STANDARD
BEGIN:DAYLIGHT
TZOFFSETFROM:-0500
TZOFFSETTO:-0400
TZNAME:EDT
DTSTART:20210314T070000
END:DAYLIGHT
BEGIN:STANDARD
TZOFFSETFROM:-0400
TZOFFSETTO:-0500
TZNAME:EST
DTSTART:20211107T060000
END:STANDARD
BEGIN:DAYLIGHT
TZOFFSETFROM:-0500
TZOFFSETTO:-0400
TZNAME:EDT
DTSTART:20220313T070000
END:DAYLIGHT
BEGIN:STANDARD
TZOFFSETFROM:-0400
TZOFFSETTO:-0500
TZNAME:EST
DTSTART:20221106T060000
END:STANDARD
BEGIN:DAYLIGHT
TZOFFSETFROM:-0500
TZOFFSETTO:-0400
TZNAME:EDT
DTSTART:20230312T070000
END:DAYLIGHT
BEGIN:STANDARD
TZOFFSETFROM:-0400
TZOFFSETTO:-0500
TZNAME:EST
DTSTART:20231105T060000
END:STANDARD
BEGIN:DAYLIGHT
TZOFFSETFROM:-0500
TZOFFSETTO:-0400
TZNAME:EDT
DTSTART:20240310T070000
END:DAYLIGHT
BEGIN:STANDARD
TZOFFSETFROM:-0400
TZOFFSETTO:-0500
TZNAME:EST
DTSTART:20241103T060000
END:STANDARD
BEGIN:DAYLIGHT
TZOFFSETFROM:-0500
TZOFFSETTO:-0400
TZNAME:EDT
DTSTART:20250309T070000
END:DAYLIGHT
BEGIN:STANDARD
TZOFFSETFROM:-0400
TZOFFSETTO:-0500
TZNAME:EST
DTSTART:20251102T060000
END:STANDARD
BEGIN:DAYLIGHT
TZOFFSETFROM:-0500
TZOFFSETTO:-0400
TZNAME:EDT
DTSTART:20260308T070000
END:DAYLIGHT
BEGIN:STANDARD
TZOFFSETFROM:-0400
TZOFFSETTO:-0500
TZNAME:EST
DTSTART:20261101T060000
END:STANDARD
END:VTIMEZONE
BEGIN:VEVENT
DTSTART;TZID=America/New_York:20251116T120000
DTEND;TZID=America/New_York:20251116T160000
DTSTAMP:20260422T092344
CREATED:20251112T141420Z
LAST-MODIFIED:20251113T195320Z
UID:10006619-1763294400-1763308800@asburyparkchamber.com
SUMMARY:APMF Strike a Chord Fundraiser at the Wonder Bar 🎼🎸
DESCRIPTION:Just when you thought the Strike a Chord lineup couldn’t get better\, it did. Get ready to make an impact and have a blast at the Strike a Chord Fundraiser. \nIt’s happening Sunday\, November 16\, 2025\, from Noon to 4 PM at Asbury Lanes. \nJust Added: Salt Brothers! Tickets are on sale now. For only $40 per ticket\, you’ll experience an unforgettable day filled with live music\, bowling\, raffles\, prizes and purpose. It’s all to support the Asbury Park Music Foundation’s Adopt-a-Musician Campaign. Every ticket supports this initiative to give under-resourced kids in Asbury Park and surrounding communities life-changing music education. \nLive Performances by:\nStringbean and the Boardwalk Social Club\nThe Well Wish\nSalt Brothers\nThe Pulse\nCBA Rock Band\nSee You Monday \nThis event is ALL AGES and includes live music\, bowling\, sliders and your first cocktail or soft drink. Enjoy a day of family fun with live music\, raffles and prizes. \nSpecial thanks to O’Brien Realty\, Revere Securities\, Smith Restaurant Group\, MRC Recreation/Gametime\, Colliers Engineering Group and Dillon Music for helping us keep the music playing. \n🎟️ Get your tickets now and help us strike a chord that truly changes lives.
URL:https://asburyparkchamber.com/event/apmf-strike-a-chord-fundraiser-%f0%9f%8e%bc%f0%9f%8e%b8/
LOCATION:Asbury Lanes\, 209 4th Avenue\, Asbury Park\, 07712
CATEGORIES:Family,Fundraiser,Music
ATTACH;FMTTYPE=image/png:https://asburyparkchamber.com/wp-content/uploads/2025/11/gSYsTTBtJ7WtMl3qDCk3i0jr6GcmdfA9TxhtwKZt.png
ORGANIZER;CN="Asbury Park Music Foundation":MAILTO:info@asburyparkmusiclives.org
END:VEVENT
BEGIN:VEVENT
DTSTART;TZID=America/New_York:20250927T130000
DTEND;TZID=America/New_York:20250927T170000
DTSTAMP:20260422T092344
CREATED:20250925T143045Z
LAST-MODIFIED:20250925T143059Z
UID:10005878-1758978000-1758992400@asburyparkchamber.com
SUMMARY:Asbury Park Porch Fest! 🎸 🎶
DESCRIPTION:On Saturday\, September 27\, from 1:00–5:00 PM\, front porches and lawns across Asbury Park will transform into stages for dozens of local musicians. \nTrinity is honored to be one of only two nonprofit beneficiaries of this beloved town-wide festival and to host our own porch at 503 Asbury Avenue. Stop by to enjoy live music and soak up the community spirit that makes PorchFest such a highlight of the season. All performances are free\, and donations collected throughout the day directly support Trinity’s programs addressing hunger\, housing\, employment\, and health in our neighborhood.
URL:https://asburyparkchamber.com/event/asbury-park-porchfest-%f0%9f%8e%b8-%f0%9f%8e%b6/
LOCATION:Asbury Park
CATEGORIES:Family,Music
ATTACH;FMTTYPE=image/png:https://asburyparkchamber.com/wp-content/uploads/2025/09/Porchfest-banner.png
ORGANIZER;CN="Trinity Church":MAILTO:office@trinitynj.com
END:VEVENT
BEGIN:VEVENT
DTSTART;TZID=America/New_York:20250830T110000
DTEND;TZID=America/New_York:20250830T200000
DTSTAMP:20260422T092344
CREATED:20250829T154820Z
LAST-MODIFIED:20250829T154940Z
UID:10005828-1756551600-1756584000@asburyparkchamber.com
SUMMARY:New Jersey Clearwater Festival - Celebrating 50 Years!
DESCRIPTION:NJ Friends of Clearwater Festival is back in Asbury Park for our 50th Annual Festival! \nWe are excited to return this summer for our grand 50th Festival\, featuring a special appearance by our founder\, folksinger Bob Killian. In the early 1970’s\, Bob spent several years with Pete Seeger\, appearing on many albums as a Sloop Singer\, and helping to stage events that brought attention to the environment and the severe pollution of the Hudson River. \nOur annual open-air music festival celebrates the spirit of people working and singing together to protect our environment. It is also the networking hub in New Jersey for sharing ideas on environmental protection. \nTwo music stages with the finest in folk and rock music\, crafts and green vendors\, enviro-activists\, food trucks\, special activities for children\, and discussion round-tables\, combine to continue our tradition of fun\, inspiration\, and education. It also honors the fellowship of song\, started by our spiritual founder\, Pete Seeger\, more than 50 years ago. \nWhen: Saturday\, August 30\nWhere: Sunset Park\, 1305 Main Street\, Asbury Park\, 07712 (between Sunset & Fifth Avenues) \nVolunteers are needed! \nFurther info: festival@njclearwater.org.
URL:https://asburyparkchamber.com/event/new-jersey-clearwater-festival-celebrating-50-years/
LOCATION:Sunset Park\, 404 Fifth Ave\, Asbury Park\, 07712
CATEGORIES:Family,Fundraiser,Music
ATTACH;FMTTYPE=image/jpeg:https://asburyparkchamber.com/wp-content/uploads/2025/08/537144068_1153923560102825_1233453423968427019_n.jpg
ORGANIZER;CN="Friends of Clearwater":MAILTO:info@njclearwater.org
END:VEVENT
BEGIN:VEVENT
DTSTART;TZID=America/New_York:20250419T170000
DTEND;TZID=America/New_York:20250419T200000
DTSTAMP:20260422T092344
CREATED:20250403T155618Z
LAST-MODIFIED:20250403T155618Z
UID:10004390-1745082000-1745092800@asburyparkchamber.com
SUMMARY:One Mic One Soul-Open MIc
DESCRIPTION:Step into an unforgettable open mic night where soulful expression\, live music\, spoken word\, poetry and artistry come together-share your voice or simply soak in the vibrant energy
URL:https://asburyparkchamber.com/event/one-mic-one-soul-open-mic-6/
LOCATION:Konscious Community Center\, 631 Lake Ave\, Asbury Park\, 07712
CATEGORIES:Art & Culture,Music,Networking
ORGANIZER;CN="KYDS":MAILTO:Info@konscious.org
END:VEVENT
BEGIN:VEVENT
DTSTART;TZID=America/New_York:20250125T170000
DTEND;TZID=America/New_York:20250125T200000
DTSTAMP:20260422T092344
CREATED:20250116T190601Z
LAST-MODIFIED:20250116T190601Z
UID:10004236-1737824400-1737835200@asburyparkchamber.com
SUMMARY:One Mic One Soul-Open MIc
DESCRIPTION:Join us for our next Open Mic in Asbury Park! \nYou must sign up by 4:30p to perform. \nFree for ALL\, but donations are truly appreciated. \nEvery donation will go to actively transforming youth\, schools\, and communities through holistic practices. \nSee you there!
URL:https://asburyparkchamber.com/event/one-mic-one-soul-open-mic/
LOCATION:Konscious Community Center\, 631 Lake Ave\, Asbury Park\, 07712
CATEGORIES:Art & Culture,Family,Music
ORGANIZER;CN="KYDS":MAILTO:Info@konscious.org
END:VEVENT
BEGIN:VEVENT
DTSTART;TZID=America/New_York:20240121T140000
DTEND;TZID=America/New_York:20240121T160000
DTSTAMP:20260422T092344
CREATED:20240102T154642Z
LAST-MODIFIED:20240102T154642Z
UID:10003278-1705845600-1705852800@asburyparkchamber.com
SUMMARY:Remembering Harry Chapin
DESCRIPTION:A concert to benefit THE LIGHT OF DAY FOUNDATION and WhyHunger featuring John McMenamin and friends along with original Chapin band members Big John Wallace and Howard Fields. They will faithfully perform Harry’s songs and share many stories about him in this entertaining and heartwarming show.
URL:https://asburyparkchamber.com/event/remembering-harry-chapin/
LOCATION:Axelrod Performing Arts Center\, 100 Grant Ave\, Deal\, 07723
CATEGORIES:Fundraiser,Music
ATTACH;FMTTYPE=image/jpeg:https://asburyparkchamber.com/wp-content/uploads/2023/12/Harry-Chapin.jpg
ORGANIZER;CN="Axelrod Performing Arts Center":MAILTO:maryannbourbeau@axelrodartscenter.org
END:VEVENT
BEGIN:VEVENT
DTSTART;TZID=America/New_York:20230930T120000
DTEND;TZID=America/New_York:20230930T140000
DTSTAMP:20260422T092344
CREATED:20230918T143910Z
LAST-MODIFIED:20230918T143910Z
UID:10003016-1696075200-1696082400@asburyparkchamber.com
SUMMARY:The Wright Trio @ Asbury Fall Bazaar
DESCRIPTION:Live music by The Wright Trio in the Grand Arcade in Convention Hall for the Annual Fall Bazaar.
URL:https://asburyparkchamber.com/event/the-wright-trio-asbury-fall-bazaar/
LOCATION:Convention Hall\, 1300 Ocean Avenue\, Asbury Park\, NJ\, 07712\, United States
ATTACH;FMTTYPE=image/jpeg:https://asburyparkchamber.com/wp-content/uploads/2023/09/IMG_9643.jpg
END:VEVENT
BEGIN:VEVENT
DTSTART;TZID=America/New_York:20230614T190000
DTEND;TZID=America/New_York:20230614T213000
DTSTAMP:20260422T092344
CREATED:20230420T191028Z
LAST-MODIFIED:20230420T191028Z
UID:10002525-1686769200-1686778200@asburyparkchamber.com
SUMMARY:Brian Fallon
DESCRIPTION:Brian Fallon may be best known as the lead vocalist\, rhythm guitarist\, and main lyricist of the rock band The Gaslight Anthem\, but his solo career shows he’s just as comfortable and skilled as a solo artist. With his latest album\, Local Honey\, he’s rooted himself firmly as a gifted and introspective singer/songwriter who is actively enjoying living in the here and now. Expect to be blown away by his stripped-down acoustic vibe and poignant\, heartfelt lyricism when he takes the stage at N2S. He’ll be joined by fellow singer/songwriter Donovan Woods.
URL:https://asburyparkchamber.com/event/brian-fallon/
LOCATION:Stone Pony\, 913 Ocean Ave\, Asbury Park\, 07712
CATEGORIES:Music
ATTACH;FMTTYPE=image/jpeg:https://asburyparkchamber.com/wp-content/uploads/2023/04/brian-fallon.jpg
ORGANIZER;CN="North 2 Shore":MAILTO:info@northtoshore.com
END:VEVENT
BEGIN:VEVENT
DTSTART;VALUE=DATE:20220909
DTEND;VALUE=DATE:20220911
DTSTAMP:20260422T092344
CREATED:20220830T182632Z
LAST-MODIFIED:20220830T182632Z
UID:10002277-1662753600-1662839999@asburyparkchamber.com
SUMMARY:Asbury Park PorchFest
DESCRIPTION:2022 is the 6th annual Asbury Park PorchFest! This family-friendly\, FREE event features performances on porches for an audience that moves from home to home.\nPorchFest was founded in Ithaca\, NY in September 2007 by neighbors Gretchen Hildreth and Lesley Greene. Over the years the concept of hosting performances on front porches\, for an audience who moved from home to home\, has grown with communities around the U.S. organizing PorchFests of all sizes. \nAsbury Park’s passionate connection to music along with its idyllic homes and porches make it an ideal town for our own annual PorchFest. 2022 is the 6th annual PorchFest! This family-friendly\, FREE event features musicians from a wide variety of genres. Afternoon entertainment will include dozens of performers on porches throughout the city. Attendees will stroll from porch to porch and “camp out” on front lawns and sidewalks as they enjoy live\, local talent.
URL:https://asburyparkchamber.com/event/asbury-park-porchfest-2/
LOCATION:Asbury Park
CATEGORIES:Music
ATTACH;FMTTYPE=image/jpeg:https://asburyparkchamber.com/wp-content/uploads/2022/08/porchfest22.jpeg
END:VEVENT
BEGIN:VEVENT
DTSTART;TZID=America/New_York:20210716T040000
DTEND;TZID=America/New_York:20210716T130000
DTSTAMP:20260422T092344
CREATED:20210717T004413Z
LAST-MODIFIED:20210717T004413Z
UID:10002076-1626408000-1626440400@asburyparkchamber.com
SUMMARY:Cookman Ave. Live! presents Kuf Knotz & Christine Elise
DESCRIPTION:Location: Cookman Avenue\, Asbury Park\, NJ \nDescription: The Cookman Ave. Live! music series is a series of free\, outdoor\, acoustic shows that will take place in downtown Asbury Park throughout the summer. The initial set of shows\, in late May and June\, have been announced\, with more expected to be added later. \nThe performances will take place across the street from the Parlor Gallery\, which is located at 717 Cookman Ave. \nThese shows will take place Fridays at 7 p.m.: \nMay 28: Mister Tickle Hands\nJune 4: Joe Rapolla & Friends\nJune 11: Kevin Grossman Hand-pan Group\nJune 18: Ser Xerri Trio\nJune 25: From the Ground\nJuly 2: Tara Dente & Nicole Scorsone\nJuly 9: Jackson Pines\nJuly 16: Conner Bracken & Mother Leeds Acoustic\nJuly 23: Rachel Ana Dobken\nJuly 30: Quincy Mumford\nAugust 6: Mike Noordzy & Antoine Drye\nAugust 13: Bone and Marrow\nAugust 20: Enjoy!\nAugust 27: Des and the Swagmatics\nSeptemer 3: Audra Mariel & A Real Human Jazz Band \nAnd these shows will take place Sundays at 3 p.m.: \nMay 30: Bobby Mahoney\nJune 6: Paul Rosevear\nJune 13: Brother Andrew\nJune 20: Emily Grove\nJune 27: Tommy LaBella & the Mighty Burners\nJuly 4: Captain Cream & Forrest Fires\nJuly 11: Renee Maskin\nJuly 18: Kuf Knotz & Christine Elise\nJuly 25: Michael Ghegan\nAugust 1: Alison Clark\nAugust 8: Taylor Tote\nAugust 15: Digba Ogunbiyi Quartet\nAugust 22: Dentist\nAugust 29: Jimmy Merchant & Bryan Hansen\nSeptember 5: New Attitude \nThe series is presented by the Asbury Park Music Foundation and the city of Asbury Park. \nFor information and updates\, visit\nfacebook.com/asburyparkmusicfoundation
URL:https://asburyparkchamber.com/event/cookman-ave-live-presents-kuf-knotz-christine-elise/
CATEGORIES:Music
END:VEVENT
END:VCALENDAR