BEGIN:VCALENDAR
VERSION:2.0
PRODID:-//Asbury Park Chamber of Commerce - ECPv6.15.18//NONSGML v1.0//EN
CALSCALE:GREGORIAN
METHOD:PUBLISH
X-ORIGINAL-URL:https://asburyparkchamber.com
X-WR-CALDESC:Events for Asbury Park Chamber of Commerce
REFRESH-INTERVAL;VALUE=DURATION:PT1H
X-Robots-Tag:noindex
X-PUBLISHED-TTL:PT1H
BEGIN:VTIMEZONE
TZID:America/New_York
BEGIN:DAYLIGHT
TZOFFSETFROM:-0500
TZOFFSETTO:-0400
TZNAME:EDT
DTSTART:20250309T070000
END:DAYLIGHT
BEGIN:STANDARD
TZOFFSETFROM:-0400
TZOFFSETTO:-0500
TZNAME:EST
DTSTART:20251102T060000
END:STANDARD
BEGIN:DAYLIGHT
TZOFFSETFROM:-0500
TZOFFSETTO:-0400
TZNAME:EDT
DTSTART:20260308T070000
END:DAYLIGHT
BEGIN:STANDARD
TZOFFSETFROM:-0400
TZOFFSETTO:-0500
TZNAME:EST
DTSTART:20261101T060000
END:STANDARD
BEGIN:DAYLIGHT
TZOFFSETFROM:-0500
TZOFFSETTO:-0400
TZNAME:EDT
DTSTART:20270314T070000
END:DAYLIGHT
BEGIN:STANDARD
TZOFFSETFROM:-0400
TZOFFSETTO:-0500
TZNAME:EST
DTSTART:20271107T060000
END:STANDARD
END:VTIMEZONE
BEGIN:VEVENT
DTSTART;TZID=America/New_York:20260425T120000
DTEND;TZID=America/New_York:20260425T170000
DTSTAMP:20260424T153213
CREATED:20260211T164553Z
LAST-MODIFIED:20260423T162457Z
UID:10007270-1777118400-1777136400@asburyparkchamber.com
SUMMARY:POSTPONED! Asbury Park Vintage Market 💽📸👔 at the Stone Pony Summer Stage
DESCRIPTION:The Stone Pony Summer Stage in Asbury Park will host the Spring Asbury Park Vintage Market on Saturday\, April 25th\, from 12pm-5pm.\nShop more than 50 local and visiting vendors featuring vintage clothing from the 1940s-early 2000s\, along with home décor\, vinyl records + more! \nAdmission is free and open to all ages\, with food and drinks available on-site.
URL:https://asburyparkchamber.com/event/asbury-park-vintage-market-%f0%9f%92%bd%f0%9f%93%b8%f0%9f%91%94-at-the-stone-pony-summer-stage/
LOCATION:The Stone Pony Summer Stage\, 913 Ocean Ave\, Asbury Park\, NJ\, 07702\, United States
CATEGORIES:Family
ATTACH;FMTTYPE=image/jpeg:https://asburyparkchamber.com/wp-content/uploads/2025/10/IMG_6275.jpg
END:VEVENT
BEGIN:VEVENT
DTSTART;TZID=America/New_York:20260427T180000
DTEND;TZID=America/New_York:20260427T200000
DTSTAMP:20260424T153213
CREATED:20260316T191159Z
LAST-MODIFIED:20260316T191159Z
UID:10007381-1777312800-1777320000@asburyparkchamber.com
SUMMARY:🤠 Free Line Dancing Classes at the Asbury Park Senior Center 🤠
DESCRIPTION:Free line dancing classes are coming to the Asbury Park Senior Center every Monday! \nJoin instructor Suzanne Parchment from March 23 to April 27 at 6pm. All ages welcome. \nBring water and a towel. For info\, email recreation@asburypark.gov or call 732-502-5759.
URL:https://asburyparkchamber.com/event/%f0%9f%a4%a0-free-line-dancing-classes-at-the-asbury-park-senior-center-%f0%9f%a4%a0/2026-04-27/
LOCATION:Asbury Park Senior Center\, 1201 Springwood Avenue\, 2nd Floor\, Asbury Park\, NJ\, 07712\, United States
CATEGORIES:Dance,Family
ATTACH;FMTTYPE=image/jpeg:https://asburyparkchamber.com/wp-content/uploads/2026/03/651178741_1385524086936008_2398367459961021685_n.jpg
END:VEVENT
BEGIN:VEVENT
DTSTART;TZID=America/New_York:20260430T180000
DTEND;TZID=America/New_York:20260430T220000
DTSTAMP:20260424T153213
CREATED:20260313T182726Z
LAST-MODIFIED:20260424T133242Z
UID:10007367-1777572000-1777586400@asburyparkchamber.com
SUMMARY:Mayor's Rodeo for Recreation
DESCRIPTION:Support Asbury Park recreation and help keep summer camp accessible for every kid in the city! \nThe City of Asbury Park Mayor’s Rodeo for Recreation\, will take place on Thursday\, April 30th from 6-10pm at The Stone Pony. The fundraiser benefits the Asbury Park Summer Recreation Program.\nTickets will be available for purchase in advance in-person at City Hall located at 1 Municipal Plaza or at The Stone Pony. Tickets will also be available at the door.\nFor additional information on the City of Asbury Park’s Mayor’s Rodeo for Recreation\, please contact event organizers Leesha Floyd at 732-502-5759 or Cassandra Dickerson at 732-502-5753.
URL:https://asburyparkchamber.com/event/mayors-rodeo-for-recreation/
LOCATION:The Stone Pony
CATEGORIES:Fundraiser
ATTACH;FMTTYPE=image/jpeg:https://asburyparkchamber.com/wp-content/uploads/2026/03/Rodeo-2026-Coaster-Ad-10x14-1-e1777037552990.jpg
END:VEVENT
BEGIN:VEVENT
DTSTART;TZID=America/New_York:20260501T150000
DTEND;TZID=America/New_York:20260501T190000
DTSTAMP:20260424T153213
CREATED:20260424T161713Z
LAST-MODIFIED:20260424T161713Z
UID:10007503-1777647600-1777662000@asburyparkchamber.com
SUMMARY:Eco Print & Patch
DESCRIPTION:Blend nature with street style using silk plants\, foam icons (skulls\, stars\, and more)\, and “found” textures like mesh and bubble wrap. Learn to ink and hand-press your own unique designs onto paper and reclaimed denim. Create one-of-a-kind art or a custom patch for your jacket or bag—no experience needed\, just come ready to assemble\, ink and print!
URL:https://asburyparkchamber.com/event/eco-print-patch/
LOCATION:Kula Urban Farm\, 810 4th Avenue\, Asbury Park\, 07712
CATEGORIES:Art & Culture,Family
ATTACH;FMTTYPE=image/png:https://asburyparkchamber.com/wp-content/uploads/2026/04/2-1.png
END:VEVENT
BEGIN:VEVENT
DTSTART;TZID=America/New_York:20260501T170000
DTEND;TZID=America/New_York:20260501T210000
DTSTAMP:20260424T153213
CREATED:20260423T145027Z
LAST-MODIFIED:20260423T145130Z
UID:10007470-1777654800-1777669200@asburyparkchamber.com
SUMMARY:First Friday Art and Sound at Press Plaza
DESCRIPTION:First Friday is heading to a new home this summer. This May\, the beloved community event launches at Press Plaza\, bringing together music lovers\, art enthusiasts\, and families for a night of free entertainment and creative fun. \nOn Thursday\, May 1st from 5pm to 9pm\, Press Plaza will transform into a vibrant hub of culture and connection. Enjoy live music performances from regional acts\, catch live art demonstrations\, and participate in hands-on creative activities. Kids can explore free craft stations while adults browse and enjoy the energy of the evening. \nThe event is free for all ages\, making it the perfect way to kick off your May evening. Whether you’re looking to discover new artists\, support local talent\, or spend quality time with family and friends\, First Friday delivers something for everyone. \nThis month’s performers include Alexander Simone\, Circle Drive\, and The Band Palm. Each brings their own unique sound to Press Plaza\, creating an eclectic soundtrack for the evening. \nFirst Friday at Press Plaza is brought to you by the City of Asbury Park’s Department of Community and Cultural Affairs\, in partnership with Over the Moon and the Asbury Park Chamber of Commerce. It’s part of our ongoing commitment to making Asbury Park a vibrant destination for arts\, culture\, and community. \nMark your calendar for May 1st and bring your friends and family to Press Plaza. Free admission. All ages welcome.
URL:https://asburyparkchamber.com/event/first-friday-at-press-plaza/
LOCATION:Press Plaza\, Intersection of Cookman Ave. and Emory St.\, Asbury Park\, NJ\, 07712\, United States
CATEGORIES:Art & Culture,Event,Family,Music,Party,Shopping
ATTACH;FMTTYPE=image/jpeg:https://asburyparkchamber.com/wp-content/uploads/2026/02/Document-e1776955196915.jpeg
ORGANIZER;CN="Over the Moon Art Studios":MAILTO:info@overthemoonartstudios.com
END:VEVENT
BEGIN:VEVENT
DTSTART;TZID=America/New_York:20260502T110000
DTEND;TZID=America/New_York:20260502T130000
DTSTAMP:20260424T153213
CREATED:20260123T144749Z
LAST-MODIFIED:20260123T144749Z
UID:10007130-1777719600-1777726800@asburyparkchamber.com
SUMMARY:🥕Winter Market at the AP Public Library 🥦
DESCRIPTION:The Winter Market returns to the Asbury Park Library with free winter produce and dry goods\, offered in partnership with the Mayor’s Wellness Committee and The Flying Pig Market. \nStop by the Junior Room on select Saturdays from 11am to 1pm and stock up while supplies last.
URL:https://asburyparkchamber.com/event/%f0%9f%a5%95winter-market-at-the-ap-public-library-%f0%9f%a5%a6/2026-05-02/
LOCATION:Asbury Park Public Library\, 500 1st Ave.\, Asbury Park\, 07712
CATEGORIES:Family
ATTACH;FMTTYPE=image/png:https://asburyparkchamber.com/wp-content/uploads/2026/01/winter-market-_3_.png
END:VEVENT
BEGIN:VEVENT
DTSTART;TZID=America/New_York:20260514T190000
DTEND;TZID=America/New_York:20260514T213000
DTSTAMP:20260424T153213
CREATED:20260108T201220Z
LAST-MODIFIED:20260108T201227Z
UID:10006886-1778785200-1778794200@asburyparkchamber.com
SUMMARY:Medium Linda Shields The Jersey Shore Medium at Tim McLoone's Supper Club
DESCRIPTION:Come enjoy an evening with Linda Shields\, The Jersey Shore Medium\, as she connects with those who have crossed over. Linda realized her “gift” at a very early age and tells us that her greatest joy is in being able to be the “voice” of a loved one or friend who has passed and wants to communicate with those they have left behind. This promises to be an evening with many surprises! \nDoors at 5:30\, show starts at 7. \nPLEASE NOTE: Purchasing a ticket does not guarantee a reading. \nGROUP SEATING DOES APPLY!\nDO NOT WANT TO SIT WITH OTHERS? FEEL FREE TO BUY THE WHOLE TABLE. \nIF YOUR PARTY IS LARGER THAN 8 PEOPLE\, PLEASE CALL TIM McLOONE’S SUPPER CLUB (732.774.1400) TO ADD ON ADDITIONAL TICKETS TO YOUR TABLE. EACH PERSON ATTENDING WILL BE REQUIRED TO HAVE A TICKET. \nA $25 PER PERSON FOOD & BEVERAGE MINIMUM IS REQUIRED \nTICKETS ARE NON-REFUNDABLE. SHOULD THE VENUE NEED TO CANCEL THE SHOW\, A REFUND WILL BE ISSUED LESS PROCESSING FEES. \nIF A SHOW MUST POSTPONE\, TICKETS WILL BE TRANSFERRED TO THE NEW DATE. \nANY QUESTIONS ON TICKETING OR TO PURCHASE TICKETS FOR PARTIES OF 9 OR MORE\, PLEASE CALL TIM McLOONE’S SUPPER CLUB AT (732) 774-1400.
URL:https://asburyparkchamber.com/event/medium-linda-shields-the-jersey-shore-medium-at-tim-mcloones-supper-club-4/
LOCATION:Tim McLoone’s Supper Club\, 1200 Ocean Ave\, Asbury Park\, 07712
CATEGORIES:Family
ATTACH;FMTTYPE=image/jpeg:https://asburyparkchamber.com/wp-content/uploads/2025/09/LindaShields.jpg
END:VEVENT
BEGIN:VEVENT
DTSTART;TZID=America/New_York:20260716T190000
DTEND;TZID=America/New_York:20260716T213000
DTSTAMP:20260424T153213
CREATED:20260109T155615Z
LAST-MODIFIED:20260109T155615Z
UID:10006888-1784228400-1784237400@asburyparkchamber.com
SUMMARY:Medium Linda Shields The Jersey Shore Medium at Tim McLoone's Supper Club
DESCRIPTION:Come enjoy an evening with Linda Shields\, The Jersey Shore Medium\, as she connects with those who have crossed over. Linda realized her “gift” at a very early age and tells us that her greatest joy is in being able to be the “voice” of a loved one or friend who has passed and wants to communicate with those they have left behind. This promises to be an evening with many surprises! \nDoors at 5:30\, show starts at 7. \nPLEASE NOTE: Purchasing a ticket does not guarantee a reading. \nGROUP SEATING DOES APPLY!\nDO NOT WANT TO SIT WITH OTHERS? FEEL FREE TO BUY THE WHOLE TABLE. \nIF YOUR PARTY IS LARGER THAN 8 PEOPLE\, PLEASE CALL TIM McLOONE’S SUPPER CLUB (732.774.1400) TO ADD ON ADDITIONAL TICKETS TO YOUR TABLE. EACH PERSON ATTENDING WILL BE REQUIRED TO HAVE A TICKET. \nA $25 PER PERSON FOOD & BEVERAGE MINIMUM IS REQUIRED \nTICKETS ARE NON-REFUNDABLE. SHOULD THE VENUE NEED TO CANCEL THE SHOW\, A REFUND WILL BE ISSUED LESS PROCESSING FEES. \nIF A SHOW MUST POSTPONE\, TICKETS WILL BE TRANSFERRED TO THE NEW DATE. \nANY QUESTIONS ON TICKETING OR TO PURCHASE TICKETS FOR PARTIES OF 9 OR MORE\, PLEASE CALL TIM McLOONE’S SUPPER CLUB AT (732) 774-1400.
URL:https://asburyparkchamber.com/event/medium-linda-shields-the-jersey-shore-medium-at-tim-mcloones-supper-club-8/
LOCATION:Tim McLoone’s Supper Club\, 1200 Ocean Ave\, Asbury Park\, 07712
CATEGORIES:Family
ATTACH;FMTTYPE=image/jpeg:https://asburyparkchamber.com/wp-content/uploads/2025/09/LindaShields.jpg
END:VEVENT
BEGIN:VEVENT
DTSTART;TZID=America/New_York:20261022T190000
DTEND;TZID=America/New_York:20261022T213000
DTSTAMP:20260424T153213
CREATED:20260108T201359Z
LAST-MODIFIED:20260108T201407Z
UID:10006889-1792695600-1792704600@asburyparkchamber.com
SUMMARY:Medium Linda Shields The Jersey Shore Medium at Tim McLoone's Supper Club
DESCRIPTION:Come enjoy an evening with Linda Shields\, The Jersey Shore Medium\, as she connects with those who have crossed over. Linda realized her “gift” at a very early age and tells us that her greatest joy is in being able to be the “voice” of a loved one or friend who has passed and wants to communicate with those they have left behind. This promises to be an evening with many surprises! \nDoors at 5:30\, show starts at 7. \nPLEASE NOTE: Purchasing a ticket does not guarantee a reading. \nGROUP SEATING DOES APPLY!\nDO NOT WANT TO SIT WITH OTHERS? FEEL FREE TO BUY THE WHOLE TABLE. \nIF YOUR PARTY IS LARGER THAN 8 PEOPLE\, PLEASE CALL TIM McLOONE’S SUPPER CLUB (732.774.1400) TO ADD ON ADDITIONAL TICKETS TO YOUR TABLE. EACH PERSON ATTENDING WILL BE REQUIRED TO HAVE A TICKET. \nA $25 PER PERSON FOOD & BEVERAGE MINIMUM IS REQUIRED \nTICKETS ARE NON-REFUNDABLE. SHOULD THE VENUE NEED TO CANCEL THE SHOW\, A REFUND WILL BE ISSUED LESS PROCESSING FEES. \nIF A SHOW MUST POSTPONE\, TICKETS WILL BE TRANSFERRED TO THE NEW DATE. \nANY QUESTIONS ON TICKETING OR TO PURCHASE TICKETS FOR PARTIES OF 9 OR MORE\, PLEASE CALL TIM McLOONE’S SUPPER CLUB AT (732) 774-1400.
URL:https://asburyparkchamber.com/event/medium-linda-shields-the-jersey-shore-medium-at-tim-mcloones-supper-club-6/
LOCATION:Tim McLoone’s Supper Club\, 1200 Ocean Ave\, Asbury Park\, 07712
CATEGORIES:Family
ATTACH;FMTTYPE=image/jpeg:https://asburyparkchamber.com/wp-content/uploads/2025/09/LindaShields.jpg
END:VEVENT
BEGIN:VEVENT
DTSTART;TZID=America/New_York:20261202T190000
DTEND;TZID=America/New_York:20261202T213000
DTSTAMP:20260424T153213
CREATED:20260108T201432Z
LAST-MODIFIED:20260108T201438Z
UID:10006890-1796238000-1796247000@asburyparkchamber.com
SUMMARY:Medium Linda Shields The Jersey Shore Medium at Tim McLoone's Supper Club
DESCRIPTION:Come enjoy an evening with Linda Shields\, The Jersey Shore Medium\, as she connects with those who have crossed over. Linda realized her “gift” at a very early age and tells us that her greatest joy is in being able to be the “voice” of a loved one or friend who has passed and wants to communicate with those they have left behind. This promises to be an evening with many surprises! \nDoors at 5:30\, show starts at 7. \nPLEASE NOTE: Purchasing a ticket does not guarantee a reading. \nGROUP SEATING DOES APPLY!\nDO NOT WANT TO SIT WITH OTHERS? FEEL FREE TO BUY THE WHOLE TABLE. \nIF YOUR PARTY IS LARGER THAN 8 PEOPLE\, PLEASE CALL TIM McLOONE’S SUPPER CLUB (732.774.1400) TO ADD ON ADDITIONAL TICKETS TO YOUR TABLE. EACH PERSON ATTENDING WILL BE REQUIRED TO HAVE A TICKET. \nA $25 PER PERSON FOOD & BEVERAGE MINIMUM IS REQUIRED \nTICKETS ARE NON-REFUNDABLE. SHOULD THE VENUE NEED TO CANCEL THE SHOW\, A REFUND WILL BE ISSUED LESS PROCESSING FEES. \nIF A SHOW MUST POSTPONE\, TICKETS WILL BE TRANSFERRED TO THE NEW DATE. \nANY QUESTIONS ON TICKETING OR TO PURCHASE TICKETS FOR PARTIES OF 9 OR MORE\, PLEASE CALL TIM McLOONE’S SUPPER CLUB AT (732) 774-1400.
URL:https://asburyparkchamber.com/event/medium-linda-shields-the-jersey-shore-medium-at-tim-mcloones-supper-club-7/
LOCATION:Tim McLoone’s Supper Club\, 1200 Ocean Ave\, Asbury Park\, 07712
CATEGORIES:Family
ATTACH;FMTTYPE=image/jpeg:https://asburyparkchamber.com/wp-content/uploads/2025/09/LindaShields.jpg
END:VEVENT
END:VCALENDAR