BEGIN:VCALENDAR
VERSION:2.0
PRODID:-//Asbury Park Chamber of Commerce - ECPv6.15.18//NONSGML v1.0//EN
CALSCALE:GREGORIAN
METHOD:PUBLISH
X-ORIGINAL-URL:https://asburyparkchamber.com
X-WR-CALDESC:Events for Asbury Park Chamber of Commerce
REFRESH-INTERVAL;VALUE=DURATION:PT1H
X-Robots-Tag:noindex
X-PUBLISHED-TTL:PT1H
BEGIN:VTIMEZONE
TZID:America/New_York
BEGIN:DAYLIGHT
TZOFFSETFROM:-0500
TZOFFSETTO:-0400
TZNAME:EDT
DTSTART:20250309T070000
END:DAYLIGHT
BEGIN:STANDARD
TZOFFSETFROM:-0400
TZOFFSETTO:-0500
TZNAME:EST
DTSTART:20251102T060000
END:STANDARD
BEGIN:DAYLIGHT
TZOFFSETFROM:-0500
TZOFFSETTO:-0400
TZNAME:EDT
DTSTART:20260308T070000
END:DAYLIGHT
BEGIN:STANDARD
TZOFFSETFROM:-0400
TZOFFSETTO:-0500
TZNAME:EST
DTSTART:20261101T060000
END:STANDARD
BEGIN:DAYLIGHT
TZOFFSETFROM:-0500
TZOFFSETTO:-0400
TZNAME:EDT
DTSTART:20270314T070000
END:DAYLIGHT
BEGIN:STANDARD
TZOFFSETFROM:-0400
TZOFFSETTO:-0500
TZNAME:EST
DTSTART:20271107T060000
END:STANDARD
END:VTIMEZONE
BEGIN:VEVENT
DTSTART;TZID=America/New_York:20260118T100000
DTEND;TZID=America/New_York:20260118T140000
DTSTAMP:20260425T074451
CREATED:20260109T200513Z
LAST-MODIFIED:20260109T200513Z
UID:10007027-1768730400-1768744800@asburyparkchamber.com
SUMMARY:🥞🍳🍀 Lucky Lebrechaun Breakfast 🥞🍳🍀 at Kim Marie's
DESCRIPTION:It’s time to dig through your closet for all of your best green garb again! The 12th Annual Asbury St. Patrick’s Day Parade is just around the corner and our first fundraising event of the year is here. \nA traditional breakfast menu will be served as well as Irish themed food and drinks! \nThe Lucky Leprechaun Breakfast will be hosted at Kim Marie’s Eat n Drink Away on January 18th from 10 am to 2 pm. Tickets will be $10 for kids 12 and under and $25 for adults. Tickets include one Bloody Mary or mimosa (over 21 only). Additional drink specials will be available. All proceeds will be to support the Asbury Park St. Patrick’s Day Parade.
URL:https://asburyparkchamber.com/event/%f0%9f%a5%9e%f0%9f%8d%b3%f0%9f%8d%80-lucky-lebrechaun-breakfast-%f0%9f%a5%9e%f0%9f%8d%b3%f0%9f%8d%80-at-kim-maries/
LOCATION:Kim Marie’s Eat n Drink Away\, 1411 Kingsley Street\, Asbury Park\, 07719
CATEGORIES:Family,Fundraiser
ATTACH;FMTTYPE=image/jpeg:https://asburyparkchamber.com/wp-content/uploads/2026/01/lucky-lep-brk-update_2026.jpg
END:VEVENT
BEGIN:VEVENT
DTSTART;TZID=America/New_York:20260119T170000
DTEND;TZID=America/New_York:20260119T210000
DTSTAMP:20260425T074451
CREATED:20260120T144828Z
LAST-MODIFIED:20260120T144828Z
UID:10007109-1768842000-1768856400@asburyparkchamber.com
SUMMARY:Do You Still Dream - A Play About MLK\, Jr. at the Second Baptist Church
DESCRIPTION:As we honor Dr. Martin Luther King\, Jr. We come to Asbury Park to celebrate the day at the historic Second Baptist Church of Asbury Park with the stage play\, Do You Still Dream. Written by award winning playwright\, Kenneth Craddox of Bishop’s Kid Productions. Before we stage this production at the Midtown Theater Festival in Manhattan\, this production returns to the roots of the playwright\, Asbury Park. All seats are FREE as we honor this great leader. Come join us for an amazing day of celebration. \nFREE EVENT \nDoors 5pm\nShow 6pm
URL:https://asburyparkchamber.com/event/do-you-still-dream-a-play-about-mlk-jr-at-the-second-baptist-church/
LOCATION:Second Baptist Church\, 124 Atkins Ave\, Asbury Park\, 07712
CATEGORIES:Art & Culture
ATTACH;FMTTYPE=image/jpeg:https://asburyparkchamber.com/wp-content/uploads/2026/01/616819311_10174256457730599_4978557567320507111_n-e1768920499109.jpg
ORGANIZER;CN="Second Baptist Church":MAILTO:info@sbcapnj.org
END:VEVENT
BEGIN:VEVENT
DTSTART;TZID=America/New_York:20260124T110000
DTEND;TZID=America/New_York:20260124T130000
DTSTAMP:20260425T074451
CREATED:20260123T144749Z
LAST-MODIFIED:20260123T144749Z
UID:10007126-1769252400-1769259600@asburyparkchamber.com
SUMMARY:🥕Winter Market at the AP Public Library 🥦
DESCRIPTION:The Winter Market returns to the Asbury Park Library with free winter produce and dry goods\, offered in partnership with the Mayor’s Wellness Committee and The Flying Pig Market. \nStop by the Junior Room on select Saturdays from 11am to 1pm and stock up while supplies last.
URL:https://asburyparkchamber.com/event/%f0%9f%a5%95winter-market-at-the-ap-public-library-%f0%9f%a5%a6/2026-01-24/
LOCATION:Asbury Park Public Library\, 500 1st Ave.\, Asbury Park\, 07712
CATEGORIES:Family
ATTACH;FMTTYPE=image/png:https://asburyparkchamber.com/wp-content/uploads/2026/01/winter-market-_3_.png
END:VEVENT
END:VCALENDAR