BEGIN:VCALENDAR
VERSION:2.0
PRODID:-//Asbury Park Chamber of Commerce - ECPv6.15.18//NONSGML v1.0//EN
CALSCALE:GREGORIAN
METHOD:PUBLISH
X-ORIGINAL-URL:https://asburyparkchamber.com
X-WR-CALDESC:Events for Asbury Park Chamber of Commerce
REFRESH-INTERVAL;VALUE=DURATION:PT1H
X-Robots-Tag:noindex
X-PUBLISHED-TTL:PT1H
BEGIN:VTIMEZONE
TZID:America/New_York
BEGIN:DAYLIGHT
TZOFFSETFROM:-0500
TZOFFSETTO:-0400
TZNAME:EDT
DTSTART:20250309T070000
END:DAYLIGHT
BEGIN:STANDARD
TZOFFSETFROM:-0400
TZOFFSETTO:-0500
TZNAME:EST
DTSTART:20251102T060000
END:STANDARD
BEGIN:DAYLIGHT
TZOFFSETFROM:-0500
TZOFFSETTO:-0400
TZNAME:EDT
DTSTART:20260308T070000
END:DAYLIGHT
BEGIN:STANDARD
TZOFFSETFROM:-0400
TZOFFSETTO:-0500
TZNAME:EST
DTSTART:20261101T060000
END:STANDARD
BEGIN:DAYLIGHT
TZOFFSETFROM:-0500
TZOFFSETTO:-0400
TZNAME:EDT
DTSTART:20270314T070000
END:DAYLIGHT
BEGIN:STANDARD
TZOFFSETFROM:-0400
TZOFFSETTO:-0500
TZNAME:EST
DTSTART:20271107T060000
END:STANDARD
END:VTIMEZONE
BEGIN:VEVENT
DTSTART;TZID=America/New_York:20260501T160000
DTEND;TZID=America/New_York:20260501T180000
DTSTAMP:20260425T200031
CREATED:20260423T145952Z
LAST-MODIFIED:20260423T150127Z
UID:10007473-1777651200-1777658400@asburyparkchamber.com
SUMMARY:art629 Gallery Free Figure Drawing Workshop
DESCRIPTION:In partnership with Teen Arts NJ Youth Arts Initiative\, art629 Gallery is offering a FREE Figure Drawing Workshop for teens from 4-6pm. Clothed model\, art supplies\, dinner voucher and prizes included! Ages 12+ \nThe Gallery will be open late showcasing “Inspired Minds Student Art Exhibition” a selection of art from seven Monmouth County high school senior students
URL:https://asburyparkchamber.com/event/art629-gallery-free-figure-drawing-workshop/
LOCATION:art629 Gallery\, 629 Cookman Ave.\, Asbury Park\, 07712
CATEGORIES:Art & Culture
ORGANIZER;CN="art629 Gallery":MAILTO:art629gallery@gmail.com
END:VEVENT
BEGIN:VEVENT
DTSTART;TZID=America/New_York:20260501T170000
DTEND;TZID=America/New_York:20260501T210000
DTSTAMP:20260425T200031
CREATED:20260423T145027Z
LAST-MODIFIED:20260423T145130Z
UID:10007470-1777654800-1777669200@asburyparkchamber.com
SUMMARY:First Friday Art and Sound at Press Plaza
DESCRIPTION:First Friday is heading to a new home this summer. This May\, the beloved community event launches at Press Plaza\, bringing together music lovers\, art enthusiasts\, and families for a night of free entertainment and creative fun. \nOn Thursday\, May 1st from 5pm to 9pm\, Press Plaza will transform into a vibrant hub of culture and connection. Enjoy live music performances from regional acts\, catch live art demonstrations\, and participate in hands-on creative activities. Kids can explore free craft stations while adults browse and enjoy the energy of the evening. \nThe event is free for all ages\, making it the perfect way to kick off your May evening. Whether you’re looking to discover new artists\, support local talent\, or spend quality time with family and friends\, First Friday delivers something for everyone. \nThis month’s performers include Alexander Simone\, Circle Drive\, and The Band Palm. Each brings their own unique sound to Press Plaza\, creating an eclectic soundtrack for the evening. \nFirst Friday at Press Plaza is brought to you by the City of Asbury Park’s Department of Community and Cultural Affairs\, in partnership with Over the Moon and the Asbury Park Chamber of Commerce. It’s part of our ongoing commitment to making Asbury Park a vibrant destination for arts\, culture\, and community. \nMark your calendar for May 1st and bring your friends and family to Press Plaza. Free admission. All ages welcome.
URL:https://asburyparkchamber.com/event/first-friday-at-press-plaza/
LOCATION:Press Plaza\, Intersection of Cookman Ave. and Emory St.\, Asbury Park\, NJ\, 07712\, United States
CATEGORIES:Art & Culture,Event,Family,Music,Party,Shopping
ATTACH;FMTTYPE=image/jpeg:https://asburyparkchamber.com/wp-content/uploads/2026/02/Document-e1776955196915.jpeg
ORGANIZER;CN="Over the Moon Art Studios":MAILTO:info@overthemoonartstudios.com
END:VEVENT
BEGIN:VEVENT
DTSTART;TZID=America/New_York:20260502T110000
DTEND;TZID=America/New_York:20260502T130000
DTSTAMP:20260425T200031
CREATED:20260123T144749Z
LAST-MODIFIED:20260123T144749Z
UID:10007130-1777719600-1777726800@asburyparkchamber.com
SUMMARY:🥕Winter Market at the AP Public Library 🥦
DESCRIPTION:The Winter Market returns to the Asbury Park Library with free winter produce and dry goods\, offered in partnership with the Mayor’s Wellness Committee and The Flying Pig Market. \nStop by the Junior Room on select Saturdays from 11am to 1pm and stock up while supplies last.
URL:https://asburyparkchamber.com/event/%f0%9f%a5%95winter-market-at-the-ap-public-library-%f0%9f%a5%a6/2026-05-02/
LOCATION:Asbury Park Public Library\, 500 1st Ave.\, Asbury Park\, 07712
CATEGORIES:Family
ATTACH;FMTTYPE=image/png:https://asburyparkchamber.com/wp-content/uploads/2026/01/winter-market-_3_.png
END:VEVENT
BEGIN:VEVENT
DTSTART;TZID=America/New_York:20260502T130000
DTEND;TZID=America/New_York:20260502T143000
DTSTAMP:20260425T200031
CREATED:20260331T193929Z
LAST-MODIFIED:20260331T193929Z
UID:10007428-1777726800-1777732200@asburyparkchamber.com
SUMMARY:Yoga with Love-Strength for Life: A Chair Yoga Refresher
DESCRIPTION:Strength for Life: A Chair Yoga Refresher – With Nancy Hedeen \nSaturday\, May 2nd 1:00-2:30pm\, $40 \nRevitalize your chair yoga teaching toolkit by adding anatomy-based options that support your students’ independence and daily activities. This refresher provides practicing instructors with functional movement patterns to build lasting strength and mobility on and off the chair. \nNancy Hedeen is a certified Yoga Instructor and the co-creator of Pure Chair Yoga Teacher Training \nRegistration by 4/30 \n417 Euclid Ave.\, Loch Arbour\, NJ 07711\n848-777-2942 Yogawithlovenj.com
URL:https://asburyparkchamber.com/event/yoga-with-love-strength-for-life-a-chair-yoga-refresher/
LOCATION:Yoga With Love\, 417 Euclid Ave\, Loch Arbour\, NJ\, 07711\, United States
ATTACH;FMTTYPE=image/png:https://asburyparkchamber.com/wp-content/uploads/2026/03/Chair-refresher-5-2026-2.png
ORGANIZER;CN="Claudine Fenniman":MAILTO:claudine@yogawithlovenj.com
END:VEVENT
BEGIN:VEVENT
DTSTART;TZID=America/New_York:20260504T150000
DTEND;TZID=America/New_York:20260504T170000
DTSTAMP:20260425T200031
CREATED:20260109T155615Z
LAST-MODIFIED:20260109T155615Z
UID:10006924-1777906800-1777914000@asburyparkchamber.com
SUMMARY:Self Care with Art Workshops at the Center in Asbury 👨🏾‍🎨
DESCRIPTION:ART with Nelson. Part of Mind Body Spirit\, this workshop focuses on expression. All materials provided. \nFree and open to everyone in the community! \nMonday & Wednesday from 3-5 pm.  \nMeet at The Center\, 806 Third Ave entrance.
URL:https://asburyparkchamber.com/event/self-care-with-art-workshops-at-the-center-in-asbury-%f0%9f%91%a8%f0%9f%8f%be%f0%9f%8e%a8/2026-05-04/
LOCATION:The Center\, 806 3rd Ave\, Asbury Park
CATEGORIES:Art & Culture
ATTACH;FMTTYPE=image/png:https://asburyparkchamber.com/wp-content/uploads/2026/01/8af527_7fa72a0d6bd94b7f8af8868b31135e31mv2.png
ORGANIZER;CN="The Center":MAILTO:mail@thecenterinap.com
END:VEVENT
BEGIN:VEVENT
DTSTART;TZID=America/New_York:20260506T150000
DTEND;TZID=America/New_York:20260506T170000
DTSTAMP:20260425T200031
CREATED:20260109T155615Z
LAST-MODIFIED:20260109T155615Z
UID:10006925-1778079600-1778086800@asburyparkchamber.com
SUMMARY:Self Care with Art Workshops at the Center in Asbury 👨🏾‍🎨
DESCRIPTION:ART with Nelson. Part of Mind Body Spirit\, this workshop focuses on expression. All materials provided. \nFree and open to everyone in the community! \nMonday & Wednesday from 3-5 pm.  \nMeet at The Center\, 806 Third Ave entrance.
URL:https://asburyparkchamber.com/event/self-care-with-art-workshops-at-the-center-in-asbury-%f0%9f%91%a8%f0%9f%8f%be%f0%9f%8e%a8/2026-05-06/
LOCATION:The Center\, 806 3rd Ave\, Asbury Park
CATEGORIES:Art & Culture
ATTACH;FMTTYPE=image/png:https://asburyparkchamber.com/wp-content/uploads/2026/01/8af527_7fa72a0d6bd94b7f8af8868b31135e31mv2.png
ORGANIZER;CN="The Center":MAILTO:mail@thecenterinap.com
END:VEVENT
BEGIN:VEVENT
DTSTART;TZID=America/New_York:20260509T063000
DTEND;TZID=America/New_York:20260509T160000
DTSTAMP:20260425T200031
CREATED:20260323T191925Z
LAST-MODIFIED:20260323T191925Z
UID:10007389-1778308200-1778342400@asburyparkchamber.com
SUMMARY:Bike MS: Coast the Coast 2026
DESCRIPTION:Bike MS: Coast the Coast starts and finishes at the Deal Casino Beach Club\, just within reach of the Atlantic Ocean. You’ll ride some of the flattest roads that Bike MS has to offer\, while cycling along the Asbury Park Boardwalk and passing by historic sites like Stone Pony and Asbury Park Casino. This ride will have you cycling by Bradley Beach and Spring Lake\, along with routes that stretch into Island Beach State Park. Take in that costal breeze and join us for the ride of a lifetime.
URL:https://asburyparkchamber.com/event/bike-ms-coast-the-coast-2026/
LOCATION:Deal Casino Beach Club\, 125 Ocean Ave N\, Deal\, 07723
CATEGORIES:Fundraiser,Sports
ORGANIZER;CN="National Multiple Sclerosis Society":MAILTO:madaline.krawchuk@nmss.org
END:VEVENT
BEGIN:VEVENT
DTSTART;TZID=America/New_York:20260511T150000
DTEND;TZID=America/New_York:20260511T170000
DTSTAMP:20260425T200031
CREATED:20260109T155615Z
LAST-MODIFIED:20260109T155615Z
UID:10006926-1778511600-1778518800@asburyparkchamber.com
SUMMARY:Self Care with Art Workshops at the Center in Asbury 👨🏾‍🎨
DESCRIPTION:ART with Nelson. Part of Mind Body Spirit\, this workshop focuses on expression. All materials provided. \nFree and open to everyone in the community! \nMonday & Wednesday from 3-5 pm.  \nMeet at The Center\, 806 Third Ave entrance.
URL:https://asburyparkchamber.com/event/self-care-with-art-workshops-at-the-center-in-asbury-%f0%9f%91%a8%f0%9f%8f%be%f0%9f%8e%a8/2026-05-11/
LOCATION:The Center\, 806 3rd Ave\, Asbury Park
CATEGORIES:Art & Culture
ATTACH;FMTTYPE=image/png:https://asburyparkchamber.com/wp-content/uploads/2026/01/8af527_7fa72a0d6bd94b7f8af8868b31135e31mv2.png
ORGANIZER;CN="The Center":MAILTO:mail@thecenterinap.com
END:VEVENT
BEGIN:VEVENT
DTSTART;TZID=America/New_York:20260513T150000
DTEND;TZID=America/New_York:20260513T170000
DTSTAMP:20260425T200031
CREATED:20260109T155615Z
LAST-MODIFIED:20260109T155615Z
UID:10006927-1778684400-1778691600@asburyparkchamber.com
SUMMARY:Self Care with Art Workshops at the Center in Asbury 👨🏾‍🎨
DESCRIPTION:ART with Nelson. Part of Mind Body Spirit\, this workshop focuses on expression. All materials provided. \nFree and open to everyone in the community! \nMonday & Wednesday from 3-5 pm.  \nMeet at The Center\, 806 Third Ave entrance.
URL:https://asburyparkchamber.com/event/self-care-with-art-workshops-at-the-center-in-asbury-%f0%9f%91%a8%f0%9f%8f%be%f0%9f%8e%a8/2026-05-13/
LOCATION:The Center\, 806 3rd Ave\, Asbury Park
CATEGORIES:Art & Culture
ATTACH;FMTTYPE=image/png:https://asburyparkchamber.com/wp-content/uploads/2026/01/8af527_7fa72a0d6bd94b7f8af8868b31135e31mv2.png
ORGANIZER;CN="The Center":MAILTO:mail@thecenterinap.com
END:VEVENT
BEGIN:VEVENT
DTSTART;TZID=America/New_York:20260513T190000
DTEND;TZID=America/New_York:20260513T210000
DTSTAMP:20260425T200031
CREATED:20260112T161856Z
LAST-MODIFIED:20260112T162022Z
UID:10007038-1778698800-1778706000@asburyparkchamber.com
SUMMARY:🏳️‍🌈 Rainbow Quest presents GAYME NIGHT! 🏳️‍🌈
DESCRIPTION:Monmouth County Habitat for Humanity Restore is hosting GAYME NIGHT on the 2nd Wednesday of every month\, starting January and ending in June.\nAll are welcome! \n$20 suggested donation is recommended. \nFor more information\, please visit RainbowQuest.org
URL:https://asburyparkchamber.com/event/%f0%9f%8f%b3%ef%b8%8f%f0%9f%8c%88-rainbow-quest-presents-gayme-night-%f0%9f%8f%b3%ef%b8%8f%f0%9f%8c%88/2026-05-13/
LOCATION:Coastal Habitat for Humanity ReStore\, 1105 Memorial Dr.\, Asbury Park\, NJ\, 07712\, United States
CATEGORIES:Fundraiser,Networking,Party
ATTACH;FMTTYPE=image/jpeg:https://asburyparkchamber.com/wp-content/uploads/2026/01/Revised-Habitat-Game-Night-2026-e1768234812590.jpg
ORGANIZER;CN="Rainbow Quest":MAILTO:info@rainbowquest.org
END:VEVENT
BEGIN:VEVENT
DTSTART;TZID=America/New_York:20260518T150000
DTEND;TZID=America/New_York:20260518T170000
DTSTAMP:20260425T200031
CREATED:20260109T155615Z
LAST-MODIFIED:20260109T155615Z
UID:10006928-1779116400-1779123600@asburyparkchamber.com
SUMMARY:Self Care with Art Workshops at the Center in Asbury 👨🏾‍🎨
DESCRIPTION:ART with Nelson. Part of Mind Body Spirit\, this workshop focuses on expression. All materials provided. \nFree and open to everyone in the community! \nMonday & Wednesday from 3-5 pm.  \nMeet at The Center\, 806 Third Ave entrance.
URL:https://asburyparkchamber.com/event/self-care-with-art-workshops-at-the-center-in-asbury-%f0%9f%91%a8%f0%9f%8f%be%f0%9f%8e%a8/2026-05-18/
LOCATION:The Center\, 806 3rd Ave\, Asbury Park
CATEGORIES:Art & Culture
ATTACH;FMTTYPE=image/png:https://asburyparkchamber.com/wp-content/uploads/2026/01/8af527_7fa72a0d6bd94b7f8af8868b31135e31mv2.png
ORGANIZER;CN="The Center":MAILTO:mail@thecenterinap.com
END:VEVENT
BEGIN:VEVENT
DTSTART;TZID=America/New_York:20260520T150000
DTEND;TZID=America/New_York:20260520T170000
DTSTAMP:20260425T200031
CREATED:20260109T155615Z
LAST-MODIFIED:20260109T155615Z
UID:10006929-1779289200-1779296400@asburyparkchamber.com
SUMMARY:Self Care with Art Workshops at the Center in Asbury 👨🏾‍🎨
DESCRIPTION:ART with Nelson. Part of Mind Body Spirit\, this workshop focuses on expression. All materials provided. \nFree and open to everyone in the community! \nMonday & Wednesday from 3-5 pm.  \nMeet at The Center\, 806 Third Ave entrance.
URL:https://asburyparkchamber.com/event/self-care-with-art-workshops-at-the-center-in-asbury-%f0%9f%91%a8%f0%9f%8f%be%f0%9f%8e%a8/2026-05-20/
LOCATION:The Center\, 806 3rd Ave\, Asbury Park
CATEGORIES:Art & Culture
ATTACH;FMTTYPE=image/png:https://asburyparkchamber.com/wp-content/uploads/2026/01/8af527_7fa72a0d6bd94b7f8af8868b31135e31mv2.png
ORGANIZER;CN="The Center":MAILTO:mail@thecenterinap.com
END:VEVENT
BEGIN:VEVENT
DTSTART;TZID=America/New_York:20260525T150000
DTEND;TZID=America/New_York:20260525T170000
DTSTAMP:20260425T200031
CREATED:20260109T155615Z
LAST-MODIFIED:20260109T155615Z
UID:10006930-1779721200-1779728400@asburyparkchamber.com
SUMMARY:Self Care with Art Workshops at the Center in Asbury 👨🏾‍🎨
DESCRIPTION:ART with Nelson. Part of Mind Body Spirit\, this workshop focuses on expression. All materials provided. \nFree and open to everyone in the community! \nMonday & Wednesday from 3-5 pm.  \nMeet at The Center\, 806 Third Ave entrance.
URL:https://asburyparkchamber.com/event/self-care-with-art-workshops-at-the-center-in-asbury-%f0%9f%91%a8%f0%9f%8f%be%f0%9f%8e%a8/2026-05-25/
LOCATION:The Center\, 806 3rd Ave\, Asbury Park
CATEGORIES:Art & Culture
ATTACH;FMTTYPE=image/png:https://asburyparkchamber.com/wp-content/uploads/2026/01/8af527_7fa72a0d6bd94b7f8af8868b31135e31mv2.png
ORGANIZER;CN="The Center":MAILTO:mail@thecenterinap.com
END:VEVENT
BEGIN:VEVENT
DTSTART;TZID=America/New_York:20260527T150000
DTEND;TZID=America/New_York:20260527T170000
DTSTAMP:20260425T200031
CREATED:20260109T155615Z
LAST-MODIFIED:20260109T155615Z
UID:10006931-1779894000-1779901200@asburyparkchamber.com
SUMMARY:Self Care with Art Workshops at the Center in Asbury 👨🏾‍🎨
DESCRIPTION:ART with Nelson. Part of Mind Body Spirit\, this workshop focuses on expression. All materials provided. \nFree and open to everyone in the community! \nMonday & Wednesday from 3-5 pm.  \nMeet at The Center\, 806 Third Ave entrance.
URL:https://asburyparkchamber.com/event/self-care-with-art-workshops-at-the-center-in-asbury-%f0%9f%91%a8%f0%9f%8f%be%f0%9f%8e%a8/2026-05-27/
LOCATION:The Center\, 806 3rd Ave\, Asbury Park
CATEGORIES:Art & Culture
ATTACH;FMTTYPE=image/png:https://asburyparkchamber.com/wp-content/uploads/2026/01/8af527_7fa72a0d6bd94b7f8af8868b31135e31mv2.png
ORGANIZER;CN="The Center":MAILTO:mail@thecenterinap.com
END:VEVENT
END:VCALENDAR