BEGIN:VCALENDAR
VERSION:2.0
PRODID:-//Asbury Park Chamber of Commerce - ECPv6.15.18//NONSGML v1.0//EN
CALSCALE:GREGORIAN
METHOD:PUBLISH
X-WR-CALNAME:Asbury Park Chamber of Commerce
X-ORIGINAL-URL:https://asburyparkchamber.com
X-WR-CALDESC:Events for Asbury Park Chamber of Commerce
REFRESH-INTERVAL;VALUE=DURATION:PT1H
X-Robots-Tag:noindex
X-PUBLISHED-TTL:PT1H
BEGIN:VTIMEZONE
TZID:America/New_York
BEGIN:DAYLIGHT
TZOFFSETFROM:-0500
TZOFFSETTO:-0400
TZNAME:EDT
DTSTART:20240310T070000
END:DAYLIGHT
BEGIN:STANDARD
TZOFFSETFROM:-0400
TZOFFSETTO:-0500
TZNAME:EST
DTSTART:20241103T060000
END:STANDARD
BEGIN:DAYLIGHT
TZOFFSETFROM:-0500
TZOFFSETTO:-0400
TZNAME:EDT
DTSTART:20250309T070000
END:DAYLIGHT
BEGIN:STANDARD
TZOFFSETFROM:-0400
TZOFFSETTO:-0500
TZNAME:EST
DTSTART:20251102T060000
END:STANDARD
BEGIN:DAYLIGHT
TZOFFSETFROM:-0500
TZOFFSETTO:-0400
TZNAME:EDT
DTSTART:20260308T070000
END:DAYLIGHT
BEGIN:STANDARD
TZOFFSETFROM:-0400
TZOFFSETTO:-0500
TZNAME:EST
DTSTART:20261101T060000
END:STANDARD
END:VTIMEZONE
BEGIN:VEVENT
DTSTART;TZID=America/New_York:20251001T080000
DTEND;TZID=America/New_York:20251001T170000
DTSTAMP:20260423T142534
CREATED:20250923T155554Z
LAST-MODIFIED:20250923T155554Z
UID:10005862-1759305600-1759338000@asburyparkchamber.com
SUMMARY:Uncorked Wine Inspired Creations October Calendar
DESCRIPTION:Join us in October for an autumnal Sip & Paint event! \nNo prior experience is necessary; simply follow the guidance of a certified acrylic art instructor to create a beautiful 16×20 canvas for your home. This beginner-friendly class is BYOB. \nSee the full schedule at www.uncorkedwineinspired.com
URL:https://asburyparkchamber.com/event/uncorked-wine-inspired-creations-october-calendar/
LOCATION:Uncorked Wine Inspired Creations\, 612 Cookman Ave\, Asbury Park\, NJ\, 07712\, United States
CATEGORIES:Art & Culture
ATTACH;FMTTYPE=image/jpeg:https://asburyparkchamber.com/wp-content/uploads/2025/09/3262-scaled.jpg
ORGANIZER;CN="Uncorked Wine Inspired Creations":MAILTO:uncorkedwineinspired@gmail.com
END:VEVENT
END:VCALENDAR