BEGIN:VCALENDAR
VERSION:2.0
PRODID:-//Asbury Park Chamber of Commerce - ECPv6.15.18//NONSGML v1.0//EN
CALSCALE:GREGORIAN
METHOD:PUBLISH
X-WR-CALNAME:Asbury Park Chamber of Commerce
X-ORIGINAL-URL:https://asburyparkchamber.com
X-WR-CALDESC:Events for Asbury Park Chamber of Commerce
REFRESH-INTERVAL;VALUE=DURATION:PT1H
X-Robots-Tag:noindex
X-PUBLISHED-TTL:PT1H
BEGIN:VTIMEZONE
TZID:America/New_York
BEGIN:DAYLIGHT
TZOFFSETFROM:-0500
TZOFFSETTO:-0400
TZNAME:EDT
DTSTART:20250309T070000
END:DAYLIGHT
BEGIN:STANDARD
TZOFFSETFROM:-0400
TZOFFSETTO:-0500
TZNAME:EST
DTSTART:20251102T060000
END:STANDARD
BEGIN:DAYLIGHT
TZOFFSETFROM:-0500
TZOFFSETTO:-0400
TZNAME:EDT
DTSTART:20260308T070000
END:DAYLIGHT
BEGIN:STANDARD
TZOFFSETFROM:-0400
TZOFFSETTO:-0500
TZNAME:EST
DTSTART:20261101T060000
END:STANDARD
BEGIN:DAYLIGHT
TZOFFSETFROM:-0500
TZOFFSETTO:-0400
TZNAME:EDT
DTSTART:20270314T070000
END:DAYLIGHT
BEGIN:STANDARD
TZOFFSETFROM:-0400
TZOFFSETTO:-0500
TZNAME:EST
DTSTART:20271107T060000
END:STANDARD
END:VTIMEZONE
BEGIN:VEVENT
DTSTART;TZID=America/New_York:20260419T110000
DTEND;TZID=America/New_York:20260419T123000
DTSTAMP:20260425T113548
CREATED:20260330T131932Z
LAST-MODIFIED:20260330T131932Z
UID:10007421-1776596400-1776601800@asburyparkchamber.com
SUMMARY:Yoga with Love - Extending Your Practice
DESCRIPTION:Extending Your Practice with Christine Dates \nA monthly workshop-style practice full of inspired sequencing and thoughtful cueing with time to explore the nuance of familiar poses and ample space for rest. \n Select Sundays 11:00 – 12:30p\n$35 per session \nDates & Themes: \nApril 19 | hips\nMay 17 | shoulders\nJune 14 | core
URL:https://asburyparkchamber.com/event/yoga-with-love-extending-your-practice/
LOCATION:Yoga With Love\, 417 Euclid Ave\, Loch Arbour\, NJ\, 07711\, United States
ATTACH;FMTTYPE=image/jpeg:https://asburyparkchamber.com/wp-content/uploads/2026/03/christine-d-90-Min-Instagram-2.jpg
ORGANIZER;CN="Claudine Fenniman":MAILTO:claudine@yogawithlovenj.com
END:VEVENT
BEGIN:VEVENT
DTSTART;TZID=America/New_York:20260419T120000
DTEND;TZID=America/New_York:20260419T193000
DTSTAMP:20260425T113548
CREATED:20260408T154105Z
LAST-MODIFIED:20260408T154105Z
UID:10007442-1776600000-1776627000@asburyparkchamber.com
SUMMARY:Asbury Park Poetry Crawl
DESCRIPTION:ALL DAY LONG! \nPlease see flyer for details and free events at different locations around Asbury Park!
URL:https://asburyparkchamber.com/event/asbury-park-poetry-crawl/
LOCATION:Asbury Park
CATEGORIES:Books and Reading,Event,Family
ATTACH;FMTTYPE=image/png:https://asburyparkchamber.com/wp-content/uploads/2026/04/36d7e2bb-9af7-de25-b813-3326eacd4bb7-e1775662850167.png
END:VEVENT
END:VCALENDAR