BEGIN:VCALENDAR
VERSION:2.0
PRODID:-//Asbury Park Chamber of Commerce - ECPv6.15.18//NONSGML v1.0//EN
CALSCALE:GREGORIAN
METHOD:PUBLISH
X-ORIGINAL-URL:https://asburyparkchamber.com
X-WR-CALDESC:Events for Asbury Park Chamber of Commerce
REFRESH-INTERVAL;VALUE=DURATION:PT1H
X-Robots-Tag:noindex
X-PUBLISHED-TTL:PT1H
BEGIN:VTIMEZONE
TZID:America/New_York
BEGIN:DAYLIGHT
TZOFFSETFROM:-0500
TZOFFSETTO:-0400
TZNAME:EDT
DTSTART:20230312T070000
END:DAYLIGHT
BEGIN:STANDARD
TZOFFSETFROM:-0400
TZOFFSETTO:-0500
TZNAME:EST
DTSTART:20231105T060000
END:STANDARD
BEGIN:DAYLIGHT
TZOFFSETFROM:-0500
TZOFFSETTO:-0400
TZNAME:EDT
DTSTART:20240310T070000
END:DAYLIGHT
BEGIN:STANDARD
TZOFFSETFROM:-0400
TZOFFSETTO:-0500
TZNAME:EST
DTSTART:20241103T060000
END:STANDARD
BEGIN:DAYLIGHT
TZOFFSETFROM:-0500
TZOFFSETTO:-0400
TZNAME:EDT
DTSTART:20250309T070000
END:DAYLIGHT
BEGIN:STANDARD
TZOFFSETFROM:-0400
TZOFFSETTO:-0500
TZNAME:EST
DTSTART:20251102T060000
END:STANDARD
END:VTIMEZONE
BEGIN:VEVENT
DTSTART;TZID=America/New_York:20241019T110000
DTEND;TZID=America/New_York:20241019T153000
DTSTAMP:20260419T193111
CREATED:20240909T151541Z
LAST-MODIFIED:20240909T151541Z
UID:10004163-1729335600-1729351800@asburyparkchamber.com
SUMMARY:Ladies Philoptochos Society of the St. George Greek Orthodox Church of Asbury Park in Ocean\, NJ
DESCRIPTION:The Philoptochos Society of the St. George Greek Orthodox Church of Asbury Park\, N.J.\, will host its Annual Luncheon on Saturday\, October 19\, 2024\, at 11:00 AM\, at the Grand Marquis\, 1550 Route 9 South\, Old Bridge\, N. J.  It is an exciting day which includes a delicious lunch with your choice of grilled rib eye steak\, chicken margarita\, pan seared bronzini or a vegetarian option.  There will be an amazing Gift Auction\, Raffles with wonderful prizes along with a Bake Sale filled with\, among other things\, traditional home baked Greek goodies.  Donation is $60.00 per person.  Proceeds benefit the St George Philoptochos’ charitable works. The proceeds from this annual event support our continuous philanthropic efforts and provide aid to those in need.  Kindly submit reservations and payments  no later than October 05\, 2024\, via the stgeorgephiloptochos.square.site or by check made payable to the St. George Philoptochos Society and mailed to the St. George Greek Orthodox Church\, ATTN: Philoptochos Society\, 1033 West Park Avenue\, Ocean\, NJ 07712.
URL:https://asburyparkchamber.com/event/ladies-philoptochos-society-of-the-st-george-greek-orthodox-church-of-asbury-park-in-ocean-nj-3/
CATEGORIES:Fundraiser
END:VEVENT
END:VCALENDAR