BEGIN:VCALENDAR
VERSION:2.0
PRODID:-//Asbury Park Chamber of Commerce - ECPv6.15.18//NONSGML v1.0//EN
CALSCALE:GREGORIAN
METHOD:PUBLISH
X-ORIGINAL-URL:https://asburyparkchamber.com
X-WR-CALDESC:Events for Asbury Park Chamber of Commerce
REFRESH-INTERVAL;VALUE=DURATION:PT1H
X-Robots-Tag:noindex
X-PUBLISHED-TTL:PT1H
BEGIN:VTIMEZONE
TZID:America/New_York
BEGIN:DAYLIGHT
TZOFFSETFROM:-0500
TZOFFSETTO:-0400
TZNAME:EDT
DTSTART:20240310T070000
END:DAYLIGHT
BEGIN:STANDARD
TZOFFSETFROM:-0400
TZOFFSETTO:-0500
TZNAME:EST
DTSTART:20241103T060000
END:STANDARD
BEGIN:DAYLIGHT
TZOFFSETFROM:-0500
TZOFFSETTO:-0400
TZNAME:EDT
DTSTART:20250309T070000
END:DAYLIGHT
BEGIN:STANDARD
TZOFFSETFROM:-0400
TZOFFSETTO:-0500
TZNAME:EST
DTSTART:20251102T060000
END:STANDARD
BEGIN:DAYLIGHT
TZOFFSETFROM:-0500
TZOFFSETTO:-0400
TZNAME:EDT
DTSTART:20260308T070000
END:DAYLIGHT
BEGIN:STANDARD
TZOFFSETFROM:-0400
TZOFFSETTO:-0500
TZNAME:EST
DTSTART:20261101T060000
END:STANDARD
END:VTIMEZONE
BEGIN:VEVENT
DTSTART;TZID=America/New_York:20250213T140000
DTEND;TZID=America/New_York:20250213T153000
DTSTAMP:20260420T054507
CREATED:20250128T175559Z
LAST-MODIFIED:20250128T175559Z
UID:10004237-1739455200-1739460600@asburyparkchamber.com
SUMMARY:Make Believe
DESCRIPTION:Make Believe is a nostalgic\, haunting look back at the world of 1930’s Hollywood\, where larger-than-life movie stars went to great lengths to keep their secrets from coming to light. \nStarring Éilis Cahill and Quentin Chisholm as Eleanor and Bailey\, two lost souls who are thrown together to create a fantastical scenario that could only be dreamed up in Hollywood\, the land of dreams.
URL:https://asburyparkchamber.com/event/make-believe/2025-02-13/
LOCATION:New Jersey Repertory Company\, 179 Broadway\, Long Branch\, NJ\, 07740\, United States
CATEGORIES:Art & Culture
ATTACH;FMTTYPE=image/jpeg:https://asburyparkchamber.com/wp-content/uploads/2025/01/640x400-make.jpg
ORGANIZER;CN="New Jersey Repertory Company":MAILTO:njrep@njrep.org
END:VEVENT
BEGIN:VEVENT
DTSTART;TZID=America/New_York:20250214T140000
DTEND;TZID=America/New_York:20250214T153000
DTSTAMP:20260420T054507
CREATED:20250128T175559Z
LAST-MODIFIED:20250128T175559Z
UID:10004238-1739541600-1739547000@asburyparkchamber.com
SUMMARY:Make Believe
DESCRIPTION:Make Believe is a nostalgic\, haunting look back at the world of 1930’s Hollywood\, where larger-than-life movie stars went to great lengths to keep their secrets from coming to light. \nStarring Éilis Cahill and Quentin Chisholm as Eleanor and Bailey\, two lost souls who are thrown together to create a fantastical scenario that could only be dreamed up in Hollywood\, the land of dreams.
URL:https://asburyparkchamber.com/event/make-believe/2025-02-14/
LOCATION:New Jersey Repertory Company\, 179 Broadway\, Long Branch\, NJ\, 07740\, United States
CATEGORIES:Art & Culture
ATTACH;FMTTYPE=image/jpeg:https://asburyparkchamber.com/wp-content/uploads/2025/01/640x400-make.jpg
ORGANIZER;CN="New Jersey Repertory Company":MAILTO:njrep@njrep.org
END:VEVENT
BEGIN:VEVENT
DTSTART;TZID=America/New_York:20250215T140000
DTEND;TZID=America/New_York:20250215T153000
DTSTAMP:20260420T054507
CREATED:20250128T175559Z
LAST-MODIFIED:20250128T175559Z
UID:10004239-1739628000-1739633400@asburyparkchamber.com
SUMMARY:Make Believe
DESCRIPTION:Make Believe is a nostalgic\, haunting look back at the world of 1930’s Hollywood\, where larger-than-life movie stars went to great lengths to keep their secrets from coming to light. \nStarring Éilis Cahill and Quentin Chisholm as Eleanor and Bailey\, two lost souls who are thrown together to create a fantastical scenario that could only be dreamed up in Hollywood\, the land of dreams.
URL:https://asburyparkchamber.com/event/make-believe/2025-02-15/
LOCATION:New Jersey Repertory Company\, 179 Broadway\, Long Branch\, NJ\, 07740\, United States
CATEGORIES:Art & Culture
ATTACH;FMTTYPE=image/jpeg:https://asburyparkchamber.com/wp-content/uploads/2025/01/640x400-make.jpg
ORGANIZER;CN="New Jersey Repertory Company":MAILTO:njrep@njrep.org
END:VEVENT
BEGIN:VEVENT
DTSTART;TZID=America/New_York:20250222T110000
DTEND;TZID=America/New_York:20250222T150000
DTSTAMP:20260420T054507
CREATED:20250220T184459Z
LAST-MODIFIED:20250220T184459Z
UID:10004247-1740222000-1740236400@asburyparkchamber.com
SUMMARY:Open House at Lakehouse Music Academy
DESCRIPTION:Get a backstage pass to Lakehouse Music Academy and learn everything you need to know about our programs and what we have to offer. All ages\, levels\, and interests. Join the band \nJoin the Lakehouse team for behind-the-scenes tours\, get an exclusive look into our programs\, and dive headfirst into the process with hands-on demos led by our seasoned pros. \nConnect with fellow musicians\, share stories\, and find your community. It’s more than an open house; it’s an opportunity to ignite your passion for music in a community that speaks your language. Connect with fellow musicians\, share stories\, and find your community. It’s more than an open house; it’s an opportunity to ignite your passion for music in a community that speaks your language.
URL:https://asburyparkchamber.com/event/open-house-at-lakehouse-music-academy-3/
LOCATION:Lakehouse Music Academy\, 619 Lake Avenue\, Asbury Park\, 07712
CATEGORIES:Music
ATTACH;FMTTYPE=image/png:https://asburyparkchamber.com/wp-content/uploads/2025/02/2.png
ORGANIZER;CN="Lakehouse Music Academy":MAILTO:info@lakehousemusicacademy.com
END:VEVENT
BEGIN:VEVENT
DTSTART;TZID=America/New_York:20250222T170000
DTEND;TZID=America/New_York:20250222T200000
DTSTAMP:20260420T054507
CREATED:20250220T184459Z
LAST-MODIFIED:20250220T184459Z
UID:10004245-1740243600-1740254400@asburyparkchamber.com
SUMMARY:One Mic One Soul-Open MIc
DESCRIPTION:Step into an unforgettable evening filled with soulful expression\, live music\, spoken word\, poetry\, and artistry
URL:https://asburyparkchamber.com/event/one-mic-one-soul-open-mic-2/
LOCATION:Konscious Community Center\, 631 Lake Ave\, Asbury Park\, 07712
CATEGORIES:Art & Culture,Family,Music
ORGANIZER;CN="KYDS":MAILTO:Info@konscious.org
END:VEVENT
END:VCALENDAR