BEGIN:VCALENDAR
VERSION:2.0
PRODID:-//Asbury Park Chamber of Commerce - ECPv6.15.18//NONSGML v1.0//EN
CALSCALE:GREGORIAN
METHOD:PUBLISH
X-WR-CALNAME:Asbury Park Chamber of Commerce
X-ORIGINAL-URL:https://asburyparkchamber.com
X-WR-CALDESC:Events for Asbury Park Chamber of Commerce
REFRESH-INTERVAL;VALUE=DURATION:PT1H
X-Robots-Tag:noindex
X-PUBLISHED-TTL:PT1H
BEGIN:VTIMEZONE
TZID:America/New_York
BEGIN:DAYLIGHT
TZOFFSETFROM:-0500
TZOFFSETTO:-0400
TZNAME:EDT
DTSTART:20250309T070000
END:DAYLIGHT
BEGIN:STANDARD
TZOFFSETFROM:-0400
TZOFFSETTO:-0500
TZNAME:EST
DTSTART:20251102T060000
END:STANDARD
BEGIN:DAYLIGHT
TZOFFSETFROM:-0500
TZOFFSETTO:-0400
TZNAME:EDT
DTSTART:20260308T070000
END:DAYLIGHT
BEGIN:STANDARD
TZOFFSETFROM:-0400
TZOFFSETTO:-0500
TZNAME:EST
DTSTART:20261101T060000
END:STANDARD
BEGIN:DAYLIGHT
TZOFFSETFROM:-0500
TZOFFSETTO:-0400
TZNAME:EDT
DTSTART:20270314T070000
END:DAYLIGHT
BEGIN:STANDARD
TZOFFSETFROM:-0400
TZOFFSETTO:-0500
TZNAME:EST
DTSTART:20271107T060000
END:STANDARD
END:VTIMEZONE
BEGIN:VEVENT
DTSTART;TZID=America/New_York:20260314T190000
DTEND;TZID=America/New_York:20260314T230000
DTSTAMP:20260419T145107
CREATED:20260120T173543Z
LAST-MODIFIED:20260130T181117Z
UID:10007120-1773514800-1773529200@asburyparkchamber.com
SUMMARY:Hollis Brown at the Wonder Bar
DESCRIPTION:HOLLIS BROWN\nFirst live show in three years! \nHollis Brown is an American rock ’n’ roll band from Queens\, New York\, known for their raw energy\, heartfelt songwriting\, and timeless sound that bridges classic rock traditions with modern edge. Named after Bob Dylan’s song “The Ballad of Hollis Brown\,” the band has earned a reputation for their soulful blend of rock\, blues\, and Americana — equal parts gritty and melodic. Fronted by singer and guitarist Mike Montali alongside guitarist Jonathan Bonilla\, Hollis Brown channels the spirit of artists like Tom Petty\, The Rolling Stones\, and Creedence Clearwater Revival while crafting songs rooted in storytelling and honesty. Their albums\, including Ride On The Train\, Ozone Park\, and their acclaimed Velvet Underground tribute Hollis Brown Gets Loaded\, have drawn praise from Rolling Stone\, Billboard\, and Paste for their sharp hooks and cinematic style. Having toured extensively across the U.S. and Europe\, Hollis Brown has shared the stage with legendary acts such as Counting Crows\, The Zombies\, and Citizen Cope. Their music has been featured in major films\, TV shows\, and advertising campaigns\, further showcasing their broad appeal and enduring sound. Whether on record or on stage\, Hollis Brown delivers the kind of rock ’n’ roll that feels both familiar and new — steeped in American roots yet unafraid to push forward. \nDoors 7:00pm\nShow 8:00pm \n$30 advance/ $35 Day of show (plus applicable surcharges)\n21+ admitted
URL:https://asburyparkchamber.com/event/hollis-brown-at-the-wonder-bar/
LOCATION:Wonder Bar\, 1213 Ocean Ave\, Asbury Park\, 07712
CATEGORIES:Music
ATTACH;FMTTYPE=image/jpeg:https://asburyparkchamber.com/wp-content/uploads/2026/01/Hollis-Brown.jpg
END:VEVENT
BEGIN:VEVENT
DTSTART;TZID=America/New_York:20260314T190000
DTEND;TZID=America/New_York:20260314T230000
DTSTAMP:20260419T145107
CREATED:20260204T205017Z
LAST-MODIFIED:20260204T205017Z
UID:10007236-1773514800-1773529200@asburyparkchamber.com
SUMMARY:Mike Gordon at the Stone Pony
DESCRIPTION:Mike Gordon (bassist and co-founder of the seminal improvisational rock band Phish) returns to the road with his latest band in 2026 with a live show that’s filled with constant and wildly hypnotic movement animated by unexpected sounds that morph and expand and spin off into their own strange orbits\, revealing entirely new dimensions of the kaleidoscopic musicianship he’s displayed as a bassist for the last four decades.
URL:https://asburyparkchamber.com/event/mike-gordon-at-the-stone-pony/
LOCATION:The Stone Pony
CATEGORIES:Music
ATTACH;FMTTYPE=image/jpeg:https://asburyparkchamber.com/wp-content/uploads/2026/02/MIKE_GORDON_BYPETERFISHER.jpg
END:VEVENT
END:VCALENDAR