BEGIN:VCALENDAR
VERSION:2.0
PRODID:-//Asbury Park Chamber of Commerce - ECPv6.15.18//NONSGML v1.0//EN
CALSCALE:GREGORIAN
METHOD:PUBLISH
X-WR-CALNAME:Asbury Park Chamber of Commerce
X-ORIGINAL-URL:https://asburyparkchamber.com
X-WR-CALDESC:Events for Asbury Park Chamber of Commerce
REFRESH-INTERVAL;VALUE=DURATION:PT1H
X-Robots-Tag:noindex
X-PUBLISHED-TTL:PT1H
BEGIN:VTIMEZONE
TZID:America/New_York
BEGIN:DAYLIGHT
TZOFFSETFROM:-0500
TZOFFSETTO:-0400
TZNAME:EDT
DTSTART:20250309T070000
END:DAYLIGHT
BEGIN:STANDARD
TZOFFSETFROM:-0400
TZOFFSETTO:-0500
TZNAME:EST
DTSTART:20251102T060000
END:STANDARD
BEGIN:DAYLIGHT
TZOFFSETFROM:-0500
TZOFFSETTO:-0400
TZNAME:EDT
DTSTART:20260308T070000
END:DAYLIGHT
BEGIN:STANDARD
TZOFFSETFROM:-0400
TZOFFSETTO:-0500
TZNAME:EST
DTSTART:20261101T060000
END:STANDARD
BEGIN:DAYLIGHT
TZOFFSETFROM:-0500
TZOFFSETTO:-0400
TZNAME:EDT
DTSTART:20270314T070000
END:DAYLIGHT
BEGIN:STANDARD
TZOFFSETFROM:-0400
TZOFFSETTO:-0500
TZNAME:EST
DTSTART:20271107T060000
END:STANDARD
END:VTIMEZONE
BEGIN:VEVENT
DTSTART;TZID=America/New_York:20260321T190000
DTEND;TZID=America/New_York:20260321T230000
DTSTAMP:20260419T235940
CREATED:20260120T173543Z
LAST-MODIFIED:20260120T173543Z
UID:10007122-1774119600-1774134000@asburyparkchamber.com
SUMMARY:Westbound Train with Spring Heeled Jack\, The Doomstompers at the Wonder Bar
DESCRIPTION:WESTBOUND TRAIN\nSpring Heeled Jack\nThe Doomstompers \nDedication is the name of the game for reggae/ska veterans Westbound Train. Recently celebrating their 20-year anniversary\, the Boston and NYC-based octet released their fifth studio record\, “Dedication”\, in October 2022. Singer Obi Fernandez explains: “After all these years we’ve remained dedicated to our craft\, dedicated to this genre we love\, and the new album is dedicated to the memory of our bass player’s dad Gene Merritt\, who recently passed. Dedication is about so many things we love.”\nSince forming in 2001/2002 at Berklee College of Music\, Westbound Train has shared their love of soulful ska and reggae music with audiences all over the world. Influenced by pioneers ranging from The Skatalites to Otis Redding\, Hepcat to The Slackers\, the band’s infectious vocal hooks and high-energy live shows have found them performing all over the world — from the Vans Warped Tour to Summer of Ska to Rude Cat Festival to countless reggae festivals and national and international tours.\n“These guys are true students of Jamaican music. It’s evident in every record I hear from them. The hard-to-achieve nuances of Ska and Reggae shine through effortlessly in each one of their performances. As soon as that downbeat hits\, you are instantly reminded of the classic tunes from JA.“ – Roger Rivas (The Aggrolites) Westbound Train’s albums are currently available online wherever you stream your music.\nAlso available on vinyl are the new album\, Dedication\, as well as a first-ever vinyl pressing of their celebrated Hellcat Records debut\, Transitions (2006).\nAs the band enters its third decade\, the future looks bright. Modern bands are lots of things these days. Members of Westbound Train are fathers and sons\, teachers and business owners\, studio musicians and band leaders. They are also dedicated to continuing Westbound Train’s unique recorded take on classic Jamaican music. The band [Obi Fernandez (vocals\, trombone)\, Rich Graiko (trumpet)\, Carlos Menezes Jr. (saxophone)\, Gideon Blumenthal (keyboards)\, Alex Brumel (guitar)\, Alex Stern (guitar)\, Thad Merritt (bass)\, and Eric Novod (drums)] is currently working on its sixth studio album and is excited to share new material with its loyal fan base for years to come. \nDoors: 7 pm\nShow: 8 pm \n$22 in advance (plus applicable surcharges)\, $25 at the door\n21+ admitted
URL:https://asburyparkchamber.com/event/westbound-train-with-spring-heeled-jack-the-doomstompers-at-the-wonder-bar/
LOCATION:Wonder Bar\, 1213 Ocean Ave\, Asbury Park\, 07712
CATEGORIES:Music
ATTACH;FMTTYPE=image/jpeg:https://asburyparkchamber.com/wp-content/uploads/2026/01/Westbound-Train-2026.jpg
END:VEVENT
END:VCALENDAR