BEGIN:VCALENDAR
VERSION:2.0
PRODID:-//Asbury Park Chamber of Commerce - ECPv6.15.18//NONSGML v1.0//EN
CALSCALE:GREGORIAN
METHOD:PUBLISH
X-ORIGINAL-URL:https://asburyparkchamber.com
X-WR-CALDESC:Events for Asbury Park Chamber of Commerce
REFRESH-INTERVAL;VALUE=DURATION:PT1H
X-Robots-Tag:noindex
X-PUBLISHED-TTL:PT1H
BEGIN:VTIMEZONE
TZID:America/New_York
BEGIN:DAYLIGHT
TZOFFSETFROM:-0500
TZOFFSETTO:-0400
TZNAME:EDT
DTSTART:20250309T070000
END:DAYLIGHT
BEGIN:STANDARD
TZOFFSETFROM:-0400
TZOFFSETTO:-0500
TZNAME:EST
DTSTART:20251102T060000
END:STANDARD
BEGIN:DAYLIGHT
TZOFFSETFROM:-0500
TZOFFSETTO:-0400
TZNAME:EDT
DTSTART:20260308T070000
END:DAYLIGHT
BEGIN:STANDARD
TZOFFSETFROM:-0400
TZOFFSETTO:-0500
TZNAME:EST
DTSTART:20261101T060000
END:STANDARD
BEGIN:DAYLIGHT
TZOFFSETFROM:-0500
TZOFFSETTO:-0400
TZNAME:EDT
DTSTART:20270314T070000
END:DAYLIGHT
BEGIN:STANDARD
TZOFFSETFROM:-0400
TZOFFSETTO:-0500
TZNAME:EST
DTSTART:20271107T060000
END:STANDARD
END:VTIMEZONE
BEGIN:VEVENT
DTSTART;TZID=America/New_York:20260430T190000
DTEND;TZID=America/New_York:20260430T230000
DTSTAMP:20260425T205704
CREATED:20260421T180152Z
LAST-MODIFIED:20260421T180210Z
UID:10007465-1777575600-1777590000@asburyparkchamber.com
SUMMARY:Redd Faye at House of Independents
DESCRIPTION:We’re very excited to be introducing  up-and-coming star\, country artist\, Redd Faye\, to Asbury Park. Redd has been called “The Lady Gaga of Country Music” by one music executive. Redd wants to give back to the community so she teamed up with Robert “Kool” Bell of Kool and the Gang to raise money for his nonprofit\, the Kool Kids Foundation. He will also be an emcee for the night! Many celebs will be in attendance and you will walk away from the showing\, saying\, “That is one of the best country artists I’ve ever heard.” \nDon’t miss this show! \nAsbury Park Chamber Members get a ticket discount! Call the Chamber at 732.775.7676 \n\nTICKET PRICES CURRENTLY AVAILABLE \n\nGENERAL ADMISSION: $43.79 \n\n\nTICKET SALE DATES:\n\n\nGENERAL ADMISSION Public Onsale: February 16\, 2026 4:49 PM to May 1\, 2026 12:00 AM
URL:https://asburyparkchamber.com/event/redd-fay-at-house-of-independents/
LOCATION:House of Independents\, 572 Cookman Avenue\, Asbury Park\, NJ\, 07712\, United States
CATEGORIES:Music
ATTACH;FMTTYPE=image/jpeg:https://asburyparkchamber.com/wp-content/uploads/2026/04/d5fe02d98b89cb45f4165d432f5f4346-e1776794502420.jpg
ORGANIZER;CN="House of Independents":MAILTO:info@houseofindependents.com
END:VEVENT
END:VCALENDAR