BEGIN:VCALENDAR
VERSION:2.0
PRODID:-//Asbury Park Chamber of Commerce - ECPv6.15.18//NONSGML v1.0//EN
CALSCALE:GREGORIAN
METHOD:PUBLISH
X-ORIGINAL-URL:https://asburyparkchamber.com
X-WR-CALDESC:Events for Asbury Park Chamber of Commerce
REFRESH-INTERVAL;VALUE=DURATION:PT1H
X-Robots-Tag:noindex
X-PUBLISHED-TTL:PT1H
BEGIN:VTIMEZONE
TZID:America/New_York
BEGIN:DAYLIGHT
TZOFFSETFROM:-0500
TZOFFSETTO:-0400
TZNAME:EDT
DTSTART:20250309T070000
END:DAYLIGHT
BEGIN:STANDARD
TZOFFSETFROM:-0400
TZOFFSETTO:-0500
TZNAME:EST
DTSTART:20251102T060000
END:STANDARD
BEGIN:DAYLIGHT
TZOFFSETFROM:-0500
TZOFFSETTO:-0400
TZNAME:EDT
DTSTART:20260308T070000
END:DAYLIGHT
BEGIN:STANDARD
TZOFFSETFROM:-0400
TZOFFSETTO:-0500
TZNAME:EST
DTSTART:20261101T060000
END:STANDARD
BEGIN:DAYLIGHT
TZOFFSETFROM:-0500
TZOFFSETTO:-0400
TZNAME:EDT
DTSTART:20270314T070000
END:DAYLIGHT
BEGIN:STANDARD
TZOFFSETFROM:-0400
TZOFFSETTO:-0500
TZNAME:EST
DTSTART:20271107T060000
END:STANDARD
END:VTIMEZONE
BEGIN:VEVENT
DTSTART;TZID=America/New_York:20260423T080000
DTEND;TZID=America/New_York:20260423T170000
DTSTAMP:20260423T223418
CREATED:20260423T150551Z
LAST-MODIFIED:20260423T150551Z
UID:10007475-1776931200-1776963600@asburyparkchamber.com
SUMMARY:🥃 Extended Happy Hour at AP Distilling Co. 🥃
DESCRIPTION:AP Distilling Co. is offering an extended Happy Hour from 4 – 9pm every First Friday! \n$10 highball cocktails\, $12 Breakfast\, and $12 Jean Bouchon.\n\nLou Montesano will play live music from 9 – 11pm
URL:https://asburyparkchamber.com/event/%f0%9f%a5%83-extended-happy-hour-at-ap-distilling-co-%f0%9f%a5%83/
LOCATION:Asbury Park Distilling Co.\, 527 Lake Avenue\, Asbury Park\, 07712
CATEGORIES:Event,Music
ORGANIZER;CN="Asbury Park Distilling Co.":MAILTO:info@apdistilling.com
END:VEVENT
END:VCALENDAR