BEGIN:VCALENDAR
VERSION:2.0
PRODID:-//Asbury Park Chamber of Commerce - ECPv6.15.18//NONSGML v1.0//EN
CALSCALE:GREGORIAN
METHOD:PUBLISH
X-WR-CALNAME:Asbury Park Chamber of Commerce
X-ORIGINAL-URL:https://asburyparkchamber.com
X-WR-CALDESC:Events for Asbury Park Chamber of Commerce
REFRESH-INTERVAL;VALUE=DURATION:PT1H
X-Robots-Tag:noindex
X-PUBLISHED-TTL:PT1H
BEGIN:VTIMEZONE
TZID:America/New_York
BEGIN:DAYLIGHT
TZOFFSETFROM:-0500
TZOFFSETTO:-0400
TZNAME:EDT
DTSTART:20210314T070000
END:DAYLIGHT
BEGIN:STANDARD
TZOFFSETFROM:-0400
TZOFFSETTO:-0500
TZNAME:EST
DTSTART:20211107T060000
END:STANDARD
BEGIN:DAYLIGHT
TZOFFSETFROM:-0500
TZOFFSETTO:-0400
TZNAME:EDT
DTSTART:20220313T070000
END:DAYLIGHT
BEGIN:STANDARD
TZOFFSETFROM:-0400
TZOFFSETTO:-0500
TZNAME:EST
DTSTART:20221106T060000
END:STANDARD
BEGIN:DAYLIGHT
TZOFFSETFROM:-0500
TZOFFSETTO:-0400
TZNAME:EDT
DTSTART:20230312T070000
END:DAYLIGHT
BEGIN:STANDARD
TZOFFSETFROM:-0400
TZOFFSETTO:-0500
TZNAME:EST
DTSTART:20231105T060000
END:STANDARD
END:VTIMEZONE
BEGIN:VEVENT
DTSTART;TZID=America/New_York:20221202T190000
DTEND;TZID=America/New_York:20221211T190000
DTSTAMP:20260422T072632
CREATED:20221201T144135Z
LAST-MODIFIED:20221201T144135Z
UID:10002458-1670007600-1670785200@asburyparkchamber.com
SUMMARY:Axelrod Contemporary Ballet Theater Presents The Nutcracker ROCKS
DESCRIPTION:A magical reimagining of a family holiday classic! The Nutcracker Rocks is a mixture of high-power music and dance that will transport you to a land of brave toy soldiers and sweet sugar plum fairies. Based on Hoffman’s original story\, choreographer Gabriel Chajnik translates the Victorian-era Nutcracker from the bustles and ruffles of the 1890s to contemporary times. The beloved Tchaikovsky score is reimagined in collaboration with renowned rockers Alex Rosamilia and Alex Levine\, members of The Gaslight Anthem. \nSCHEDULED PERFORMANCES: \nDecember 2 (7PM)\, December 3 (2PM and 7PM)\, December 4 (1PM and 5PM)\, December 9 (7PM)\, December 10 (2PM and 7PM)\, December 11 (1PM and 5PM) \nADVANCE TICKET PRICES: \nAdult: Premium $46\, Regular $38\, \nStandard $32 \nStudent: $20 \nGroup (10 or more): $36 \nTicket prices increase on \nNovember 26\, 2022 \nThere is a $4 Facility Fee per ticket. Credit card purchases have an additional $3.50 Convenience Fee.
URL:https://asburyparkchamber.com/event/axelrod-contemporary-ballet-theater-presents-the-nutcracker-rocks-2/
LOCATION:Axelrod Performing Arts Center\, 100 Grant Ave\, Deal\, 07723
ATTACH;FMTTYPE=image/jpeg:https://asburyparkchamber.com/wp-content/uploads/2022/11/The-Nutcracker-ROCKS-Axelrod-Performing-Arts-Center-1.jpg
END:VEVENT
BEGIN:VEVENT
DTSTART;TZID=America/New_York:20221213T180000
DTEND;TZID=America/New_York:20221213T200000
DTSTAMP:20260422T072632
CREATED:20221104T155720Z
LAST-MODIFIED:20221104T155720Z
UID:10002290-1670954400-1670961600@asburyparkchamber.com
SUMMARY:HOLIDAY WREATH WORKSHOP WITH AMBER & EARTH
DESCRIPTION:Amber and Earth’s most popular and most anticipated workshop is back! Join Amber & Earth\, Tuesday\, December 6th\, from 6 pm – 8 pm in our lobby for another fun wreath-making workshop! \nShe will guide you and show you step-by-step how to make a gorgeous wreath using fresh winter greens and other natural elements at this fun and creative workshop. No experience is necessary. She’ll show you the ropes and provide all the materials you will need!
URL:https://asburyparkchamber.com/event/holiday-wreath-workshop-with-amber-earth/
LOCATION:The Asbury Hotel\, 210 5th Ave\, Asbury Park\, NJ\, 07712\, United States
ATTACH;FMTTYPE=image/png:https://asburyparkchamber.com/wp-content/uploads/2022/11/AsburyHotelamber-Earth-1.png
END:VEVENT
BEGIN:VEVENT
DTSTART;TZID=America/New_York:20221214T130000
DTEND;TZID=America/New_York:20221214T170000
DTSTAMP:20260422T072632
CREATED:20220726T221601Z
LAST-MODIFIED:20220728T210937Z
UID:10002165-1671022800-1671037200@asburyparkchamber.com
SUMMARY:Sandy Mack Jam Band
DESCRIPTION:Join us at Soundbooth Every Wednesday from 6-10PM to enjoy a Sand Mack Jam Band!
URL:https://asburyparkchamber.com/event/sandy-mack-jam-band/2022-12-14/
LOCATION:The Asbury Hotel\, 210 5th Ave\, Asbury Park\, NJ\, 07712\, United States
END:VEVENT
BEGIN:VEVENT
DTSTART;TZID=America/New_York:20221214T170000
DTEND;TZID=America/New_York:20221214T200000
DTSTAMP:20260422T072632
CREATED:20221121T193549Z
LAST-MODIFIED:20221121T193549Z
UID:10002451-1671037200-1671048000@asburyparkchamber.com
SUMMARY:Dinner with Santa & Carolers
DESCRIPTION:Dinner with Santa and Carolers on December 14th and 21st at 5PM \nAll presents must be dropped off 24 hours in advance. Gifts must be wrapped & labeled with party name.
URL:https://asburyparkchamber.com/event/dinner-with-santa-carolers/2022-12-14/
LOCATION:Asbury Festhalle & Biergarten\, 527 Lake Avenue\, Asbury Park\, 07712
ATTACH;FMTTYPE=image/png:https://asburyparkchamber.com/wp-content/uploads/2022/11/image.png
ORGANIZER;CN="Asbury Festhalle & Biergarten":MAILTO:info@asburybiergarten.com
END:VEVENT
BEGIN:VEVENT
DTSTART;TZID=America/New_York:20221215T150000
DTEND;TZID=America/New_York:20221215T180000
DTSTAMP:20260422T072632
CREATED:20220726T220336Z
LAST-MODIFIED:20220728T210824Z
UID:10002225-1671116400-1671127200@asburyparkchamber.com
SUMMARY:Open Mic with Jason Portizo
DESCRIPTION:Join us at Soundbooth Every Thursday from 8-11PM for Open Mic Night! \nThis event is free and open to the public \nWe hope to see you there!
URL:https://asburyparkchamber.com/event/open-mic-with-jason-portizo/2022-12-15/
LOCATION:The Asbury Hotel\, 210 5th Ave\, Asbury Park\, NJ\, 07712\, United States
END:VEVENT
BEGIN:VEVENT
DTSTART;TZID=America/New_York:20221217T210000
DTEND;TZID=America/New_York:20221217T233000
DTSTAMP:20260422T072632
CREATED:20221121T194014Z
LAST-MODIFIED:20221121T194014Z
UID:10002453-1671310800-1671319800@asburyparkchamber.com
SUMMARY:Ugly Christmas Sweater Party
DESCRIPTION:Join us for our annual Ugly Christmas Sweater Party \nFeaturing Nonstop (formerly The Frankie G Band)
URL:https://asburyparkchamber.com/event/ugly-christmas-sweater-party/
LOCATION:Asbury Festhalle & Biergarten\, 527 Lake Avenue\, Asbury Park\, 07712
ATTACH;FMTTYPE=image/png:https://asburyparkchamber.com/wp-content/uploads/2022/11/image-1.png
ORGANIZER;CN="Asbury Festhalle & Biergarten":MAILTO:info@asburybiergarten.com
END:VEVENT
END:VCALENDAR