BEGIN:VCALENDAR
VERSION:2.0
PRODID:-//Asbury Park Chamber of Commerce - ECPv6.15.18//NONSGML v1.0//EN
CALSCALE:GREGORIAN
METHOD:PUBLISH
X-WR-CALNAME:Asbury Park Chamber of Commerce
X-ORIGINAL-URL:https://asburyparkchamber.com
X-WR-CALDESC:Events for Asbury Park Chamber of Commerce
REFRESH-INTERVAL;VALUE=DURATION:PT1H
X-Robots-Tag:noindex
X-PUBLISHED-TTL:PT1H
BEGIN:VTIMEZONE
TZID:America/New_York
BEGIN:DAYLIGHT
TZOFFSETFROM:-0500
TZOFFSETTO:-0400
TZNAME:EDT
DTSTART:20220313T070000
END:DAYLIGHT
BEGIN:STANDARD
TZOFFSETFROM:-0400
TZOFFSETTO:-0500
TZNAME:EST
DTSTART:20221106T060000
END:STANDARD
BEGIN:DAYLIGHT
TZOFFSETFROM:-0500
TZOFFSETTO:-0400
TZNAME:EDT
DTSTART:20230312T070000
END:DAYLIGHT
BEGIN:STANDARD
TZOFFSETFROM:-0400
TZOFFSETTO:-0500
TZNAME:EST
DTSTART:20231105T060000
END:STANDARD
BEGIN:DAYLIGHT
TZOFFSETFROM:-0500
TZOFFSETTO:-0400
TZNAME:EDT
DTSTART:20240310T070000
END:DAYLIGHT
BEGIN:STANDARD
TZOFFSETFROM:-0400
TZOFFSETTO:-0500
TZNAME:EST
DTSTART:20241103T060000
END:STANDARD
END:VTIMEZONE
BEGIN:VEVENT
DTSTART;TZID=America/New_York:20230221T080000
DTEND;TZID=America/New_York:20230221T090000
DTSTAMP:20260423T125436
CREATED:20230217T163733Z
LAST-MODIFIED:20230217T163733Z
UID:10002342-1676966400-1676970000@asburyparkchamber.com
SUMMARY:7 Touch Follow up System: FREE Webinar
DESCRIPTION:Find out how to close up to 40% more sales by executing a 7 touch follow up system. Most sales people follow up 1.8 times mostly because they don’t have an effective follow up system. Executing this system will help you:\n– Avoid That Awkward “Checking in” Feeling\n– No More Proposal Pressure\n– No More Desperation Calls\n– Problem Solver vs Sales Person\n– Increase Your Conversion Rate
URL:https://asburyparkchamber.com/event/7-touch-follow-up-system-free-webinar/
ATTACH;FMTTYPE=image/png:https://asburyparkchamber.com/wp-content/uploads/2023/02/WebinarRegistration_02_21.png
END:VEVENT
BEGIN:VEVENT
DTSTART;TZID=America/New_York:20230222T130000
DTEND;TZID=America/New_York:20230222T170000
DTSTAMP:20260423T125436
CREATED:20220726T221601Z
LAST-MODIFIED:20220728T210937Z
UID:10002175-1677070800-1677085200@asburyparkchamber.com
SUMMARY:Sandy Mack Jam Band
DESCRIPTION:Join us at Soundbooth Every Wednesday from 6-10PM to enjoy a Sand Mack Jam Band!
URL:https://asburyparkchamber.com/event/sandy-mack-jam-band/2023-02-22/
LOCATION:The Asbury Hotel\, 210 5th Ave\, Asbury Park\, NJ\, 07712\, United States
END:VEVENT
BEGIN:VEVENT
DTSTART;TZID=America/New_York:20230223T150000
DTEND;TZID=America/New_York:20230223T180000
DTSTAMP:20260423T125437
CREATED:20220726T220336Z
LAST-MODIFIED:20220728T210824Z
UID:10002235-1677164400-1677175200@asburyparkchamber.com
SUMMARY:Open Mic with Jason Portizo
DESCRIPTION:Join us at Soundbooth Every Thursday from 8-11PM for Open Mic Night! \nThis event is free and open to the public \nWe hope to see you there!
URL:https://asburyparkchamber.com/event/open-mic-with-jason-portizo/2023-02-23/
LOCATION:The Asbury Hotel\, 210 5th Ave\, Asbury Park\, NJ\, 07712\, United States
END:VEVENT
BEGIN:VEVENT
DTSTART;TZID=America/New_York:20230224T193000
DTEND;TZID=America/New_York:20230224T220000
DTSTAMP:20260423T125437
CREATED:20230214T140815Z
LAST-MODIFIED:20230214T140815Z
UID:10002478-1677267000-1677276000@asburyparkchamber.com
SUMMARY:Raisin
DESCRIPTION:The Tony Award-winning RAISIN is a lost gem of a musical that explores the American Dream and the bonds of family\, trust\, and love. With its powerful use of song\, dance and drama\, Raisin captivates audiences with its soulful\, soaring score.\nBased on the American classic A Raisin in the Sun\, the musical Raisin stars Fredi Walker-Brown\, Joanne in the original Broadway production of the Pulitzer Prize-winning RENT. Production Consultant and two-time Tony Award winner Phylicia Rashad and director Evelyn Collins\, founder of the Denzel Washington School of the Arts\, combine their talents to create “the hit of the season!”
URL:https://asburyparkchamber.com/event/raisin-2/
LOCATION:Axelrod Performing Arts Center\, 100 Grant Ave\, Deal\, 07723
CATEGORIES:Music
ATTACH;FMTTYPE=image/png:https://asburyparkchamber.com/wp-content/uploads/2023/02/thumbnail_RAISIN1000-X-667-17.png
ORGANIZER;CN="Axelrod Performing Arts Center":MAILTO:maryannbourbeau@axelrodartscenter.org
END:VEVENT
BEGIN:VEVENT
DTSTART;TZID=America/New_York:20230225T140000
DTEND;TZID=America/New_York:20230225T163000
DTSTAMP:20260423T125437
CREATED:20230214T140815Z
LAST-MODIFIED:20230214T141441Z
UID:10002479-1677333600-1677342600@asburyparkchamber.com
SUMMARY:Raisin
DESCRIPTION:The Tony Award-winning RAISIN is a lost gem of a musical that explores the American Dream and the bonds of family\, trust\, and love. With its powerful use of song\, dance and drama\, Raisin captivates audiences with its soulful\, soaring score.\nBased on the American classic A Raisin in the Sun\, the musical Raisin stars Fredi Walker-Brown\, Joanne in the original Broadway production of the Pulitzer Prize-winning RENT. Production Consultant and two-time Tony Award winner Phylicia Rashad and director Evelyn Collins\, founder of the Denzel Washington School of the Arts\, combine their talents to create “the hit of the season!”
URL:https://asburyparkchamber.com/event/raisin/2023-02-25/1/
LOCATION:Axelrod Performing Arts Center\, 100 Grant Ave\, Deal\, 07723
CATEGORIES:Music
ATTACH;FMTTYPE=image/png:https://asburyparkchamber.com/wp-content/uploads/2023/02/thumbnail_RAISIN1000-X-667-18.png
ORGANIZER;CN="Axelrod Performing Arts Center":MAILTO:maryannbourbeau@axelrodartscenter.org
END:VEVENT
BEGIN:VEVENT
DTSTART;TZID=America/New_York:20230225T200000
DTEND;TZID=America/New_York:20230225T223000
DTSTAMP:20260423T125437
CREATED:20230214T140815Z
LAST-MODIFIED:20230214T141441Z
UID:10002480-1677355200-1677364200@asburyparkchamber.com
SUMMARY:Raisin
DESCRIPTION:The Tony Award-winning RAISIN is a lost gem of a musical that explores the American Dream and the bonds of family\, trust\, and love. With its powerful use of song\, dance and drama\, Raisin captivates audiences with its soulful\, soaring score.\nBased on the American classic A Raisin in the Sun\, the musical Raisin stars Fredi Walker-Brown\, Joanne in the original Broadway production of the Pulitzer Prize-winning RENT. Production Consultant and two-time Tony Award winner Phylicia Rashad and director Evelyn Collins\, founder of the Denzel Washington School of the Arts\, combine their talents to create “the hit of the season!”
URL:https://asburyparkchamber.com/event/raisin/2023-02-25/2/
LOCATION:Axelrod Performing Arts Center\, 100 Grant Ave\, Deal\, 07723
CATEGORIES:Music
ATTACH;FMTTYPE=image/png:https://asburyparkchamber.com/wp-content/uploads/2023/02/thumbnail_RAISIN1000-X-667-18.png
ORGANIZER;CN="Axelrod Performing Arts Center":MAILTO:maryannbourbeau@axelrodartscenter.org
END:VEVENT
BEGIN:VEVENT
DTSTART;TZID=America/New_York:20230225T200000
DTEND;TZID=America/New_York:20230225T223000
DTSTAMP:20260423T125437
CREATED:20230214T141041Z
LAST-MODIFIED:20230214T141041Z
UID:10002477-1677355200-1677364200@asburyparkchamber.com
SUMMARY:Raisin
DESCRIPTION:The Tony Award-winning RAISIN is a lost gem of a musical that explores the American Dream and the bonds of family\, trust\, and love. With its powerful use of song\, dance and drama\, Raisin captivates audiences with its soulful\, soaring score.\nBased on the American classic A Raisin in the Sun\, the musical Raisin stars Fredi Walker-Brown\, Joanne in the original Broadway production of the Pulitzer Prize-winning RENT. Production Consultant and two-time Tony Award winner Phylicia Rashad and director Evelyn Collins\, founder of the Denzel Washington School of the Arts\, combine their talents to create “the hit of the season!”
URL:https://asburyparkchamber.com/event/raisin-4/
LOCATION:Axelrod Performing Arts Center\, 100 Grant Ave\, Deal\, 07723
CATEGORIES:Music
ATTACH;FMTTYPE=image/png:https://asburyparkchamber.com/wp-content/uploads/2023/02/thumbnail_RAISIN1000-X-667-2.png
ORGANIZER;CN="Axelrod Performing Arts Center":MAILTO:maryannbourbeau@axelrodartscenter.org
END:VEVENT
END:VCALENDAR